BEGIN:VCALENDAR
VERSION:2.0
PRODID:-//AFLabs urnik izvoz - ff//aflabs.si//SI
NAME:UL FF Urnik
X-WR-CALNAME:UL FF Urnik
DTSTAMP:20260422T003409Z
REFRESH-INTERVAL:PT1H
SOURCE:https://urnik.ff.uni-lj.si/en/teacher/1066/?day=2025-10-01&export=1
URL:https://urnik.ff.uni-lj.si/en/teacher/1066/?day=2025-10-01&export=1
X-PUBLISHED-TTL:PT1H
X-WR-TIMEZONE:Europe/Ljubljana
BEGIN:VTIMEZONE
TZID:Europe/Ljubljana
BEGIN:DAYLIGHT
DTSTART:20260329T020000
RDATE:20260329T020000
RDATE:20270328T020000
TZNAME:CEST
TZOFFSETFROM:+0100
TZOFFSETTO:+0200
END:DAYLIGHT
BEGIN:STANDARD
DTSTART:20261025T030000
RDATE:20261025T030000
RDATE:20271031T030000
TZNAME:CET
TZOFFSETFROM:+0200
TZOFFSETTO:+0100
END:STANDARD
END:VTIMEZONE
BEGIN:VEVENT
SUMMARY:SL2 Književnost za šolsko rabo\, Lecture (L)
DTSTART;TZID=Europe/Ljubljana:20251007T130000
DTEND;TZID=Europe/Ljubljana:20251007T143500
DTSTAMP:20260422T003409Z
UID:ff-AFLABS-URNIK:srecanje:57708-2025-10-07 13:00:00+02:00
DESCRIPTION:Predmet: SL2 Književnost za šolsko rabo\, Lecture (L)\nLetni
 ki: 2nd year (SL2)\, 2nd year (SL2)\nIzvajalci: Igor Saksida\nProstor: Lec
 ture room 102
END:VEVENT
BEGIN:VEVENT
SUMMARY:SL2 Književnost za šolsko rabo\, Lecture (L)
DTSTART;TZID=Europe/Ljubljana:20251014T130000
DTEND;TZID=Europe/Ljubljana:20251014T143500
DTSTAMP:20260422T003409Z
UID:ff-AFLABS-URNIK:srecanje:57708-2025-10-14 13:00:00+02:00
DESCRIPTION:Predmet: SL2 Književnost za šolsko rabo\, Lecture (L)\nLetni
 ki: 2nd year (SL2)\, 2nd year (SL2)\nIzvajalci: Igor Saksida\nProstor: Lec
 ture room 102
END:VEVENT
BEGIN:VEVENT
SUMMARY:SL2 Književnost za šolsko rabo\, Lecture (L)
DTSTART;TZID=Europe/Ljubljana:20251021T130000
DTEND;TZID=Europe/Ljubljana:20251021T143500
DTSTAMP:20260422T003409Z
UID:ff-AFLABS-URNIK:srecanje:57708-2025-10-21 13:00:00+02:00
DESCRIPTION:Predmet: SL2 Književnost za šolsko rabo\, Lecture (L)\nLetni
 ki: 2nd year (SL2)\, 2nd year (SL2)\nIzvajalci: Igor Saksida\nProstor: Lec
 ture room 102
END:VEVENT
BEGIN:VEVENT
SUMMARY:SL2 Književnost za šolsko rabo\, Lecture (L)
DTSTART;TZID=Europe/Ljubljana:20251028T130000
DTEND;TZID=Europe/Ljubljana:20251028T143500
DTSTAMP:20260422T003409Z
UID:ff-AFLABS-URNIK:srecanje:57708-2025-10-28 13:00:00+01:00
DESCRIPTION:Predmet: SL2 Književnost za šolsko rabo\, Lecture (L)\nLetni
 ki: 2nd year (SL2)\, 2nd year (SL2)\nIzvajalci: Igor Saksida\nProstor: Lec
 ture room 102
END:VEVENT
BEGIN:VEVENT
SUMMARY:SL2 Književnost za šolsko rabo\, Lecture (L)
DTSTART;TZID=Europe/Ljubljana:20251104T130000
DTEND;TZID=Europe/Ljubljana:20251104T143500
DTSTAMP:20260422T003409Z
UID:ff-AFLABS-URNIK:srecanje:57708-2025-11-04 13:00:00+01:00
DESCRIPTION:Predmet: SL2 Književnost za šolsko rabo\, Lecture (L)\nLetni
 ki: 2nd year (SL2)\, 2nd year (SL2)\nIzvajalci: Igor Saksida\nProstor: Lec
 ture room 102
END:VEVENT
BEGIN:VEVENT
SUMMARY:SL2 Književnost za šolsko rabo\, Lecture (L)
DTSTART;TZID=Europe/Ljubljana:20251111T130000
DTEND;TZID=Europe/Ljubljana:20251111T143500
DTSTAMP:20260422T003409Z
UID:ff-AFLABS-URNIK:srecanje:57708-2025-11-11 13:00:00+01:00
DESCRIPTION:Predmet: SL2 Književnost za šolsko rabo\, Lecture (L)\nLetni
 ki: 2nd year (SL2)\, 2nd year (SL2)\nIzvajalci: Igor Saksida\nProstor: Lec
 ture room 102
END:VEVENT
BEGIN:VEVENT
SUMMARY:SL2 Književnost za šolsko rabo\, Lecture (L)
DTSTART;TZID=Europe/Ljubljana:20251118T130000
DTEND;TZID=Europe/Ljubljana:20251118T143500
DTSTAMP:20260422T003409Z
UID:ff-AFLABS-URNIK:srecanje:57708-2025-11-18 13:00:00+01:00
DESCRIPTION:Predmet: SL2 Književnost za šolsko rabo\, Lecture (L)\nLetni
 ki: 2nd year (SL2)\, 2nd year (SL2)\nIzvajalci: Igor Saksida\nProstor: Lec
 ture room 102
END:VEVENT
BEGIN:VEVENT
SUMMARY:SL2 Književnost za šolsko rabo\, Lecture (L)
DTSTART;TZID=Europe/Ljubljana:20251125T130000
DTEND;TZID=Europe/Ljubljana:20251125T143500
DTSTAMP:20260422T003409Z
UID:ff-AFLABS-URNIK:srecanje:57708-2025-11-25 13:00:00+01:00
DESCRIPTION:Predmet: SL2 Književnost za šolsko rabo\, Lecture (L)\nLetni
 ki: 2nd year (SL2)\, 2nd year (SL2)\nIzvajalci: Igor Saksida\nProstor: Lec
 ture room 102
END:VEVENT
BEGIN:VEVENT
SUMMARY:SL2 Književnost za šolsko rabo\, Lecture (L)
DTSTART;TZID=Europe/Ljubljana:20251202T130000
DTEND;TZID=Europe/Ljubljana:20251202T143500
DTSTAMP:20260422T003409Z
UID:ff-AFLABS-URNIK:srecanje:57708-2025-12-02 13:00:00+01:00
DESCRIPTION:Predmet: SL2 Književnost za šolsko rabo\, Lecture (L)\nLetni
 ki: 2nd year (SL2)\, 2nd year (SL2)\nIzvajalci: Igor Saksida\nProstor: Lec
 ture room 102
END:VEVENT
BEGIN:VEVENT
SUMMARY:SL2 Književnost za šolsko rabo\, Lecture (L)
DTSTART;TZID=Europe/Ljubljana:20251209T130000
DTEND;TZID=Europe/Ljubljana:20251209T143500
DTSTAMP:20260422T003409Z
UID:ff-AFLABS-URNIK:srecanje:57708-2025-12-09 13:00:00+01:00
DESCRIPTION:Predmet: SL2 Književnost za šolsko rabo\, Lecture (L)\nLetni
 ki: 2nd year (SL2)\, 2nd year (SL2)\nIzvajalci: Igor Saksida\nProstor: Lec
 ture room 102
END:VEVENT
BEGIN:VEVENT
SUMMARY:SL2 Književnost za šolsko rabo\, Lecture (L)
DTSTART;TZID=Europe/Ljubljana:20251216T130000
DTEND;TZID=Europe/Ljubljana:20251216T143500
DTSTAMP:20260422T003409Z
UID:ff-AFLABS-URNIK:srecanje:57708-2025-12-16 13:00:00+01:00
DESCRIPTION:Predmet: SL2 Književnost za šolsko rabo\, Lecture (L)\nLetni
 ki: 2nd year (SL2)\, 2nd year (SL2)\nIzvajalci: Igor Saksida\nProstor: Lec
 ture room 102
END:VEVENT
BEGIN:VEVENT
SUMMARY:SL2 Književnost za šolsko rabo\, Lecture (L)
DTSTART;TZID=Europe/Ljubljana:20251223T130000
DTEND;TZID=Europe/Ljubljana:20251223T143500
DTSTAMP:20260422T003409Z
UID:ff-AFLABS-URNIK:srecanje:57708-2025-12-23 13:00:00+01:00
DESCRIPTION:Predmet: SL2 Književnost za šolsko rabo\, Lecture (L)\nLetni
 ki: 2nd year (SL2)\, 2nd year (SL2)\nIzvajalci: Igor Saksida\nProstor: Lec
 ture room 102
END:VEVENT
BEGIN:VEVENT
SUMMARY:SL2 Književnost za šolsko rabo\, Lecture (L)
DTSTART;TZID=Europe/Ljubljana:20251230T130000
DTEND;TZID=Europe/Ljubljana:20251230T143500
DTSTAMP:20260422T003409Z
UID:ff-AFLABS-URNIK:srecanje:57708-2025-12-30 13:00:00+01:00
DESCRIPTION:Predmet: SL2 Književnost za šolsko rabo\, Lecture (L)\nLetni
 ki: 2nd year (SL2)\, 2nd year (SL2)\nIzvajalci: Igor Saksida\nProstor: Lec
 ture room 102
END:VEVENT
BEGIN:VEVENT
SUMMARY:SL2 Književnost za šolsko rabo\, Lecture (L)
DTSTART;TZID=Europe/Ljubljana:20260106T130000
DTEND;TZID=Europe/Ljubljana:20260106T143500
DTSTAMP:20260422T003409Z
UID:ff-AFLABS-URNIK:srecanje:57708-2026-01-06 13:00:00+01:00
DESCRIPTION:Predmet: SL2 Književnost za šolsko rabo\, Lecture (L)\nLetni
 ki: 2nd year (SL2)\, 2nd year (SL2)\nIzvajalci: Igor Saksida\nProstor: Lec
 ture room 102
END:VEVENT
BEGIN:VEVENT
SUMMARY:SL2 Književnost za šolsko rabo\, Lecture (L)
DTSTART;TZID=Europe/Ljubljana:20260113T130000
DTEND;TZID=Europe/Ljubljana:20260113T143500
DTSTAMP:20260422T003409Z
UID:ff-AFLABS-URNIK:srecanje:57708-2026-01-13 13:00:00+01:00
DESCRIPTION:Predmet: SL2 Književnost za šolsko rabo\, Lecture (L)\nLetni
 ki: 2nd year (SL2)\, 2nd year (SL2)\nIzvajalci: Igor Saksida\nProstor: Lec
 ture room 102
END:VEVENT
BEGIN:VEVENT
SUMMARY:SL2 Književnost za šolsko rabo\, Lecture (L)
DTSTART;TZID=Europe/Ljubljana:20251007T130000
DTEND;TZID=Europe/Ljubljana:20251007T143500
DTSTAMP:20260422T003409Z
UID:ff-AFLABS-URNIK:srecanje:57322-2025-10-07 13:00:00+02:00
DESCRIPTION:Predmet: SL2 Književnost za šolsko rabo\, Lecture (L)\nLetni
 ki: 2nd year (PK2)\, 2nd year (SL2)\, 2nd year (UZ2)\nIzvajalci: Igor Saks
 ida\nProstor: Lecture room 102
END:VEVENT
BEGIN:VEVENT
SUMMARY:SL2 Književnost za šolsko rabo\, Lecture (L)
DTSTART;TZID=Europe/Ljubljana:20251014T130000
DTEND;TZID=Europe/Ljubljana:20251014T143500
DTSTAMP:20260422T003409Z
UID:ff-AFLABS-URNIK:srecanje:57322-2025-10-14 13:00:00+02:00
DESCRIPTION:Predmet: SL2 Književnost za šolsko rabo\, Lecture (L)\nLetni
 ki: 2nd year (PK2)\, 2nd year (SL2)\, 2nd year (UZ2)\nIzvajalci: Igor Saks
 ida\nProstor: Lecture room 102
END:VEVENT
BEGIN:VEVENT
SUMMARY:SL2 Književnost za šolsko rabo\, Lecture (L)
DTSTART;TZID=Europe/Ljubljana:20251021T130000
DTEND;TZID=Europe/Ljubljana:20251021T143500
DTSTAMP:20260422T003409Z
UID:ff-AFLABS-URNIK:srecanje:57322-2025-10-21 13:00:00+02:00
DESCRIPTION:Predmet: SL2 Književnost za šolsko rabo\, Lecture (L)\nLetni
 ki: 2nd year (PK2)\, 2nd year (SL2)\, 2nd year (UZ2)\nIzvajalci: Igor Saks
 ida\nProstor: Lecture room 102
END:VEVENT
BEGIN:VEVENT
SUMMARY:SL2 Književnost za šolsko rabo\, Lecture (L)
DTSTART;TZID=Europe/Ljubljana:20251028T130000
DTEND;TZID=Europe/Ljubljana:20251028T143500
DTSTAMP:20260422T003409Z
UID:ff-AFLABS-URNIK:srecanje:57322-2025-10-28 13:00:00+01:00
DESCRIPTION:Predmet: SL2 Književnost za šolsko rabo\, Lecture (L)\nLetni
 ki: 2nd year (PK2)\, 2nd year (SL2)\, 2nd year (UZ2)\nIzvajalci: Igor Saks
 ida\nProstor: Lecture room 102
END:VEVENT
BEGIN:VEVENT
SUMMARY:SL2 Književnost za šolsko rabo\, Lecture (L)
DTSTART;TZID=Europe/Ljubljana:20251104T130000
DTEND;TZID=Europe/Ljubljana:20251104T143500
DTSTAMP:20260422T003409Z
UID:ff-AFLABS-URNIK:srecanje:57322-2025-11-04 13:00:00+01:00
DESCRIPTION:Predmet: SL2 Književnost za šolsko rabo\, Lecture (L)\nLetni
 ki: 2nd year (PK2)\, 2nd year (SL2)\, 2nd year (UZ2)\nIzvajalci: Igor Saks
 ida\nProstor: Lecture room 102
END:VEVENT
BEGIN:VEVENT
SUMMARY:SL2 Književnost za šolsko rabo\, Lecture (L)
DTSTART;TZID=Europe/Ljubljana:20251111T130000
DTEND;TZID=Europe/Ljubljana:20251111T143500
DTSTAMP:20260422T003409Z
UID:ff-AFLABS-URNIK:srecanje:57322-2025-11-11 13:00:00+01:00
DESCRIPTION:Predmet: SL2 Književnost za šolsko rabo\, Lecture (L)\nLetni
 ki: 2nd year (PK2)\, 2nd year (SL2)\, 2nd year (UZ2)\nIzvajalci: Igor Saks
 ida\nProstor: Lecture room 102
END:VEVENT
BEGIN:VEVENT
SUMMARY:SL2 Književnost za šolsko rabo\, Lecture (L)
DTSTART;TZID=Europe/Ljubljana:20251118T130000
DTEND;TZID=Europe/Ljubljana:20251118T143500
DTSTAMP:20260422T003409Z
UID:ff-AFLABS-URNIK:srecanje:57322-2025-11-18 13:00:00+01:00
DESCRIPTION:Predmet: SL2 Književnost za šolsko rabo\, Lecture (L)\nLetni
 ki: 2nd year (PK2)\, 2nd year (SL2)\, 2nd year (UZ2)\nIzvajalci: Igor Saks
 ida\nProstor: Lecture room 102
END:VEVENT
BEGIN:VEVENT
SUMMARY:SL2 Književnost za šolsko rabo\, Lecture (L)
DTSTART;TZID=Europe/Ljubljana:20251125T130000
DTEND;TZID=Europe/Ljubljana:20251125T143500
DTSTAMP:20260422T003409Z
UID:ff-AFLABS-URNIK:srecanje:57322-2025-11-25 13:00:00+01:00
DESCRIPTION:Predmet: SL2 Književnost za šolsko rabo\, Lecture (L)\nLetni
 ki: 2nd year (PK2)\, 2nd year (SL2)\, 2nd year (UZ2)\nIzvajalci: Igor Saks
 ida\nProstor: Lecture room 102
END:VEVENT
BEGIN:VEVENT
SUMMARY:SL2 Književnost za šolsko rabo\, Lecture (L)
DTSTART;TZID=Europe/Ljubljana:20251202T130000
DTEND;TZID=Europe/Ljubljana:20251202T143500
DTSTAMP:20260422T003409Z
UID:ff-AFLABS-URNIK:srecanje:57322-2025-12-02 13:00:00+01:00
DESCRIPTION:Predmet: SL2 Književnost za šolsko rabo\, Lecture (L)\nLetni
 ki: 2nd year (PK2)\, 2nd year (SL2)\, 2nd year (UZ2)\nIzvajalci: Igor Saks
 ida\nProstor: Lecture room 102
END:VEVENT
BEGIN:VEVENT
SUMMARY:SL2 Književnost za šolsko rabo\, Lecture (L)
DTSTART;TZID=Europe/Ljubljana:20251209T130000
DTEND;TZID=Europe/Ljubljana:20251209T143500
DTSTAMP:20260422T003409Z
UID:ff-AFLABS-URNIK:srecanje:57322-2025-12-09 13:00:00+01:00
DESCRIPTION:Predmet: SL2 Književnost za šolsko rabo\, Lecture (L)\nLetni
 ki: 2nd year (PK2)\, 2nd year (SL2)\, 2nd year (UZ2)\nIzvajalci: Igor Saks
 ida\nProstor: Lecture room 102
END:VEVENT
BEGIN:VEVENT
SUMMARY:SL2 Književnost za šolsko rabo\, Lecture (L)
DTSTART;TZID=Europe/Ljubljana:20251216T130000
DTEND;TZID=Europe/Ljubljana:20251216T143500
DTSTAMP:20260422T003409Z
UID:ff-AFLABS-URNIK:srecanje:57322-2025-12-16 13:00:00+01:00
DESCRIPTION:Predmet: SL2 Književnost za šolsko rabo\, Lecture (L)\nLetni
 ki: 2nd year (PK2)\, 2nd year (SL2)\, 2nd year (UZ2)\nIzvajalci: Igor Saks
 ida\nProstor: Lecture room 102
END:VEVENT
BEGIN:VEVENT
SUMMARY:SL2 Književnost za šolsko rabo\, Lecture (L)
DTSTART;TZID=Europe/Ljubljana:20251223T130000
DTEND;TZID=Europe/Ljubljana:20251223T143500
DTSTAMP:20260422T003409Z
UID:ff-AFLABS-URNIK:srecanje:57322-2025-12-23 13:00:00+01:00
DESCRIPTION:Predmet: SL2 Književnost za šolsko rabo\, Lecture (L)\nLetni
 ki: 2nd year (PK2)\, 2nd year (SL2)\, 2nd year (UZ2)\nIzvajalci: Igor Saks
 ida\nProstor: Lecture room 102
END:VEVENT
BEGIN:VEVENT
SUMMARY:SL2 Književnost za šolsko rabo\, Lecture (L)
DTSTART;TZID=Europe/Ljubljana:20251230T130000
DTEND;TZID=Europe/Ljubljana:20251230T143500
DTSTAMP:20260422T003409Z
UID:ff-AFLABS-URNIK:srecanje:57322-2025-12-30 13:00:00+01:00
DESCRIPTION:Predmet: SL2 Književnost za šolsko rabo\, Lecture (L)\nLetni
 ki: 2nd year (PK2)\, 2nd year (SL2)\, 2nd year (UZ2)\nIzvajalci: Igor Saks
 ida\nProstor: Lecture room 102
END:VEVENT
BEGIN:VEVENT
SUMMARY:SL2 Književnost za šolsko rabo\, Lecture (L)
DTSTART;TZID=Europe/Ljubljana:20260106T130000
DTEND;TZID=Europe/Ljubljana:20260106T143500
DTSTAMP:20260422T003409Z
UID:ff-AFLABS-URNIK:srecanje:57322-2026-01-06 13:00:00+01:00
DESCRIPTION:Predmet: SL2 Književnost za šolsko rabo\, Lecture (L)\nLetni
 ki: 2nd year (PK2)\, 2nd year (SL2)\, 2nd year (UZ2)\nIzvajalci: Igor Saks
 ida\nProstor: Lecture room 102
END:VEVENT
BEGIN:VEVENT
SUMMARY:SL2 Književnost za šolsko rabo\, Lecture (L)
DTSTART;TZID=Europe/Ljubljana:20260113T130000
DTEND;TZID=Europe/Ljubljana:20260113T143500
DTSTAMP:20260422T003409Z
UID:ff-AFLABS-URNIK:srecanje:57322-2026-01-13 13:00:00+01:00
DESCRIPTION:Predmet: SL2 Književnost za šolsko rabo\, Lecture (L)\nLetni
 ki: 2nd year (PK2)\, 2nd year (SL2)\, 2nd year (UZ2)\nIzvajalci: Igor Saks
 ida\nProstor: Lecture room 102
END:VEVENT
END:VCALENDAR
