BEGIN:VCALENDAR
VERSION:2.0
PRODID:-//AFLabs urnik izvoz - ff//aflabs.si//SI
NAME:UL FF Urnik
X-WR-CALNAME:UL FF Urnik
DTSTAMP:20260422T191621Z
REFRESH-INTERVAL:PT1H
SOURCE:https://urnik.ff.uni-lj.si/en/teacher/124/?day=2025-09-30&export=1
URL:https://urnik.ff.uni-lj.si/en/teacher/124/?day=2025-09-30&export=1
X-PUBLISHED-TTL:PT1H
X-WR-TIMEZONE:Europe/Ljubljana
BEGIN:VTIMEZONE
TZID:Europe/Ljubljana
BEGIN:DAYLIGHT
DTSTART:20260329T020000
RDATE:20260329T020000
RDATE:20270328T020000
TZNAME:CEST
TZOFFSETFROM:+0100
TZOFFSETTO:+0200
END:DAYLIGHT
BEGIN:STANDARD
DTSTART:20261025T030000
RDATE:20261025T030000
RDATE:20271031T030000
TZNAME:CET
TZOFFSETFROM:+0200
TZOFFSETTO:+0100
END:STANDARD
END:VTIMEZONE
BEGIN:VEVENT
SUMMARY:SL2 Latinska in nemška književnost na Slovenskem\, Lecture (L)
DTSTART;TZID=Europe/Ljubljana:20251001T112000
DTEND;TZID=Europe/Ljubljana:20251001T120500
DTSTAMP:20260422T191621Z
UID:ff-AFLABS-URNIK:srecanje:56165-2025-10-01 11:20:00+02:00
DESCRIPTION:Predmet: SL2 Latinska in nemška književnost na Slovenskem\, 
 Lecture (L)\nLetniki: 1st year (SL2)\, 1st year (SL2)\nIzvajalci: Matej Hr
 iberšek\nProstor: Lecture room 012
END:VEVENT
BEGIN:VEVENT
SUMMARY:SL2 Latinska in nemška književnost na Slovenskem\, Lecture (L)
DTSTART;TZID=Europe/Ljubljana:20251008T112000
DTEND;TZID=Europe/Ljubljana:20251008T120500
DTSTAMP:20260422T191621Z
UID:ff-AFLABS-URNIK:srecanje:56165-2025-10-08 11:20:00+02:00
DESCRIPTION:Predmet: SL2 Latinska in nemška književnost na Slovenskem\, 
 Lecture (L)\nLetniki: 1st year (SL2)\, 1st year (SL2)\nIzvajalci: Matej Hr
 iberšek\nProstor: Lecture room 012
END:VEVENT
BEGIN:VEVENT
SUMMARY:SL2 Latinska in nemška književnost na Slovenskem\, Lecture (L)
DTSTART;TZID=Europe/Ljubljana:20251015T112000
DTEND;TZID=Europe/Ljubljana:20251015T120500
DTSTAMP:20260422T191621Z
UID:ff-AFLABS-URNIK:srecanje:56165-2025-10-15 11:20:00+02:00
DESCRIPTION:Predmet: SL2 Latinska in nemška književnost na Slovenskem\, 
 Lecture (L)\nLetniki: 1st year (SL2)\, 1st year (SL2)\nIzvajalci: Matej Hr
 iberšek\nProstor: Lecture room 012
END:VEVENT
BEGIN:VEVENT
SUMMARY:SL2 Latinska in nemška književnost na Slovenskem\, Lecture (L)
DTSTART;TZID=Europe/Ljubljana:20251022T112000
DTEND;TZID=Europe/Ljubljana:20251022T120500
DTSTAMP:20260422T191621Z
UID:ff-AFLABS-URNIK:srecanje:56165-2025-10-22 11:20:00+02:00
DESCRIPTION:Predmet: SL2 Latinska in nemška književnost na Slovenskem\, 
 Lecture (L)\nLetniki: 1st year (SL2)\, 1st year (SL2)\nIzvajalci: Matej Hr
 iberšek\nProstor: Lecture room 012
END:VEVENT
BEGIN:VEVENT
SUMMARY:SL2 Latinska in nemška književnost na Slovenskem\, Lecture (L)
DTSTART;TZID=Europe/Ljubljana:20251029T112000
DTEND;TZID=Europe/Ljubljana:20251029T120500
DTSTAMP:20260422T191621Z
UID:ff-AFLABS-URNIK:srecanje:56165-2025-10-29 11:20:00+01:00
DESCRIPTION:Predmet: SL2 Latinska in nemška književnost na Slovenskem\, 
 Lecture (L)\nLetniki: 1st year (SL2)\, 1st year (SL2)\nIzvajalci: Matej Hr
 iberšek\nProstor: Lecture room 012
END:VEVENT
BEGIN:VEVENT
SUMMARY:SL2 Latinska in nemška književnost na Slovenskem\, Lecture (L)
DTSTART;TZID=Europe/Ljubljana:20251001T121000
DTEND;TZID=Europe/Ljubljana:20251001T125500
DTSTAMP:20260422T191621Z
UID:ff-AFLABS-URNIK:srecanje:56269-2025-10-01 12:10:00+02:00
DESCRIPTION:Predmet: SL2 Latinska in nemška književnost na Slovenskem\, 
 Lecture (L)\nLetniki: 1st year (SL2)\, 1st year (SL2)\nIzvajalci: Matej Hr
 iberšek\nProstor: Lecture room 434
END:VEVENT
BEGIN:VEVENT
SUMMARY:SL2 Latinska in nemška književnost na Slovenskem\, Lecture (L)
DTSTART;TZID=Europe/Ljubljana:20251008T121000
DTEND;TZID=Europe/Ljubljana:20251008T125500
DTSTAMP:20260422T191621Z
UID:ff-AFLABS-URNIK:srecanje:56269-2025-10-08 12:10:00+02:00
DESCRIPTION:Predmet: SL2 Latinska in nemška književnost na Slovenskem\, 
 Lecture (L)\nLetniki: 1st year (SL2)\, 1st year (SL2)\nIzvajalci: Matej Hr
 iberšek\nProstor: Lecture room 434
END:VEVENT
BEGIN:VEVENT
SUMMARY:SL2 Latinska in nemška književnost na Slovenskem\, Lecture (L)
DTSTART;TZID=Europe/Ljubljana:20251015T121000
DTEND;TZID=Europe/Ljubljana:20251015T125500
DTSTAMP:20260422T191621Z
UID:ff-AFLABS-URNIK:srecanje:56269-2025-10-15 12:10:00+02:00
DESCRIPTION:Predmet: SL2 Latinska in nemška književnost na Slovenskem\, 
 Lecture (L)\nLetniki: 1st year (SL2)\, 1st year (SL2)\nIzvajalci: Matej Hr
 iberšek\nProstor: Lecture room 434
END:VEVENT
BEGIN:VEVENT
SUMMARY:SL2 Latinska in nemška književnost na Slovenskem\, Lecture (L)
DTSTART;TZID=Europe/Ljubljana:20251022T121000
DTEND;TZID=Europe/Ljubljana:20251022T125500
DTSTAMP:20260422T191621Z
UID:ff-AFLABS-URNIK:srecanje:56269-2025-10-22 12:10:00+02:00
DESCRIPTION:Predmet: SL2 Latinska in nemška književnost na Slovenskem\, 
 Lecture (L)\nLetniki: 1st year (SL2)\, 1st year (SL2)\nIzvajalci: Matej Hr
 iberšek\nProstor: Lecture room 434
END:VEVENT
BEGIN:VEVENT
SUMMARY:SL2 Latinska in nemška književnost na Slovenskem\, Lecture (L)
DTSTART;TZID=Europe/Ljubljana:20251029T121000
DTEND;TZID=Europe/Ljubljana:20251029T125500
DTSTAMP:20260422T191621Z
UID:ff-AFLABS-URNIK:srecanje:56269-2025-10-29 12:10:00+01:00
DESCRIPTION:Predmet: SL2 Latinska in nemška književnost na Slovenskem\, 
 Lecture (L)\nLetniki: 1st year (SL2)\, 1st year (SL2)\nIzvajalci: Matej Hr
 iberšek\nProstor: Lecture room 434
END:VEVENT
BEGIN:VEVENT
SUMMARY:LA2 Didaktika latinščine 1\, Lecture (L)
DTSTART;TZID=Europe/Ljubljana:20251002T112000
DTEND;TZID=Europe/Ljubljana:20251002T120500
DTSTAMP:20260422T191621Z
UID:ff-AFLABS-URNIK:srecanje:57680-2025-10-02 11:20:00+02:00
DESCRIPTION:Predmet: LA2 Didaktika latinščine 1\, Lecture (L)\nLetniki: 
 1st year (LA2)\nIzvajalci: Matej Hriberšek\nProstor: Lecture room 345
END:VEVENT
BEGIN:VEVENT
SUMMARY:LA2 Didaktika latinščine 1\, Lecture (L)
DTSTART;TZID=Europe/Ljubljana:20251009T112000
DTEND;TZID=Europe/Ljubljana:20251009T120500
DTSTAMP:20260422T191621Z
UID:ff-AFLABS-URNIK:srecanje:57680-2025-10-09 11:20:00+02:00
DESCRIPTION:Predmet: LA2 Didaktika latinščine 1\, Lecture (L)\nLetniki: 
 1st year (LA2)\nIzvajalci: Matej Hriberšek\nProstor: Lecture room 345
END:VEVENT
BEGIN:VEVENT
SUMMARY:LA2 Didaktika latinščine 1\, Lecture (L)
DTSTART;TZID=Europe/Ljubljana:20251016T112000
DTEND;TZID=Europe/Ljubljana:20251016T120500
DTSTAMP:20260422T191621Z
UID:ff-AFLABS-URNIK:srecanje:57680-2025-10-16 11:20:00+02:00
DESCRIPTION:Predmet: LA2 Didaktika latinščine 1\, Lecture (L)\nLetniki: 
 1st year (LA2)\nIzvajalci: Matej Hriberšek\nProstor: Lecture room 345
END:VEVENT
BEGIN:VEVENT
SUMMARY:LA2 Didaktika latinščine 1\, Lecture (L)
DTSTART;TZID=Europe/Ljubljana:20251023T112000
DTEND;TZID=Europe/Ljubljana:20251023T120500
DTSTAMP:20260422T191621Z
UID:ff-AFLABS-URNIK:srecanje:57680-2025-10-23 11:20:00+02:00
DESCRIPTION:Predmet: LA2 Didaktika latinščine 1\, Lecture (L)\nLetniki: 
 1st year (LA2)\nIzvajalci: Matej Hriberšek\nProstor: Lecture room 345
END:VEVENT
BEGIN:VEVENT
SUMMARY:LA2 Didaktika latinščine 1\, Lecture (L)
DTSTART;TZID=Europe/Ljubljana:20251030T112000
DTEND;TZID=Europe/Ljubljana:20251030T120500
DTSTAMP:20260422T191621Z
UID:ff-AFLABS-URNIK:srecanje:57680-2025-10-30 11:20:00+01:00
DESCRIPTION:Predmet: LA2 Didaktika latinščine 1\, Lecture (L)\nLetniki: 
 1st year (LA2)\nIzvajalci: Matej Hriberšek\nProstor: Lecture room 345
END:VEVENT
BEGIN:VEVENT
SUMMARY:LA2 Didaktika latinščine 2\, Lecture (L)
DTSTART;TZID=Europe/Ljubljana:20251002T112000
DTEND;TZID=Europe/Ljubljana:20251002T120500
DTSTAMP:20260422T191621Z
UID:ff-AFLABS-URNIK:srecanje:57173-2025-10-02 11:20:00+02:00
DESCRIPTION:Predmet: LA2 Didaktika latinščine 2\, Lecture (L)\nLetniki: 
 2nd year (LA2)\nIzvajalci: Matej Hriberšek\nProstor: Lecture room 345
END:VEVENT
BEGIN:VEVENT
SUMMARY:LA2 Didaktika latinščine 2\, Lecture (L)
DTSTART;TZID=Europe/Ljubljana:20251009T112000
DTEND;TZID=Europe/Ljubljana:20251009T120500
DTSTAMP:20260422T191621Z
UID:ff-AFLABS-URNIK:srecanje:57173-2025-10-09 11:20:00+02:00
DESCRIPTION:Predmet: LA2 Didaktika latinščine 2\, Lecture (L)\nLetniki: 
 2nd year (LA2)\nIzvajalci: Matej Hriberšek\nProstor: Lecture room 345
END:VEVENT
BEGIN:VEVENT
SUMMARY:LA2 Didaktika latinščine 2\, Lecture (L)
DTSTART;TZID=Europe/Ljubljana:20251016T112000
DTEND;TZID=Europe/Ljubljana:20251016T120500
DTSTAMP:20260422T191621Z
UID:ff-AFLABS-URNIK:srecanje:57173-2025-10-16 11:20:00+02:00
DESCRIPTION:Predmet: LA2 Didaktika latinščine 2\, Lecture (L)\nLetniki: 
 2nd year (LA2)\nIzvajalci: Matej Hriberšek\nProstor: Lecture room 345
END:VEVENT
BEGIN:VEVENT
SUMMARY:LA2 Didaktika latinščine 2\, Lecture (L)
DTSTART;TZID=Europe/Ljubljana:20251023T112000
DTEND;TZID=Europe/Ljubljana:20251023T120500
DTSTAMP:20260422T191621Z
UID:ff-AFLABS-URNIK:srecanje:57173-2025-10-23 11:20:00+02:00
DESCRIPTION:Predmet: LA2 Didaktika latinščine 2\, Lecture (L)\nLetniki: 
 2nd year (LA2)\nIzvajalci: Matej Hriberšek\nProstor: Lecture room 345
END:VEVENT
BEGIN:VEVENT
SUMMARY:LA2 Didaktika latinščine 2\, Lecture (L)
DTSTART;TZID=Europe/Ljubljana:20251030T112000
DTEND;TZID=Europe/Ljubljana:20251030T120500
DTSTAMP:20260422T191621Z
UID:ff-AFLABS-URNIK:srecanje:57173-2025-10-30 11:20:00+01:00
DESCRIPTION:Predmet: LA2 Didaktika latinščine 2\, Lecture (L)\nLetniki: 
 2nd year (LA2)\nIzvajalci: Matej Hriberšek\nProstor: Lecture room 345
END:VEVENT
BEGIN:VEVENT
SUMMARY:AHŠ1 Grška metrika\, Lecture (L)
DTSTART;TZID=Europe/Ljubljana:20251007T080000
DTEND;TZID=Europe/Ljubljana:20251007T093500
DTSTAMP:20260422T191621Z
UID:ff-AFLABS-URNIK:srecanje:56380-2025-10-07 08:00:00+02:00
DESCRIPTION:Predmet: AHŠ1 Grška metrika\, Lecture (L)\nLetniki: 2nd year
  (AHŠ1)\, 2nd year (GR1)\nIzvajalci: Matej Hriberšek\nProstor: Lecture r
 oom 024
END:VEVENT
BEGIN:VEVENT
SUMMARY:AHŠ1 Grška metrika\, Lecture (L)
DTSTART;TZID=Europe/Ljubljana:20251014T080000
DTEND;TZID=Europe/Ljubljana:20251014T093500
DTSTAMP:20260422T191621Z
UID:ff-AFLABS-URNIK:srecanje:56380-2025-10-14 08:00:00+02:00
DESCRIPTION:Predmet: AHŠ1 Grška metrika\, Lecture (L)\nLetniki: 2nd year
  (AHŠ1)\, 2nd year (GR1)\nIzvajalci: Matej Hriberšek\nProstor: Lecture r
 oom 024
END:VEVENT
BEGIN:VEVENT
SUMMARY:AHŠ1 Grška metrika\, Lecture (L)
DTSTART;TZID=Europe/Ljubljana:20251021T080000
DTEND;TZID=Europe/Ljubljana:20251021T093500
DTSTAMP:20260422T191621Z
UID:ff-AFLABS-URNIK:srecanje:56380-2025-10-21 08:00:00+02:00
DESCRIPTION:Predmet: AHŠ1 Grška metrika\, Lecture (L)\nLetniki: 2nd year
  (AHŠ1)\, 2nd year (GR1)\nIzvajalci: Matej Hriberšek\nProstor: Lecture r
 oom 024
END:VEVENT
BEGIN:VEVENT
SUMMARY:AHŠ1 Grška metrika\, Lecture (L)
DTSTART;TZID=Europe/Ljubljana:20251028T080000
DTEND;TZID=Europe/Ljubljana:20251028T093500
DTSTAMP:20260422T191621Z
UID:ff-AFLABS-URNIK:srecanje:56380-2025-10-28 08:00:00+01:00
DESCRIPTION:Predmet: AHŠ1 Grška metrika\, Lecture (L)\nLetniki: 2nd year
  (AHŠ1)\, 2nd year (GR1)\nIzvajalci: Matej Hriberšek\nProstor: Lecture r
 oom 024
END:VEVENT
BEGIN:VEVENT
SUMMARY:AHŠ1 Grška metrika\, Lecture (L)
DTSTART;TZID=Europe/Ljubljana:20251104T080000
DTEND;TZID=Europe/Ljubljana:20251104T093500
DTSTAMP:20260422T191621Z
UID:ff-AFLABS-URNIK:srecanje:56380-2025-11-04 08:00:00+01:00
DESCRIPTION:Predmet: AHŠ1 Grška metrika\, Lecture (L)\nLetniki: 2nd year
  (AHŠ1)\, 2nd year (GR1)\nIzvajalci: Matej Hriberšek\nProstor: Lecture r
 oom 024
END:VEVENT
BEGIN:VEVENT
SUMMARY:SL2 Latinska in nemška književnost na Slovenskem\, Lecture (L)
DTSTART;TZID=Europe/Ljubljana:20251007T112000
DTEND;TZID=Europe/Ljubljana:20251007T120500
DTSTAMP:20260422T191621Z
UID:ff-AFLABS-URNIK:srecanje:56176-2025-10-07 11:20:00+02:00
DESCRIPTION:Predmet: SL2 Latinska in nemška književnost na Slovenskem\, 
 Lecture (L)\nLetniki: 1st year (SL2)\, 1st year (SL2)\nIzvajalci: Matej Hr
 iberšek\nProstor: Lecture room 434
END:VEVENT
BEGIN:VEVENT
SUMMARY:SL2 Latinska in nemška književnost na Slovenskem\, Lecture (L)
DTSTART;TZID=Europe/Ljubljana:20251014T112000
DTEND;TZID=Europe/Ljubljana:20251014T120500
DTSTAMP:20260422T191621Z
UID:ff-AFLABS-URNIK:srecanje:56176-2025-10-14 11:20:00+02:00
DESCRIPTION:Predmet: SL2 Latinska in nemška književnost na Slovenskem\, 
 Lecture (L)\nLetniki: 1st year (SL2)\, 1st year (SL2)\nIzvajalci: Matej Hr
 iberšek\nProstor: Lecture room 434
END:VEVENT
BEGIN:VEVENT
SUMMARY:SL2 Latinska in nemška književnost na Slovenskem\, Lecture (L)
DTSTART;TZID=Europe/Ljubljana:20251021T112000
DTEND;TZID=Europe/Ljubljana:20251021T120500
DTSTAMP:20260422T191621Z
UID:ff-AFLABS-URNIK:srecanje:56176-2025-10-21 11:20:00+02:00
DESCRIPTION:Predmet: SL2 Latinska in nemška književnost na Slovenskem\, 
 Lecture (L)\nLetniki: 1st year (SL2)\, 1st year (SL2)\nIzvajalci: Matej Hr
 iberšek\nProstor: Lecture room 434
END:VEVENT
BEGIN:VEVENT
SUMMARY:SL2 Latinska in nemška književnost na Slovenskem\, Lecture (L)
DTSTART;TZID=Europe/Ljubljana:20251028T112000
DTEND;TZID=Europe/Ljubljana:20251028T120500
DTSTAMP:20260422T191621Z
UID:ff-AFLABS-URNIK:srecanje:56176-2025-10-28 11:20:00+01:00
DESCRIPTION:Predmet: SL2 Latinska in nemška književnost na Slovenskem\, 
 Lecture (L)\nLetniki: 1st year (SL2)\, 1st year (SL2)\nIzvajalci: Matej Hr
 iberšek\nProstor: Lecture room 434
END:VEVENT
BEGIN:VEVENT
SUMMARY:SL2 Latinska in nemška književnost na Slovenskem\, Lecture (L)
DTSTART;TZID=Europe/Ljubljana:20251104T112000
DTEND;TZID=Europe/Ljubljana:20251104T120500
DTSTAMP:20260422T191621Z
UID:ff-AFLABS-URNIK:srecanje:56176-2025-11-04 11:20:00+01:00
DESCRIPTION:Predmet: SL2 Latinska in nemška književnost na Slovenskem\, 
 Lecture (L)\nLetniki: 1st year (SL2)\, 1st year (SL2)\nIzvajalci: Matej Hr
 iberšek\nProstor: Lecture room 434
END:VEVENT
BEGIN:VEVENT
SUMMARY:AHŠ1 Latinska metrika\, Lecture (L)
DTSTART;TZID=Europe/Ljubljana:20251007T162000
DTEND;TZID=Europe/Ljubljana:20251007T175500
DTSTAMP:20260422T191621Z
UID:ff-AFLABS-URNIK:srecanje:55828-2025-10-07 16:20:00+02:00
DESCRIPTION:Predmet: AHŠ1 Latinska metrika\, Lecture (L)\nLetniki: 2nd ye
 ar (AHŠ1)\, 2nd year (LA1)\nIzvajalci: Matej Hriberšek\nProstor: Lecture
  room 5
END:VEVENT
BEGIN:VEVENT
SUMMARY:AHŠ1 Latinska metrika\, Lecture (L)
DTSTART;TZID=Europe/Ljubljana:20251014T162000
DTEND;TZID=Europe/Ljubljana:20251014T175500
DTSTAMP:20260422T191621Z
UID:ff-AFLABS-URNIK:srecanje:55828-2025-10-14 16:20:00+02:00
DESCRIPTION:Predmet: AHŠ1 Latinska metrika\, Lecture (L)\nLetniki: 2nd ye
 ar (AHŠ1)\, 2nd year (LA1)\nIzvajalci: Matej Hriberšek\nProstor: Lecture
  room 5
END:VEVENT
BEGIN:VEVENT
SUMMARY:AHŠ1 Latinska metrika\, Lecture (L)
DTSTART;TZID=Europe/Ljubljana:20251021T162000
DTEND;TZID=Europe/Ljubljana:20251021T175500
DTSTAMP:20260422T191621Z
UID:ff-AFLABS-URNIK:srecanje:55828-2025-10-21 16:20:00+02:00
DESCRIPTION:Predmet: AHŠ1 Latinska metrika\, Lecture (L)\nLetniki: 2nd ye
 ar (AHŠ1)\, 2nd year (LA1)\nIzvajalci: Matej Hriberšek\nProstor: Lecture
  room 5
END:VEVENT
BEGIN:VEVENT
SUMMARY:AHŠ1 Latinska metrika\, Lecture (L)
DTSTART;TZID=Europe/Ljubljana:20251028T162000
DTEND;TZID=Europe/Ljubljana:20251028T175500
DTSTAMP:20260422T191621Z
UID:ff-AFLABS-URNIK:srecanje:55828-2025-10-28 16:20:00+01:00
DESCRIPTION:Predmet: AHŠ1 Latinska metrika\, Lecture (L)\nLetniki: 2nd ye
 ar (AHŠ1)\, 2nd year (LA1)\nIzvajalci: Matej Hriberšek\nProstor: Lecture
  room 5
END:VEVENT
BEGIN:VEVENT
SUMMARY:AHŠ1 Latinska metrika\, Lecture (L)
DTSTART;TZID=Europe/Ljubljana:20251104T162000
DTEND;TZID=Europe/Ljubljana:20251104T175500
DTSTAMP:20260422T191621Z
UID:ff-AFLABS-URNIK:srecanje:55828-2025-11-04 16:20:00+01:00
DESCRIPTION:Predmet: AHŠ1 Latinska metrika\, Lecture (L)\nLetniki: 2nd ye
 ar (AHŠ1)\, 2nd year (LA1)\nIzvajalci: Matej Hriberšek\nProstor: Lecture
  room 5
END:VEVENT
BEGIN:VEVENT
SUMMARY:AHŠ2 Literarno prevajanje (gr.)*\, Seminar (S)
DTSTART;TZID=Europe/Ljubljana:20251007T144000
DTEND;TZID=Europe/Ljubljana:20251007T161500
DTSTAMP:20260422T191621Z
UID:ff-AFLABS-URNIK:srecanje:58622-2025-10-07 14:40:00+02:00
DESCRIPTION:Predmet: AHŠ2 Literarno prevajanje (gr.)*\, Seminar (S)\nLetn
 iki: 1st year (AHŠ2)\, 1st year (AHŠ2)\, 1st year (AHŠ2)\, 1st year (AH
 Š2)\, 2nd year (AHŠ2)\, 2nd year (AHŠ2)\, 2nd year (AHŠ2)\, 2nd year (
 AHŠ2)\, 1st year (GR2)\, 1st year (GR2)\, 1st year (GR2)\, 2nd year (GR2)
 \, 2nd year (GR2)\nIzvajalci: Matej Hriberšek\nProstor: Computer lab 04
END:VEVENT
BEGIN:VEVENT
SUMMARY:AHŠ2 Literarno prevajanje (gr.)*\, Seminar (S)
DTSTART;TZID=Europe/Ljubljana:20251014T144000
DTEND;TZID=Europe/Ljubljana:20251014T161500
DTSTAMP:20260422T191621Z
UID:ff-AFLABS-URNIK:srecanje:58622-2025-10-14 14:40:00+02:00
DESCRIPTION:Predmet: AHŠ2 Literarno prevajanje (gr.)*\, Seminar (S)\nLetn
 iki: 1st year (AHŠ2)\, 1st year (AHŠ2)\, 1st year (AHŠ2)\, 1st year (AH
 Š2)\, 2nd year (AHŠ2)\, 2nd year (AHŠ2)\, 2nd year (AHŠ2)\, 2nd year (
 AHŠ2)\, 1st year (GR2)\, 1st year (GR2)\, 1st year (GR2)\, 2nd year (GR2)
 \, 2nd year (GR2)\nIzvajalci: Matej Hriberšek\nProstor: Computer lab 04
END:VEVENT
BEGIN:VEVENT
SUMMARY:AHŠ2 Literarno prevajanje (gr.)*\, Seminar (S)
DTSTART;TZID=Europe/Ljubljana:20251021T144000
DTEND;TZID=Europe/Ljubljana:20251021T161500
DTSTAMP:20260422T191621Z
UID:ff-AFLABS-URNIK:srecanje:58622-2025-10-21 14:40:00+02:00
DESCRIPTION:Predmet: AHŠ2 Literarno prevajanje (gr.)*\, Seminar (S)\nLetn
 iki: 1st year (AHŠ2)\, 1st year (AHŠ2)\, 1st year (AHŠ2)\, 1st year (AH
 Š2)\, 2nd year (AHŠ2)\, 2nd year (AHŠ2)\, 2nd year (AHŠ2)\, 2nd year (
 AHŠ2)\, 1st year (GR2)\, 1st year (GR2)\, 1st year (GR2)\, 2nd year (GR2)
 \, 2nd year (GR2)\nIzvajalci: Matej Hriberšek\nProstor: Computer lab 04
END:VEVENT
BEGIN:VEVENT
SUMMARY:AHŠ2 Literarno prevajanje (gr.)*\, Seminar (S)
DTSTART;TZID=Europe/Ljubljana:20251028T144000
DTEND;TZID=Europe/Ljubljana:20251028T161500
DTSTAMP:20260422T191621Z
UID:ff-AFLABS-URNIK:srecanje:58622-2025-10-28 14:40:00+01:00
DESCRIPTION:Predmet: AHŠ2 Literarno prevajanje (gr.)*\, Seminar (S)\nLetn
 iki: 1st year (AHŠ2)\, 1st year (AHŠ2)\, 1st year (AHŠ2)\, 1st year (AH
 Š2)\, 2nd year (AHŠ2)\, 2nd year (AHŠ2)\, 2nd year (AHŠ2)\, 2nd year (
 AHŠ2)\, 1st year (GR2)\, 1st year (GR2)\, 1st year (GR2)\, 2nd year (GR2)
 \, 2nd year (GR2)\nIzvajalci: Matej Hriberšek\nProstor: Computer lab 04
END:VEVENT
BEGIN:VEVENT
SUMMARY:AHŠ2 Literarno prevajanje (gr.)*\, Seminar (S)
DTSTART;TZID=Europe/Ljubljana:20251104T144000
DTEND;TZID=Europe/Ljubljana:20251104T161500
DTSTAMP:20260422T191621Z
UID:ff-AFLABS-URNIK:srecanje:58622-2025-11-04 14:40:00+01:00
DESCRIPTION:Predmet: AHŠ2 Literarno prevajanje (gr.)*\, Seminar (S)\nLetn
 iki: 1st year (AHŠ2)\, 1st year (AHŠ2)\, 1st year (AHŠ2)\, 1st year (AH
 Š2)\, 2nd year (AHŠ2)\, 2nd year (AHŠ2)\, 2nd year (AHŠ2)\, 2nd year (
 AHŠ2)\, 1st year (GR2)\, 1st year (GR2)\, 1st year (GR2)\, 2nd year (GR2)
 \, 2nd year (GR2)\nIzvajalci: Matej Hriberšek\nProstor: Computer lab 04
END:VEVENT
BEGIN:VEVENT
SUMMARY:AHŠ2 Zgodovina jezikoslovja v antiki\, Lecture (L)
DTSTART;TZID=Europe/Ljubljana:20251007T130000
DTEND;TZID=Europe/Ljubljana:20251007T143500
DTSTAMP:20260422T191621Z
UID:ff-AFLABS-URNIK:srecanje:58293-2025-10-07 13:00:00+02:00
DESCRIPTION:Predmet: AHŠ2 Zgodovina jezikoslovja v antiki\, Lecture (L)\n
 Letniki: 1st year (AHŠ2)\, 1st year (AHŠ2)\, 1st year (AHŠ2)\, 1st year
  (AHŠ2)\, 2nd year (AHŠ2)\, 2nd year (AHŠ2)\, 2nd year (AHŠ2)\, 2nd ye
 ar (AHŠ2)\, 1st year (GR2)\, 1st year (GR2)\, 1st year (GR2)\, 2nd year (
 GR2)\, 2nd year (GR2)\, 1st year (LA2)\, 1st year (LA2)\, 2nd year (LA2)\,
  2nd year (LA2)\nIzvajalci: Matej Hriberšek\nProstor: Lecture room 345
END:VEVENT
BEGIN:VEVENT
SUMMARY:AHŠ2 Zgodovina jezikoslovja v antiki\, Lecture (L)
DTSTART;TZID=Europe/Ljubljana:20251014T130000
DTEND;TZID=Europe/Ljubljana:20251014T143500
DTSTAMP:20260422T191621Z
UID:ff-AFLABS-URNIK:srecanje:58293-2025-10-14 13:00:00+02:00
DESCRIPTION:Predmet: AHŠ2 Zgodovina jezikoslovja v antiki\, Lecture (L)\n
 Letniki: 1st year (AHŠ2)\, 1st year (AHŠ2)\, 1st year (AHŠ2)\, 1st year
  (AHŠ2)\, 2nd year (AHŠ2)\, 2nd year (AHŠ2)\, 2nd year (AHŠ2)\, 2nd ye
 ar (AHŠ2)\, 1st year (GR2)\, 1st year (GR2)\, 1st year (GR2)\, 2nd year (
 GR2)\, 2nd year (GR2)\, 1st year (LA2)\, 1st year (LA2)\, 2nd year (LA2)\,
  2nd year (LA2)\nIzvajalci: Matej Hriberšek\nProstor: Lecture room 345
END:VEVENT
BEGIN:VEVENT
SUMMARY:AHŠ2 Zgodovina jezikoslovja v antiki\, Lecture (L)
DTSTART;TZID=Europe/Ljubljana:20251021T130000
DTEND;TZID=Europe/Ljubljana:20251021T143500
DTSTAMP:20260422T191621Z
UID:ff-AFLABS-URNIK:srecanje:58293-2025-10-21 13:00:00+02:00
DESCRIPTION:Predmet: AHŠ2 Zgodovina jezikoslovja v antiki\, Lecture (L)\n
 Letniki: 1st year (AHŠ2)\, 1st year (AHŠ2)\, 1st year (AHŠ2)\, 1st year
  (AHŠ2)\, 2nd year (AHŠ2)\, 2nd year (AHŠ2)\, 2nd year (AHŠ2)\, 2nd ye
 ar (AHŠ2)\, 1st year (GR2)\, 1st year (GR2)\, 1st year (GR2)\, 2nd year (
 GR2)\, 2nd year (GR2)\, 1st year (LA2)\, 1st year (LA2)\, 2nd year (LA2)\,
  2nd year (LA2)\nIzvajalci: Matej Hriberšek\nProstor: Lecture room 345
END:VEVENT
BEGIN:VEVENT
SUMMARY:AHŠ2 Zgodovina jezikoslovja v antiki\, Lecture (L)
DTSTART;TZID=Europe/Ljubljana:20251028T130000
DTEND;TZID=Europe/Ljubljana:20251028T143500
DTSTAMP:20260422T191621Z
UID:ff-AFLABS-URNIK:srecanje:58293-2025-10-28 13:00:00+01:00
DESCRIPTION:Predmet: AHŠ2 Zgodovina jezikoslovja v antiki\, Lecture (L)\n
 Letniki: 1st year (AHŠ2)\, 1st year (AHŠ2)\, 1st year (AHŠ2)\, 1st year
  (AHŠ2)\, 2nd year (AHŠ2)\, 2nd year (AHŠ2)\, 2nd year (AHŠ2)\, 2nd ye
 ar (AHŠ2)\, 1st year (GR2)\, 1st year (GR2)\, 1st year (GR2)\, 2nd year (
 GR2)\, 2nd year (GR2)\, 1st year (LA2)\, 1st year (LA2)\, 2nd year (LA2)\,
  2nd year (LA2)\nIzvajalci: Matej Hriberšek\nProstor: Lecture room 345
END:VEVENT
BEGIN:VEVENT
SUMMARY:AHŠ2 Zgodovina jezikoslovja v antiki\, Lecture (L)
DTSTART;TZID=Europe/Ljubljana:20251104T130000
DTEND;TZID=Europe/Ljubljana:20251104T143500
DTSTAMP:20260422T191621Z
UID:ff-AFLABS-URNIK:srecanje:58293-2025-11-04 13:00:00+01:00
DESCRIPTION:Predmet: AHŠ2 Zgodovina jezikoslovja v antiki\, Lecture (L)\n
 Letniki: 1st year (AHŠ2)\, 1st year (AHŠ2)\, 1st year (AHŠ2)\, 1st year
  (AHŠ2)\, 2nd year (AHŠ2)\, 2nd year (AHŠ2)\, 2nd year (AHŠ2)\, 2nd ye
 ar (AHŠ2)\, 1st year (GR2)\, 1st year (GR2)\, 1st year (GR2)\, 2nd year (
 GR2)\, 2nd year (GR2)\, 1st year (LA2)\, 1st year (LA2)\, 2nd year (LA2)\,
  2nd year (LA2)\nIzvajalci: Matej Hriberšek\nProstor: Lecture room 345
END:VEVENT
END:VCALENDAR
