BEGIN:VCALENDAR
VERSION:2.0
PRODID:-//AFLabs urnik izvoz - ff//aflabs.si//SI
NAME:UL FF Urnik
X-WR-CALNAME:UL FF Urnik
DTSTAMP:20260421T020131Z
REFRESH-INTERVAL:PT1H
SOURCE:https://urnik.ff.uni-lj.si/en/teacher/1319/?day=2026-06-30&export=1
URL:https://urnik.ff.uni-lj.si/en/teacher/1319/?day=2026-06-30&export=1
X-PUBLISHED-TTL:PT1H
X-WR-TIMEZONE:Europe/Ljubljana
BEGIN:VTIMEZONE
TZID:Europe/Ljubljana
BEGIN:DAYLIGHT
DTSTART:20260329T020000
RDATE:20260329T020000
RDATE:20270328T020000
TZNAME:CEST
TZOFFSETFROM:+0100
TZOFFSETTO:+0200
END:DAYLIGHT
BEGIN:STANDARD
DTSTART:20261025T030000
RDATE:20261025T030000
RDATE:20271031T030000
TZNAME:CET
TZOFFSETFROM:+0200
TZOFFSETTO:+0100
END:STANDARD
END:VTIMEZONE
BEGIN:VEVENT
SUMMARY:izpit (R + I): MU1 Glasbena akustika D 2022/23
DTSTART;TZID=Europe/Ljubljana:20260626T090000
DTEND;TZID=Europe/Ljubljana:20260626T130000
DTSTAMP:20260421T020131Z
UID:ff-AFLABS-URNIK:rezervacija:146305
ATTENDEE:1st year (MU1)
ATTENDEE:2nd year (MU1)
CATEGORIES:Reservation
COLOR:royalblue
DESCRIPTION:Predmeti: MU1 Glasbena akustika D 2022/23\, MU1 Glasbena akust
 ika D 2022/23\nLetniki: 1st year (MU1)\, 2nd year (MU1)\nIzvajalci: Drago 
 Kunej\nProstori: Lecture room 535B
LOCATION:Lecture room 535B
ORGANIZER:Drago Kunej
X-WR-TIMEZONE:Europe/Ljubljana
END:VEVENT
BEGIN:VEVENT
SUMMARY:izpit (R + I): MU1 Ljudska inštrumentalna glasba in ples (Izpit p
 oteka v prostorih Akademije za glasbo)
DTSTART;TZID=Europe/Ljubljana:20260611T090000
DTEND;TZID=Europe/Ljubljana:20260611T130000
DTSTAMP:20260421T020131Z
UID:ff-AFLABS-URNIK:rezervacija:150901
ATTENDEE:2nd year (MU1)
ATTENDEE:3rd year (MU1)
CATEGORIES:Reservation
COLOR:royalblue
DESCRIPTION:Predmeti: MU1 Ljudska inštrumentalna glasba in ples\, MU1 Lju
 dska inštrumentalna glasba in ples\nLetniki: 2nd year (MU1)\, 2nd year (M
 U1)\, 3rd year (MU1)\nIzvajalci: Drago Kunej\nProstori: Out of the Faculty
LOCATION:Out of the Faculty
ORGANIZER:Drago Kunej
X-WR-TIMEZONE:Europe/Ljubljana
END:VEVENT
BEGIN:VEVENT
SUMMARY:izpit (R + I): MU1 Glasbena akustika - izr.\, MU1 Glasbena akustik
 a
DTSTART;TZID=Europe/Ljubljana:20260612T090000
DTEND;TZID=Europe/Ljubljana:20260612T130000
DTSTAMP:20260421T020131Z
UID:ff-AFLABS-URNIK:rezervacija:150892
ATTENDEE:1st year (MU1)
ATTENDEE:1st year - part time (MU1)
CATEGORIES:Reservation
COLOR:royalblue
DESCRIPTION:Predmeti: MU1 Glasbena akustika\, MU1 Glasbena akustika\, MU1 
 Glasbena akustika - izr.\nLetniki: 1st year (MU1)\, 1st year - part time (
 MU1)\nIzvajalci: Drago Kunej\nProstori: Lecture room 535B
LOCATION:Lecture room 535B
ORGANIZER:Drago Kunej
X-WR-TIMEZONE:Europe/Ljubljana
END:VEVENT
BEGIN:VEVENT
SUMMARY:izpit (R + I): MU1 Glasbena akustika - izr.\, MU1 Glasbena akustik
 a
DTSTART;TZID=Europe/Ljubljana:20260626T090000
DTEND;TZID=Europe/Ljubljana:20260626T130000
DTSTAMP:20260421T020131Z
UID:ff-AFLABS-URNIK:rezervacija:150893
ATTENDEE:1st year (MU1)
ATTENDEE:1st year - part time (MU1)
CATEGORIES:Reservation
COLOR:royalblue
DESCRIPTION:Predmeti: MU1 Glasbena akustika\, MU1 Glasbena akustika\, MU1 
 Glasbena akustika - izr.\nLetniki: 1st year (MU1)\, 1st year - part time (
 MU1)\nIzvajalci: Drago Kunej\nProstori: Lecture room 535B
LOCATION:Lecture room 535B
ORGANIZER:Drago Kunej
X-WR-TIMEZONE:Europe/Ljubljana
END:VEVENT
BEGIN:VEVENT
SUMMARY:izpit (R + I): MU1 Glasbena akustika D 2022/23
DTSTART;TZID=Europe/Ljubljana:20260612T090000
DTEND;TZID=Europe/Ljubljana:20260612T130000
DTSTAMP:20260421T020131Z
UID:ff-AFLABS-URNIK:rezervacija:146304
ATTENDEE:1st year (MU1)
ATTENDEE:2nd year (MU1)
CATEGORIES:Reservation
COLOR:royalblue
DESCRIPTION:Predmeti: MU1 Glasbena akustika D 2022/23\, MU1 Glasbena akust
 ika D 2022/23\nLetniki: 1st year (MU1)\, 2nd year (MU1)\nIzvajalci: Drago 
 Kunej\nProstori: Lecture room 535B
LOCATION:Lecture room 535B
ORGANIZER:Drago Kunej
X-WR-TIMEZONE:Europe/Ljubljana
END:VEVENT
BEGIN:VEVENT
SUMMARY:izpit (R + I): MU1 Ljudska inštrumentalna glasba in ples (Izpit p
 oteka v prostorih Akademije za glasbo)
DTSTART;TZID=Europe/Ljubljana:20260624T090000
DTEND;TZID=Europe/Ljubljana:20260624T130000
DTSTAMP:20260421T020131Z
UID:ff-AFLABS-URNIK:rezervacija:150900
ATTENDEE:2nd year (MU1)
ATTENDEE:3rd year (MU1)
CATEGORIES:Reservation
COLOR:royalblue
DESCRIPTION:Predmeti: MU1 Ljudska inštrumentalna glasba in ples\, MU1 Lju
 dska inštrumentalna glasba in ples\nLetniki: 2nd year (MU1)\, 2nd year (M
 U1)\, 3rd year (MU1)\nIzvajalci: Drago Kunej\nProstori: Out of the Faculty
LOCATION:Out of the Faculty
ORGANIZER:Drago Kunej
X-WR-TIMEZONE:Europe/Ljubljana
END:VEVENT
END:VCALENDAR
