BEGIN:VCALENDAR
VERSION:2.0
PRODID:-//AFLabs urnik izvoz - ff//aflabs.si//SI
NAME:UL FF Urnik
X-WR-CALNAME:UL FF Urnik
DTSTAMP:20260425T004816Z
REFRESH-INTERVAL:PT1H
SOURCE:https://urnik.ff.uni-lj.si/en/teacher/1590/?day=2026-05-06&export=1
URL:https://urnik.ff.uni-lj.si/en/teacher/1590/?day=2026-05-06&export=1
X-PUBLISHED-TTL:PT1H
X-WR-TIMEZONE:Europe/Ljubljana
BEGIN:VTIMEZONE
TZID:Europe/Ljubljana
BEGIN:DAYLIGHT
DTSTART:20260329T020000
RDATE:20260329T020000
RDATE:20270328T020000
TZNAME:CEST
TZOFFSETFROM:+0100
TZOFFSETTO:+0200
END:DAYLIGHT
BEGIN:STANDARD
DTSTART:20261025T030000
RDATE:20261025T030000
RDATE:20271031T030000
TZNAME:CET
TZOFFSETFROM:+0200
TZOFFSETTO:+0100
END:STANDARD
END:VTIMEZONE
BEGIN:VEVENT
SUMMARY:izpit (R + I): PS1 Nevrofiziologija - izr.\, PS1 Nevrofiziologija
DTSTART;TZID=Europe/Ljubljana:20260608T100000
DTEND;TZID=Europe/Ljubljana:20260608T120000
DTSTAMP:20260425T004816Z
UID:ff-AFLABS-URNIK:rezervacija:154662
ATTENDEE:1st year (PS1)
ATTENDEE:1st year - part time (PS1)
CATEGORIES:Reservation
COLOR:royalblue
DESCRIPTION:Predmeti: PS1 Nevrofiziologija\, PS1 Nevrofiziologija\, PS1 Ne
 vrofiziologija - izr.\nLetniki: 1st year (PS1)\, 1st year - part time (PS1
 )\nIzvajalci: Marko Kreft\nProstori: Lecture hall 34
LOCATION:Lecture hall 34
ORGANIZER:Marko Kreft
X-WR-TIMEZONE:Europe/Ljubljana
END:VEVENT
END:VCALENDAR
