BEGIN:VCALENDAR
VERSION:2.0
PRODID:-//AFLabs urnik izvoz - ff//aflabs.si//SI
NAME:UL FF Urnik
X-WR-CALNAME:UL FF Urnik
DTSTAMP:20260420T005833Z
REFRESH-INTERVAL:PT1H
SOURCE:https://urnik.ff.uni-lj.si/en/teacher/1612/?day=2026-06-24&export=1
URL:https://urnik.ff.uni-lj.si/en/teacher/1612/?day=2026-06-24&export=1
X-PUBLISHED-TTL:PT1H
X-WR-TIMEZONE:Europe/Ljubljana
BEGIN:VTIMEZONE
TZID:Europe/Ljubljana
BEGIN:DAYLIGHT
DTSTART:20260329T020000
RDATE:20260329T020000
RDATE:20270328T020000
TZNAME:CEST
TZOFFSETFROM:+0100
TZOFFSETTO:+0200
END:DAYLIGHT
BEGIN:STANDARD
DTSTART:20261025T030000
RDATE:20261025T030000
RDATE:20271031T030000
TZNAME:CET
TZOFFSETFROM:+0200
TZOFFSETTO:+0100
END:STANDARD
END:VTIMEZONE
BEGIN:VEVENT
SUMMARY:izpit (R + I): FI1 Azijske filozofije\, FI1 Azijske filozofije - i
 zr.
DTSTART;TZID=Europe/Ljubljana:20260617T100000
DTEND;TZID=Europe/Ljubljana:20260617T120000
DTSTAMP:20260420T005833Z
UID:ff-AFLABS-URNIK:rezervacija:151491
ATTENDEE:2nd year (FI1)
ATTENDEE:2nd year - part time (FI1)
ATTENDEE:3rd year (FI1)
ATTENDEE:3rd year - part time (FI1)
CATEGORIES:Reservation
COLOR:royalblue
DESCRIPTION:Predmeti: FI1 Azijske filozofije\, FI1 Azijske filozofije\, FI
 1 Azijske filozofije - izr.\nLetniki: 2nd year (FI1)\, 2nd year (FI1)\, 2n
 d year - part time (FI1)\, 2nd year - part time (FI1)\, 3rd year (FI1)\, 3
 rd year - part time (FI1)\nIzvajalci: Nina Petek\nProstori: Lecture room 4
 34
LOCATION:Lecture room 434
ORGANIZER:Nina Petek
X-WR-TIMEZONE:Europe/Ljubljana
END:VEVENT
BEGIN:VEVENT
SUMMARY:izpit (R + I): FI1 Uvod v filozofijo D\, FI1 Uvod v filozofijo D -
  izr.
DTSTART;TZID=Europe/Ljubljana:20260617T100000
DTEND;TZID=Europe/Ljubljana:20260617T120000
DTSTAMP:20260420T005833Z
UID:ff-AFLABS-URNIK:rezervacija:143530
ATTENDEE:1st year (FI1)
ATTENDEE:1st year - part time (FI1)
CATEGORIES:Reservation
COLOR:royalblue
DESCRIPTION:Predmeti: FI1 Uvod v filozofijo D\, FI1 Uvod v filozofijo D\, 
 FI1 Uvod v filozofijo D - izr.\nLetniki: 1st year (FI1)\, 1st year - part 
 time (FI1)\nIzvajalci: Nina Petek\nProstori: Lecture room 434
LOCATION:Lecture room 434
ORGANIZER:Nina Petek
X-WR-TIMEZONE:Europe/Ljubljana
END:VEVENT
BEGIN:VEVENT
SUMMARY:izpit (R + I): FI1 Uvod v filozofijo E - izr.\, FI1 Uvod v filozof
 ijo E
DTSTART;TZID=Europe/Ljubljana:20260617T100000
DTEND;TZID=Europe/Ljubljana:20260617T120000
DTSTAMP:20260420T005833Z
UID:ff-AFLABS-URNIK:rezervacija:143529
ATTENDEE:1st year (FI1)
ATTENDEE:1st year - part time (FI1)
CATEGORIES:Reservation
COLOR:royalblue
DESCRIPTION:Predmeti: FI1 Uvod v filozofijo E\, FI1 Uvod v filozofijo E\, 
 FI1 Uvod v filozofijo E - izr.\nLetniki: 1st year (FI1)\, 1st year - part 
 time (FI1)\nIzvajalci: Nina Petek\nProstori: Lecture room 434
LOCATION:Lecture room 434
ORGANIZER:Nina Petek
X-WR-TIMEZONE:Europe/Ljubljana
END:VEVENT
BEGIN:VEVENT
SUMMARY:Oddelek za filozofijo
DTSTART;TZID=Europe/Ljubljana:20260617T100000
DTEND;TZID=Europe/Ljubljana:20260617T120000
DTSTAMP:20260420T005833Z
UID:ff-AFLABS-URNIK:rezervacija:77238
CATEGORIES:Reservation
COLOR:royalblue
DESCRIPTION:Predmeti: \nLetniki: \nIzvajalci: Nina Petek\nProstori: Lectur
 e room 434
LOCATION:Lecture room 434
ORGANIZER:Nina Petek
X-WR-TIMEZONE:Europe/Ljubljana
END:VEVENT
BEGIN:VEVENT
SUMMARY:izpit (R + I): FI2 Izbrana poglavja iz azijskih filozofij
DTSTART;TZID=Europe/Ljubljana:20260617T100000
DTEND;TZID=Europe/Ljubljana:20260617T120000
DTSTAMP:20260420T005833Z
UID:ff-AFLABS-URNIK:rezervacija:143531
ATTENDEE:1st year (FI2)
ATTENDEE:2nd year (FI2)
CATEGORIES:Reservation
COLOR:royalblue
DESCRIPTION:Predmeti: FI2 Izbrana poglavja iz azijskih filozofij\, FI2 Izb
 rana poglavja iz azijskih filozofij\nLetniki: 1st year (FI2)\, 1st year (F
 I2)\, 2nd year (FI2)\, 2nd year (FI2)\nIzvajalci: Nina Petek\nProstori: Le
 cture room 434
LOCATION:Lecture room 434
ORGANIZER:Nina Petek
X-WR-TIMEZONE:Europe/Ljubljana
END:VEVENT
BEGIN:VEVENT
SUMMARY:Oddelek za filozofijo
DTSTART;TZID=Europe/Ljubljana:20260618T100000
DTEND;TZID=Europe/Ljubljana:20260618T120000
DTSTAMP:20260420T005833Z
UID:ff-AFLABS-URNIK:rezervacija:77239
CATEGORIES:Reservation
COLOR:royalblue
DESCRIPTION:Predmeti: \nLetniki: \nIzvajalci: Nina Petek\nProstori: Lectur
 e room 434
LOCATION:Lecture room 434
ORGANIZER:Nina Petek
X-WR-TIMEZONE:Europe/Ljubljana
END:VEVENT
BEGIN:VEVENT
SUMMARY:izpit (R + I): FI1 Azijske filozofije\, religije in kulture - izr.
 \, FI1 Azijske filozofije\, religije in kulture
DTSTART;TZID=Europe/Ljubljana:20260618T100000
DTEND;TZID=Europe/Ljubljana:20260618T120000
DTSTAMP:20260420T005833Z
UID:ff-AFLABS-URNIK:rezervacija:143532
ATTENDEE:2nd year (FI1)
ATTENDEE:2nd year - part time (FI1)
ATTENDEE:3rd year (FI1)
ATTENDEE:3rd year - part time (FI1)
CATEGORIES:Reservation
COLOR:royalblue
DESCRIPTION:Predmeti: FI1 Azijske filozofije\, religije in kulture\, FI1 A
 zijske filozofije\, religije in kulture\, FI1 Azijske filozofije\, religij
 e in kulture - izr.\nLetniki: 2nd year (FI1)\, 2nd year (FI1)\, 2nd year -
  part time (FI1)\, 2nd year - part time (FI1)\, 3rd year (FI1)\, 3rd year 
 - part time (FI1)\nIzvajalci: Nina Petek\nProstori: Lecture room 434
LOCATION:Lecture room 434
ORGANIZER:Nina Petek
X-WR-TIMEZONE:Europe/Ljubljana
END:VEVENT
END:VCALENDAR
