BEGIN:VCALENDAR
VERSION:2.0
PRODID:-//AFLabs urnik izvoz - ff//aflabs.si//SI
NAME:UL FF Urnik
X-WR-CALNAME:UL FF Urnik
DTSTAMP:20260423T052956Z
REFRESH-INTERVAL:PT1H
SOURCE:https://urnik.ff.uni-lj.si/en/teacher/1749/?day=2026-05-19&export=1
URL:https://urnik.ff.uni-lj.si/en/teacher/1749/?day=2026-05-19&export=1
X-PUBLISHED-TTL:PT1H
X-WR-TIMEZONE:Europe/Ljubljana
BEGIN:VTIMEZONE
TZID:Europe/Ljubljana
BEGIN:DAYLIGHT
DTSTART:20260329T020000
RDATE:20260329T020000
RDATE:20270328T020000
TZNAME:CEST
TZOFFSETFROM:+0100
TZOFFSETTO:+0200
END:DAYLIGHT
BEGIN:STANDARD
DTSTART:20261025T030000
RDATE:20261025T030000
RDATE:20271031T030000
TZNAME:CET
TZOFFSETFROM:+0200
TZOFFSETTO:+0100
END:STANDARD
END:VTIMEZONE
BEGIN:VEVENT
SUMMARY:SL1 Slovenska frazeologija\, Lecture (L)
DTSTART;TZID=Europe/Ljubljana:20260218T162000
DTEND;TZID=Europe/Ljubljana:20260218T175500
DTSTAMP:20260423T052956Z
UID:ff-AFLABS-URNIK:srecanje:61256-2026-02-18 16:20:00+01:00
DESCRIPTION:Predmet: SL1 Slovenska frazeologija\, Lecture (L)\nLetniki: 3r
 d year (SL1)\, 3rd year (SL1)\nIzvajalci: Nataša Jakop\nProstor: Lecture 
 hall 15
END:VEVENT
BEGIN:VEVENT
SUMMARY:SL1 Slovenska frazeologija\, Lecture (L)
DTSTART;TZID=Europe/Ljubljana:20260225T162000
DTEND;TZID=Europe/Ljubljana:20260225T175500
DTSTAMP:20260423T052956Z
UID:ff-AFLABS-URNIK:srecanje:61256-2026-02-25 16:20:00+01:00
DESCRIPTION:Predmet: SL1 Slovenska frazeologija\, Lecture (L)\nLetniki: 3r
 d year (SL1)\, 3rd year (SL1)\nIzvajalci: Nataša Jakop\nProstor: Lecture 
 hall 15
END:VEVENT
BEGIN:VEVENT
SUMMARY:SL1 Slovenska frazeologija\, Lecture (L)
DTSTART;TZID=Europe/Ljubljana:20260304T162000
DTEND;TZID=Europe/Ljubljana:20260304T175500
DTSTAMP:20260423T052956Z
UID:ff-AFLABS-URNIK:srecanje:61256-2026-03-04 16:20:00+01:00
DESCRIPTION:Predmet: SL1 Slovenska frazeologija\, Lecture (L)\nLetniki: 3r
 d year (SL1)\, 3rd year (SL1)\nIzvajalci: Nataša Jakop\nProstor: Lecture 
 hall 15
END:VEVENT
BEGIN:VEVENT
SUMMARY:SL1 Slovenska frazeologija\, Lecture (L)
DTSTART;TZID=Europe/Ljubljana:20260311T162000
DTEND;TZID=Europe/Ljubljana:20260311T175500
DTSTAMP:20260423T052956Z
UID:ff-AFLABS-URNIK:srecanje:61256-2026-03-11 16:20:00+01:00
DESCRIPTION:Predmet: SL1 Slovenska frazeologija\, Lecture (L)\nLetniki: 3r
 d year (SL1)\, 3rd year (SL1)\nIzvajalci: Nataša Jakop\nProstor: Lecture 
 hall 15
END:VEVENT
BEGIN:VEVENT
SUMMARY:SL1 Slovenska frazeologija\, Lecture (L)
DTSTART;TZID=Europe/Ljubljana:20260318T162000
DTEND;TZID=Europe/Ljubljana:20260318T175500
DTSTAMP:20260423T052956Z
UID:ff-AFLABS-URNIK:srecanje:61256-2026-03-18 16:20:00+01:00
DESCRIPTION:Predmet: SL1 Slovenska frazeologija\, Lecture (L)\nLetniki: 3r
 d year (SL1)\, 3rd year (SL1)\nIzvajalci: Nataša Jakop\nProstor: Lecture 
 hall 15
END:VEVENT
BEGIN:VEVENT
SUMMARY:SL1 Slovenska frazeologija\, Lecture (L)
DTSTART;TZID=Europe/Ljubljana:20260325T162000
DTEND;TZID=Europe/Ljubljana:20260325T175500
DTSTAMP:20260423T052956Z
UID:ff-AFLABS-URNIK:srecanje:61256-2026-03-25 16:20:00+01:00
DESCRIPTION:Predmet: SL1 Slovenska frazeologija\, Lecture (L)\nLetniki: 3r
 d year (SL1)\, 3rd year (SL1)\nIzvajalci: Nataša Jakop\nProstor: Lecture 
 hall 15
END:VEVENT
BEGIN:VEVENT
SUMMARY:SL1 Slovenska frazeologija\, Lecture (L)
DTSTART;TZID=Europe/Ljubljana:20260401T162000
DTEND;TZID=Europe/Ljubljana:20260401T175500
DTSTAMP:20260423T052956Z
UID:ff-AFLABS-URNIK:srecanje:61256-2026-04-01 16:20:00+02:00
DESCRIPTION:Predmet: SL1 Slovenska frazeologija\, Lecture (L)\nLetniki: 3r
 d year (SL1)\, 3rd year (SL1)\nIzvajalci: Nataša Jakop\nProstor: Lecture 
 hall 15
END:VEVENT
BEGIN:VEVENT
SUMMARY:SL1 Slovenska frazeologija\, Lecture (L)
DTSTART;TZID=Europe/Ljubljana:20260408T162000
DTEND;TZID=Europe/Ljubljana:20260408T175500
DTSTAMP:20260423T052956Z
UID:ff-AFLABS-URNIK:srecanje:61256-2026-04-08 16:20:00+02:00
DESCRIPTION:Predmet: SL1 Slovenska frazeologija\, Lecture (L)\nLetniki: 3r
 d year (SL1)\, 3rd year (SL1)\nIzvajalci: Nataša Jakop\nProstor: Lecture 
 hall 15
END:VEVENT
BEGIN:VEVENT
SUMMARY:SL1 Slovenska frazeologija\, Lecture (L)
DTSTART;TZID=Europe/Ljubljana:20260415T162000
DTEND;TZID=Europe/Ljubljana:20260415T175500
DTSTAMP:20260423T052956Z
UID:ff-AFLABS-URNIK:srecanje:61256-2026-04-15 16:20:00+02:00
DESCRIPTION:Predmet: SL1 Slovenska frazeologija\, Lecture (L)\nLetniki: 3r
 d year (SL1)\, 3rd year (SL1)\nIzvajalci: Nataša Jakop\nProstor: Lecture 
 hall 15
END:VEVENT
BEGIN:VEVENT
SUMMARY:SL1 Slovenska frazeologija\, Lecture (L)
DTSTART;TZID=Europe/Ljubljana:20260422T162000
DTEND;TZID=Europe/Ljubljana:20260422T175500
DTSTAMP:20260423T052956Z
UID:ff-AFLABS-URNIK:srecanje:61256-2026-04-22 16:20:00+02:00
DESCRIPTION:Predmet: SL1 Slovenska frazeologija\, Lecture (L)\nLetniki: 3r
 d year (SL1)\, 3rd year (SL1)\nIzvajalci: Nataša Jakop\nProstor: Lecture 
 hall 15
END:VEVENT
BEGIN:VEVENT
SUMMARY:SL1 Slovenska frazeologija\, Lecture (L)
DTSTART;TZID=Europe/Ljubljana:20260429T162000
DTEND;TZID=Europe/Ljubljana:20260429T175500
DTSTAMP:20260423T052956Z
UID:ff-AFLABS-URNIK:srecanje:61256-2026-04-29 16:20:00+02:00
DESCRIPTION:Predmet: SL1 Slovenska frazeologija\, Lecture (L)\nLetniki: 3r
 d year (SL1)\, 3rd year (SL1)\nIzvajalci: Nataša Jakop\nProstor: Lecture 
 hall 15
END:VEVENT
BEGIN:VEVENT
SUMMARY:SL1 Slovenska frazeologija\, Lecture (L)
DTSTART;TZID=Europe/Ljubljana:20260506T162000
DTEND;TZID=Europe/Ljubljana:20260506T175500
DTSTAMP:20260423T052956Z
UID:ff-AFLABS-URNIK:srecanje:61256-2026-05-06 16:20:00+02:00
DESCRIPTION:Predmet: SL1 Slovenska frazeologija\, Lecture (L)\nLetniki: 3r
 d year (SL1)\, 3rd year (SL1)\nIzvajalci: Nataša Jakop\nProstor: Lecture 
 hall 15
END:VEVENT
BEGIN:VEVENT
SUMMARY:SL1 Slovenska frazeologija\, Lecture (L)
DTSTART;TZID=Europe/Ljubljana:20260513T162000
DTEND;TZID=Europe/Ljubljana:20260513T175500
DTSTAMP:20260423T052956Z
UID:ff-AFLABS-URNIK:srecanje:61256-2026-05-13 16:20:00+02:00
DESCRIPTION:Predmet: SL1 Slovenska frazeologija\, Lecture (L)\nLetniki: 3r
 d year (SL1)\, 3rd year (SL1)\nIzvajalci: Nataša Jakop\nProstor: Lecture 
 hall 15
END:VEVENT
BEGIN:VEVENT
SUMMARY:SL1 Slovenska frazeologija\, Lecture (L)
DTSTART;TZID=Europe/Ljubljana:20260520T162000
DTEND;TZID=Europe/Ljubljana:20260520T175500
DTSTAMP:20260423T052956Z
UID:ff-AFLABS-URNIK:srecanje:61256-2026-05-20 16:20:00+02:00
DESCRIPTION:Predmet: SL1 Slovenska frazeologija\, Lecture (L)\nLetniki: 3r
 d year (SL1)\, 3rd year (SL1)\nIzvajalci: Nataša Jakop\nProstor: Lecture 
 hall 15
END:VEVENT
BEGIN:VEVENT
SUMMARY:SL1 Slovenska frazeologija\, Lecture (L)
DTSTART;TZID=Europe/Ljubljana:20260527T162000
DTEND;TZID=Europe/Ljubljana:20260527T175500
DTSTAMP:20260423T052956Z
UID:ff-AFLABS-URNIK:srecanje:61256-2026-05-27 16:20:00+02:00
DESCRIPTION:Predmet: SL1 Slovenska frazeologija\, Lecture (L)\nLetniki: 3r
 d year (SL1)\, 3rd year (SL1)\nIzvajalci: Nataša Jakop\nProstor: Lecture 
 hall 15
END:VEVENT
BEGIN:VEVENT
SUMMARY:Izpitni rok Slovenska frazeologija\, izvajalka Nataša Jakop
DTSTART;TZID=Europe/Ljubljana:20260603T130000
DTEND;TZID=Europe/Ljubljana:20260603T150000
DTSTAMP:20260423T052956Z
UID:ff-AFLABS-URNIK:rezervacija:153100
ATTENDEE:3rd year (SL1)
ATTENDEE:3rd year - part time (SL1)
CATEGORIES:Reservation
COLOR:royalblue
DESCRIPTION:Predmeti: SL1 Slovenska frazeologija\, SL1 Slovenska frazeolog
 ija - izr.\nLetniki: 3rd year (SL1)\, 3rd year (SL1)\, 3rd year - part tim
 e (SL1)\, 3rd year - part time (SL1)\nIzvajalci: Nataša Jakop\, Mateja Ro
 bida\nProstori: Lecture room 4
LOCATION:Lecture room 4
ORGANIZER:Nataša Jakop, Mateja Robida
X-WR-TIMEZONE:Europe/Ljubljana
END:VEVENT
BEGIN:VEVENT
SUMMARY:Oddelek za slovenistiko - zamenjava termina v pred.15
DTSTART;TZID=Europe/Ljubljana:20260408T162000
DTEND;TZID=Europe/Ljubljana:20260408T180000
DTSTAMP:20260423T052956Z
UID:ff-AFLABS-URNIK:rezervacija:153165
CATEGORIES:Reservation
COLOR:royalblue
DESCRIPTION:Predmeti: \nLetniki: 3rd year (SL1)\, 3rd year (SL1)\nIzvajalc
 i: Irena Ipavec Dobrota\, Nataša Jakop\nProstori: Lecture room 119
LOCATION:Lecture room 119
ORGANIZER:Irena Ipavec Dobrota, Nataša Jakop
X-WR-TIMEZONE:Europe/Ljubljana
END:VEVENT
END:VCALENDAR
