BEGIN:VCALENDAR
VERSION:2.0
PRODID:-//AFLabs urnik izvoz - ff//aflabs.si//SI
NAME:UL FF Urnik
X-WR-CALNAME:UL FF Urnik
DTSTAMP:20260424T035631Z
REFRESH-INTERVAL:PT1H
SOURCE:https://urnik.ff.uni-lj.si/en/teacher/1852/?day=2026-05-26&export=1
URL:https://urnik.ff.uni-lj.si/en/teacher/1852/?day=2026-05-26&export=1
X-PUBLISHED-TTL:PT1H
X-WR-TIMEZONE:Europe/Ljubljana
BEGIN:VTIMEZONE
TZID:Europe/Ljubljana
BEGIN:DAYLIGHT
DTSTART:20260329T020000
RDATE:20260329T020000
RDATE:20270328T020000
TZNAME:CEST
TZOFFSETFROM:+0100
TZOFFSETTO:+0200
END:DAYLIGHT
BEGIN:STANDARD
DTSTART:20261025T030000
RDATE:20261025T030000
RDATE:20271031T030000
TZNAME:CET
TZOFFSETFROM:+0200
TZOFFSETTO:+0100
END:STANDARD
END:VTIMEZONE
BEGIN:VEVENT
SUMMARY:SK1 Popularne kulture\, Lecture\, Seminar (L\, S)
DTSTART;TZID=Europe/Ljubljana:20260219T180000
DTEND;TZID=Europe/Ljubljana:20260219T202500
DTSTAMP:20260424T035631Z
UID:ff-AFLABS-URNIK:srecanje:58994-2026-02-19 18:00:00+01:00
DESCRIPTION:Predmet: SK1 Popularne kulture\, Lecture\, Seminar (L\, S)\nLe
 tniki: 3rd year (SK1)\, 3rd year (SO1)\nIzvajalci: Jela Krečič Žižek\n
 Prostor: Lecture room 434
END:VEVENT
BEGIN:VEVENT
SUMMARY:SK1 Popularne kulture\, Lecture\, Seminar (L\, S)
DTSTART;TZID=Europe/Ljubljana:20260226T180000
DTEND;TZID=Europe/Ljubljana:20260226T202500
DTSTAMP:20260424T035631Z
UID:ff-AFLABS-URNIK:srecanje:58994-2026-02-26 18:00:00+01:00
DESCRIPTION:Predmet: SK1 Popularne kulture\, Lecture\, Seminar (L\, S)\nLe
 tniki: 3rd year (SK1)\, 3rd year (SO1)\nIzvajalci: Jela Krečič Žižek\n
 Prostor: Lecture room 434
END:VEVENT
BEGIN:VEVENT
SUMMARY:SK1 Popularne kulture\, Lecture\, Seminar (L\, S)
DTSTART;TZID=Europe/Ljubljana:20260305T180000
DTEND;TZID=Europe/Ljubljana:20260305T202500
DTSTAMP:20260424T035631Z
UID:ff-AFLABS-URNIK:srecanje:58994-2026-03-05 18:00:00+01:00
DESCRIPTION:Predmet: SK1 Popularne kulture\, Lecture\, Seminar (L\, S)\nLe
 tniki: 3rd year (SK1)\, 3rd year (SO1)\nIzvajalci: Jela Krečič Žižek\n
 Prostor: Lecture room 434
END:VEVENT
BEGIN:VEVENT
SUMMARY:SK1 Popularne kulture\, Lecture\, Seminar (L\, S)
DTSTART;TZID=Europe/Ljubljana:20260312T180000
DTEND;TZID=Europe/Ljubljana:20260312T202500
DTSTAMP:20260424T035631Z
UID:ff-AFLABS-URNIK:srecanje:58994-2026-03-12 18:00:00+01:00
DESCRIPTION:Predmet: SK1 Popularne kulture\, Lecture\, Seminar (L\, S)\nLe
 tniki: 3rd year (SK1)\, 3rd year (SO1)\nIzvajalci: Jela Krečič Žižek\n
 Prostor: Lecture room 434
END:VEVENT
BEGIN:VEVENT
SUMMARY:SK1 Popularne kulture\, Lecture\, Seminar (L\, S)
DTSTART;TZID=Europe/Ljubljana:20260319T180000
DTEND;TZID=Europe/Ljubljana:20260319T202500
DTSTAMP:20260424T035631Z
UID:ff-AFLABS-URNIK:srecanje:58994-2026-03-19 18:00:00+01:00
DESCRIPTION:Predmet: SK1 Popularne kulture\, Lecture\, Seminar (L\, S)\nLe
 tniki: 3rd year (SK1)\, 3rd year (SO1)\nIzvajalci: Jela Krečič Žižek\n
 Prostor: Lecture room 434
END:VEVENT
BEGIN:VEVENT
SUMMARY:SK1 Popularne kulture\, Lecture\, Seminar (L\, S)
DTSTART;TZID=Europe/Ljubljana:20260326T180000
DTEND;TZID=Europe/Ljubljana:20260326T202500
DTSTAMP:20260424T035631Z
UID:ff-AFLABS-URNIK:srecanje:58994-2026-03-26 18:00:00+01:00
DESCRIPTION:Predmet: SK1 Popularne kulture\, Lecture\, Seminar (L\, S)\nLe
 tniki: 3rd year (SK1)\, 3rd year (SO1)\nIzvajalci: Jela Krečič Žižek\n
 Prostor: Lecture room 434
END:VEVENT
BEGIN:VEVENT
SUMMARY:SK1 Popularne kulture\, Lecture\, Seminar (L\, S)
DTSTART;TZID=Europe/Ljubljana:20260402T180000
DTEND;TZID=Europe/Ljubljana:20260402T202500
DTSTAMP:20260424T035631Z
UID:ff-AFLABS-URNIK:srecanje:58994-2026-04-02 18:00:00+02:00
DESCRIPTION:Predmet: SK1 Popularne kulture\, Lecture\, Seminar (L\, S)\nLe
 tniki: 3rd year (SK1)\, 3rd year (SO1)\nIzvajalci: Jela Krečič Žižek\n
 Prostor: Lecture room 434
END:VEVENT
BEGIN:VEVENT
SUMMARY:SK1 Popularne kulture\, Lecture\, Seminar (L\, S)
DTSTART;TZID=Europe/Ljubljana:20260409T180000
DTEND;TZID=Europe/Ljubljana:20260409T202500
DTSTAMP:20260424T035631Z
UID:ff-AFLABS-URNIK:srecanje:58994-2026-04-09 18:00:00+02:00
DESCRIPTION:Predmet: SK1 Popularne kulture\, Lecture\, Seminar (L\, S)\nLe
 tniki: 3rd year (SK1)\, 3rd year (SO1)\nIzvajalci: Jela Krečič Žižek\n
 Prostor: Lecture room 434
END:VEVENT
BEGIN:VEVENT
SUMMARY:SK1 Popularne kulture\, Lecture\, Seminar (L\, S)
DTSTART;TZID=Europe/Ljubljana:20260416T180000
DTEND;TZID=Europe/Ljubljana:20260416T202500
DTSTAMP:20260424T035631Z
UID:ff-AFLABS-URNIK:srecanje:58994-2026-04-16 18:00:00+02:00
DESCRIPTION:Predmet: SK1 Popularne kulture\, Lecture\, Seminar (L\, S)\nLe
 tniki: 3rd year (SK1)\, 3rd year (SO1)\nIzvajalci: Jela Krečič Žižek\n
 Prostor: Lecture room 434
END:VEVENT
BEGIN:VEVENT
SUMMARY:SK1 Popularne kulture\, Lecture\, Seminar (L\, S)
DTSTART;TZID=Europe/Ljubljana:20260423T180000
DTEND;TZID=Europe/Ljubljana:20260423T202500
DTSTAMP:20260424T035631Z
UID:ff-AFLABS-URNIK:srecanje:58994-2026-04-23 18:00:00+02:00
DESCRIPTION:Predmet: SK1 Popularne kulture\, Lecture\, Seminar (L\, S)\nLe
 tniki: 3rd year (SK1)\, 3rd year (SO1)\nIzvajalci: Jela Krečič Žižek\n
 Prostor: Lecture room 434
END:VEVENT
BEGIN:VEVENT
SUMMARY:SK1 Popularne kulture\, Lecture\, Seminar (L\, S)
DTSTART;TZID=Europe/Ljubljana:20260430T180000
DTEND;TZID=Europe/Ljubljana:20260430T202500
DTSTAMP:20260424T035631Z
UID:ff-AFLABS-URNIK:srecanje:58994-2026-04-30 18:00:00+02:00
DESCRIPTION:Predmet: SK1 Popularne kulture\, Lecture\, Seminar (L\, S)\nLe
 tniki: 3rd year (SK1)\, 3rd year (SO1)\nIzvajalci: Jela Krečič Žižek\n
 Prostor: Lecture room 434
END:VEVENT
BEGIN:VEVENT
SUMMARY:SK1 Popularne kulture\, Lecture\, Seminar (L\, S)
DTSTART;TZID=Europe/Ljubljana:20260507T180000
DTEND;TZID=Europe/Ljubljana:20260507T202500
DTSTAMP:20260424T035631Z
UID:ff-AFLABS-URNIK:srecanje:58994-2026-05-07 18:00:00+02:00
DESCRIPTION:Predmet: SK1 Popularne kulture\, Lecture\, Seminar (L\, S)\nLe
 tniki: 3rd year (SK1)\, 3rd year (SO1)\nIzvajalci: Jela Krečič Žižek\n
 Prostor: Lecture room 434
END:VEVENT
BEGIN:VEVENT
SUMMARY:SK1 Popularne kulture\, Lecture\, Seminar (L\, S)
DTSTART;TZID=Europe/Ljubljana:20260514T180000
DTEND;TZID=Europe/Ljubljana:20260514T202500
DTSTAMP:20260424T035631Z
UID:ff-AFLABS-URNIK:srecanje:58994-2026-05-14 18:00:00+02:00
DESCRIPTION:Predmet: SK1 Popularne kulture\, Lecture\, Seminar (L\, S)\nLe
 tniki: 3rd year (SK1)\, 3rd year (SO1)\nIzvajalci: Jela Krečič Žižek\n
 Prostor: Lecture room 434
END:VEVENT
BEGIN:VEVENT
SUMMARY:SK1 Popularne kulture\, Lecture\, Seminar (L\, S)
DTSTART;TZID=Europe/Ljubljana:20260521T180000
DTEND;TZID=Europe/Ljubljana:20260521T202500
DTSTAMP:20260424T035631Z
UID:ff-AFLABS-URNIK:srecanje:58994-2026-05-21 18:00:00+02:00
DESCRIPTION:Predmet: SK1 Popularne kulture\, Lecture\, Seminar (L\, S)\nLe
 tniki: 3rd year (SK1)\, 3rd year (SO1)\nIzvajalci: Jela Krečič Žižek\n
 Prostor: Lecture room 434
END:VEVENT
BEGIN:VEVENT
SUMMARY:SK1 Popularne kulture\, Lecture\, Seminar (L\, S)
DTSTART;TZID=Europe/Ljubljana:20260528T180000
DTEND;TZID=Europe/Ljubljana:20260528T202500
DTSTAMP:20260424T035631Z
UID:ff-AFLABS-URNIK:srecanje:58994-2026-05-28 18:00:00+02:00
DESCRIPTION:Predmet: SK1 Popularne kulture\, Lecture\, Seminar (L\, S)\nLe
 tniki: 3rd year (SK1)\, 3rd year (SO1)\nIzvajalci: Jela Krečič Žižek\n
 Prostor: Lecture room 434
END:VEVENT
BEGIN:VEVENT
SUMMARY:Oddelek za sociologijo
DTSTART;TZID=Europe/Ljubljana:20260616T160000
DTEND;TZID=Europe/Ljubljana:20260616T180000
DTSTAMP:20260424T035631Z
UID:ff-AFLABS-URNIK:rezervacija:76978
CATEGORIES:Reservation
COLOR:royalblue
DESCRIPTION:Predmeti: \nLetniki: \nIzvajalci: Jela Krečič Žižek\nProst
 ori: Lecture room 430
LOCATION:Lecture room 430
ORGANIZER:Jela Krečič Žižek
X-WR-TIMEZONE:Europe/Ljubljana
END:VEVENT
BEGIN:VEVENT
SUMMARY:izpit (R + I): SK1 Popularne kulture\, SK1 Popularne kulture - izr
 .
DTSTART;TZID=Europe/Ljubljana:20260616T160000
DTEND;TZID=Europe/Ljubljana:20260616T180000
DTSTAMP:20260424T035631Z
UID:ff-AFLABS-URNIK:rezervacija:144874
ATTENDEE:3rd year (SK1)
ATTENDEE:3rd year (SO1)
ATTENDEE:3rd year - part time (SK1)
ATTENDEE:3rd year - part time (SO1)
CATEGORIES:Reservation
COLOR:royalblue
DESCRIPTION:Predmeti: SK1 Popularne kulture\, SK1 Popularne kulture\, SK1 
 Popularne kulture - izr.\nLetniki: 3rd year (SK1)\, 3rd year - part time (
 SK1)\, 3rd year (SO1)\, 3rd year - part time (SO1)\nIzvajalci: Jela Kreči
 č Žižek\nProstori: Lecture room 430
LOCATION:Lecture room 430
ORGANIZER:Jela Krečič Žižek
X-WR-TIMEZONE:Europe/Ljubljana
END:VEVENT
END:VCALENDAR
