BEGIN:VCALENDAR
VERSION:2.0
PRODID:-//AFLabs urnik izvoz - ff//aflabs.si//SI
NAME:UL FF Urnik
X-WR-CALNAME:UL FF Urnik
DTSTAMP:20260421T224911Z
REFRESH-INTERVAL:PT1H
SOURCE:https://urnik.ff.uni-lj.si/en/teacher/1863/?day=2026-02-10&export=1
URL:https://urnik.ff.uni-lj.si/en/teacher/1863/?day=2026-02-10&export=1
X-PUBLISHED-TTL:PT1H
X-WR-TIMEZONE:Europe/Ljubljana
BEGIN:VTIMEZONE
TZID:Europe/Ljubljana
BEGIN:DAYLIGHT
DTSTART:20260329T020000
RDATE:20260329T020000
RDATE:20270328T020000
TZNAME:CEST
TZOFFSETFROM:+0100
TZOFFSETTO:+0200
END:DAYLIGHT
BEGIN:STANDARD
DTSTART:20261025T030000
RDATE:20261025T030000
RDATE:20271031T030000
TZNAME:CET
TZOFFSETFROM:+0200
TZOFFSETTO:+0100
END:STANDARD
END:VTIMEZONE
BEGIN:VEVENT
SUMMARY:MAP01 17 Prevodno usmerjene besedilne kompetence v francoskem jezi
 ku II\, Seminar (S)
DTSTART;TZID=Europe/Ljubljana:20260216T080000
DTEND;TZID=Europe/Ljubljana:20260216T094000
DTSTAMP:20260421T224911Z
UID:ff-AFLABS-URNIK:srecanje:57636-2026-02-16 08:00:00+01:00
DESCRIPTION:Predmet: MAP01 17 Prevodno usmerjene besedilne kompetence v fr
 ancoskem jeziku II\, Seminar (S)\nLetniki: 1st year (PR2)\, 1st year (PR2)
 \, 1st year (PRsAF2)\, 1st year (TO2)\, 1st year (TO2)\, 1st year (TO2)\, 
 1st year (TO2)\nIzvajalci: Boštjan Udovič\nProstor: Lecture room 3-Rim.
END:VEVENT
BEGIN:VEVENT
SUMMARY:MAP01 17 Prevodno usmerjene besedilne kompetence v francoskem jezi
 ku II\, Seminar (S)
DTSTART;TZID=Europe/Ljubljana:20260223T080000
DTEND;TZID=Europe/Ljubljana:20260223T094000
DTSTAMP:20260421T224911Z
UID:ff-AFLABS-URNIK:srecanje:57636-2026-02-23 08:00:00+01:00
DESCRIPTION:Predmet: MAP01 17 Prevodno usmerjene besedilne kompetence v fr
 ancoskem jeziku II\, Seminar (S)\nLetniki: 1st year (PR2)\, 1st year (PR2)
 \, 1st year (PRsAF2)\, 1st year (TO2)\, 1st year (TO2)\, 1st year (TO2)\, 
 1st year (TO2)\nIzvajalci: Boštjan Udovič\nProstor: Lecture room 3-Rim.
END:VEVENT
BEGIN:VEVENT
SUMMARY:MAP01 17 Prevodno usmerjene besedilne kompetence v francoskem jezi
 ku II\, Seminar (S)
DTSTART;TZID=Europe/Ljubljana:20260302T080000
DTEND;TZID=Europe/Ljubljana:20260302T094000
DTSTAMP:20260421T224911Z
UID:ff-AFLABS-URNIK:srecanje:57636-2026-03-02 08:00:00+01:00
DESCRIPTION:Predmet: MAP01 17 Prevodno usmerjene besedilne kompetence v fr
 ancoskem jeziku II\, Seminar (S)\nLetniki: 1st year (PR2)\, 1st year (PR2)
 \, 1st year (PRsAF2)\, 1st year (TO2)\, 1st year (TO2)\, 1st year (TO2)\, 
 1st year (TO2)\nIzvajalci: Boštjan Udovič\nProstor: Lecture room 3-Rim.
END:VEVENT
BEGIN:VEVENT
SUMMARY:MAP01 17 Prevodno usmerjene besedilne kompetence v francoskem jezi
 ku II\, Seminar (S)
DTSTART;TZID=Europe/Ljubljana:20260309T080000
DTEND;TZID=Europe/Ljubljana:20260309T094000
DTSTAMP:20260421T224911Z
UID:ff-AFLABS-URNIK:srecanje:57636-2026-03-09 08:00:00+01:00
DESCRIPTION:Predmet: MAP01 17 Prevodno usmerjene besedilne kompetence v fr
 ancoskem jeziku II\, Seminar (S)\nLetniki: 1st year (PR2)\, 1st year (PR2)
 \, 1st year (PRsAF2)\, 1st year (TO2)\, 1st year (TO2)\, 1st year (TO2)\, 
 1st year (TO2)\nIzvajalci: Boštjan Udovič\nProstor: Lecture room 3-Rim.
END:VEVENT
BEGIN:VEVENT
SUMMARY:MAP01 17 Prevodno usmerjene besedilne kompetence v francoskem jezi
 ku II\, Seminar (S)
DTSTART;TZID=Europe/Ljubljana:20260316T080000
DTEND;TZID=Europe/Ljubljana:20260316T094000
DTSTAMP:20260421T224911Z
UID:ff-AFLABS-URNIK:srecanje:57636-2026-03-16 08:00:00+01:00
DESCRIPTION:Predmet: MAP01 17 Prevodno usmerjene besedilne kompetence v fr
 ancoskem jeziku II\, Seminar (S)\nLetniki: 1st year (PR2)\, 1st year (PR2)
 \, 1st year (PRsAF2)\, 1st year (TO2)\, 1st year (TO2)\, 1st year (TO2)\, 
 1st year (TO2)\nIzvajalci: Boštjan Udovič\nProstor: Lecture room 3-Rim.
END:VEVENT
BEGIN:VEVENT
SUMMARY:MAP01 17 Prevodno usmerjene besedilne kompetence v francoskem jezi
 ku II\, Seminar (S)
DTSTART;TZID=Europe/Ljubljana:20260219T080000
DTEND;TZID=Europe/Ljubljana:20260219T093500
DTSTAMP:20260421T224911Z
UID:ff-AFLABS-URNIK:srecanje:57655-2026-02-19 08:00:00+01:00
DESCRIPTION:Predmet: MAP01 17 Prevodno usmerjene besedilne kompetence v fr
 ancoskem jeziku II\, Seminar (S)\nLetniki: 1st year (PR2)\, 1st year (PR2)
 \, 1st year (PRsAF2)\, 1st year (TO2)\, 1st year (TO2)\, 1st year (TO2)\, 
 1st year (TO2)\nIzvajalci: Boštjan Udovič\nProstor: Lecture room 06
END:VEVENT
BEGIN:VEVENT
SUMMARY:MAP01 17 Prevodno usmerjene besedilne kompetence v francoskem jezi
 ku II\, Seminar (S)
DTSTART;TZID=Europe/Ljubljana:20260226T080000
DTEND;TZID=Europe/Ljubljana:20260226T093500
DTSTAMP:20260421T224911Z
UID:ff-AFLABS-URNIK:srecanje:57655-2026-02-26 08:00:00+01:00
DESCRIPTION:Predmet: MAP01 17 Prevodno usmerjene besedilne kompetence v fr
 ancoskem jeziku II\, Seminar (S)\nLetniki: 1st year (PR2)\, 1st year (PR2)
 \, 1st year (PRsAF2)\, 1st year (TO2)\, 1st year (TO2)\, 1st year (TO2)\, 
 1st year (TO2)\nIzvajalci: Boštjan Udovič\nProstor: Lecture room 06
END:VEVENT
BEGIN:VEVENT
SUMMARY:MAP01 17 Prevodno usmerjene besedilne kompetence v francoskem jezi
 ku II\, Seminar (S)
DTSTART;TZID=Europe/Ljubljana:20260305T080000
DTEND;TZID=Europe/Ljubljana:20260305T093500
DTSTAMP:20260421T224911Z
UID:ff-AFLABS-URNIK:srecanje:57655-2026-03-05 08:00:00+01:00
DESCRIPTION:Predmet: MAP01 17 Prevodno usmerjene besedilne kompetence v fr
 ancoskem jeziku II\, Seminar (S)\nLetniki: 1st year (PR2)\, 1st year (PR2)
 \, 1st year (PRsAF2)\, 1st year (TO2)\, 1st year (TO2)\, 1st year (TO2)\, 
 1st year (TO2)\nIzvajalci: Boštjan Udovič\nProstor: Lecture room 06
END:VEVENT
BEGIN:VEVENT
SUMMARY:MAP01 17 Prevodno usmerjene besedilne kompetence v francoskem jezi
 ku II\, Seminar (S)
DTSTART;TZID=Europe/Ljubljana:20260312T080000
DTEND;TZID=Europe/Ljubljana:20260312T093500
DTSTAMP:20260421T224911Z
UID:ff-AFLABS-URNIK:srecanje:57655-2026-03-12 08:00:00+01:00
DESCRIPTION:Predmet: MAP01 17 Prevodno usmerjene besedilne kompetence v fr
 ancoskem jeziku II\, Seminar (S)\nLetniki: 1st year (PR2)\, 1st year (PR2)
 \, 1st year (PRsAF2)\, 1st year (TO2)\, 1st year (TO2)\, 1st year (TO2)\, 
 1st year (TO2)\nIzvajalci: Boštjan Udovič\nProstor: Lecture room 06
END:VEVENT
BEGIN:VEVENT
SUMMARY:MAP01 17 Prevodno usmerjene besedilne kompetence v francoskem jezi
 ku II\, Seminar (S)
DTSTART;TZID=Europe/Ljubljana:20260220T080000
DTEND;TZID=Europe/Ljubljana:20260220T103000
DTSTAMP:20260421T224911Z
UID:ff-AFLABS-URNIK:srecanje:57936-2026-02-20 08:00:00+01:00
DESCRIPTION:Predmet: MAP01 17 Prevodno usmerjene besedilne kompetence v fr
 ancoskem jeziku II\, Seminar (S)\nLetniki: 1st year (PR2)\, 1st year (PR2)
 \, 1st year (PRsAF2)\, 1st year (TO2)\, 1st year (TO2)\, 1st year (TO2)\, 
 1st year (TO2)\nIzvajalci: Boštjan Udovič\nProstor: Lecture room 02
END:VEVENT
BEGIN:VEVENT
SUMMARY:MAP01 17 Prevodno usmerjene besedilne kompetence v francoskem jezi
 ku II\, Seminar (S)
DTSTART;TZID=Europe/Ljubljana:20260227T080000
DTEND;TZID=Europe/Ljubljana:20260227T103000
DTSTAMP:20260421T224911Z
UID:ff-AFLABS-URNIK:srecanje:57936-2026-02-27 08:00:00+01:00
DESCRIPTION:Predmet: MAP01 17 Prevodno usmerjene besedilne kompetence v fr
 ancoskem jeziku II\, Seminar (S)\nLetniki: 1st year (PR2)\, 1st year (PR2)
 \, 1st year (PRsAF2)\, 1st year (TO2)\, 1st year (TO2)\, 1st year (TO2)\, 
 1st year (TO2)\nIzvajalci: Boštjan Udovič\nProstor: Lecture room 02
END:VEVENT
BEGIN:VEVENT
SUMMARY:MAP01 17 Prevodno usmerjene besedilne kompetence v francoskem jezi
 ku II\, Seminar (S)
DTSTART;TZID=Europe/Ljubljana:20260306T080000
DTEND;TZID=Europe/Ljubljana:20260306T103000
DTSTAMP:20260421T224911Z
UID:ff-AFLABS-URNIK:srecanje:57936-2026-03-06 08:00:00+01:00
DESCRIPTION:Predmet: MAP01 17 Prevodno usmerjene besedilne kompetence v fr
 ancoskem jeziku II\, Seminar (S)\nLetniki: 1st year (PR2)\, 1st year (PR2)
 \, 1st year (PRsAF2)\, 1st year (TO2)\, 1st year (TO2)\, 1st year (TO2)\, 
 1st year (TO2)\nIzvajalci: Boštjan Udovič\nProstor: Lecture room 02
END:VEVENT
BEGIN:VEVENT
SUMMARY:MAP01 17 Prevodno usmerjene besedilne kompetence v francoskem jezi
 ku II\, Seminar (S)
DTSTART;TZID=Europe/Ljubljana:20260313T080000
DTEND;TZID=Europe/Ljubljana:20260313T103000
DTSTAMP:20260421T224911Z
UID:ff-AFLABS-URNIK:srecanje:57936-2026-03-13 08:00:00+01:00
DESCRIPTION:Predmet: MAP01 17 Prevodno usmerjene besedilne kompetence v fr
 ancoskem jeziku II\, Seminar (S)\nLetniki: 1st year (PR2)\, 1st year (PR2)
 \, 1st year (PRsAF2)\, 1st year (TO2)\, 1st year (TO2)\, 1st year (TO2)\, 
 1st year (TO2)\nIzvajalci: Boštjan Udovič\nProstor: Lecture room 02
END:VEVENT
END:VCALENDAR
