BEGIN:VCALENDAR
VERSION:2.0
PRODID:-//AFLabs urnik izvoz - ff//aflabs.si//SI
NAME:UL FF Urnik
X-WR-CALNAME:UL FF Urnik
DTSTAMP:20260424T201514Z
REFRESH-INTERVAL:PT1H
SOURCE:https://urnik.ff.uni-lj.si/en/teacher/1950/?day=2026-02-09&export=1
URL:https://urnik.ff.uni-lj.si/en/teacher/1950/?day=2026-02-09&export=1
X-PUBLISHED-TTL:PT1H
X-WR-TIMEZONE:Europe/Ljubljana
BEGIN:VTIMEZONE
TZID:Europe/Ljubljana
BEGIN:DAYLIGHT
DTSTART:20260329T020000
RDATE:20260329T020000
RDATE:20270328T020000
TZNAME:CEST
TZOFFSETFROM:+0100
TZOFFSETTO:+0200
END:DAYLIGHT
BEGIN:STANDARD
DTSTART:20261025T030000
RDATE:20261025T030000
RDATE:20271031T030000
TZNAME:CET
TZOFFSETFROM:+0200
TZOFFSETTO:+0100
END:STANDARD
END:VTIMEZONE
BEGIN:VEVENT
SUMMARY:PR1 312Francoščina za prevajalce VI\, Tutorial (T)
DTSTART;TZID=Europe/Ljubljana:20260217T144000
DTEND;TZID=Europe/Ljubljana:20260217T161500
DTSTAMP:20260424T201514Z
UID:ff-AFLABS-URNIK:srecanje:59214-2026-02-17 14:40:00+01:00
DESCRIPTION:Predmet: PR1 312Francoščina za prevajalce VI\, Tutorial (T)\
 nLetniki: 3rd year (PRE1)\, 3rd year (PRE1)\nIzvajalci: Simona Šumrada\nP
 rostor: Computer lab 011
END:VEVENT
BEGIN:VEVENT
SUMMARY:PR1 312Francoščina za prevajalce VI\, Tutorial (T)
DTSTART;TZID=Europe/Ljubljana:20260224T144000
DTEND;TZID=Europe/Ljubljana:20260224T161500
DTSTAMP:20260424T201514Z
UID:ff-AFLABS-URNIK:srecanje:59214-2026-02-24 14:40:00+01:00
DESCRIPTION:Predmet: PR1 312Francoščina za prevajalce VI\, Tutorial (T)\
 nLetniki: 3rd year (PRE1)\, 3rd year (PRE1)\nIzvajalci: Simona Šumrada\nP
 rostor: Computer lab 011
END:VEVENT
BEGIN:VEVENT
SUMMARY:PR1 312Francoščina za prevajalce VI\, Tutorial (T)
DTSTART;TZID=Europe/Ljubljana:20260303T144000
DTEND;TZID=Europe/Ljubljana:20260303T161500
DTSTAMP:20260424T201514Z
UID:ff-AFLABS-URNIK:srecanje:59214-2026-03-03 14:40:00+01:00
DESCRIPTION:Predmet: PR1 312Francoščina za prevajalce VI\, Tutorial (T)\
 nLetniki: 3rd year (PRE1)\, 3rd year (PRE1)\nIzvajalci: Simona Šumrada\nP
 rostor: Computer lab 011
END:VEVENT
BEGIN:VEVENT
SUMMARY:PR1 312Francoščina za prevajalce VI\, Tutorial (T)
DTSTART;TZID=Europe/Ljubljana:20260310T144000
DTEND;TZID=Europe/Ljubljana:20260310T161500
DTSTAMP:20260424T201514Z
UID:ff-AFLABS-URNIK:srecanje:59214-2026-03-10 14:40:00+01:00
DESCRIPTION:Predmet: PR1 312Francoščina za prevajalce VI\, Tutorial (T)\
 nLetniki: 3rd year (PRE1)\, 3rd year (PRE1)\nIzvajalci: Simona Šumrada\nP
 rostor: Computer lab 011
END:VEVENT
BEGIN:VEVENT
SUMMARY:PR1 111Slovensko-francosko prevajanje I\, Tutorial (T)
DTSTART;TZID=Europe/Ljubljana:20260217T130000
DTEND;TZID=Europe/Ljubljana:20260217T143500
DTSTAMP:20260424T201514Z
UID:ff-AFLABS-URNIK:srecanje:59232-2026-02-17 13:00:00+01:00
DESCRIPTION:Predmet: PR1 111Slovensko-francosko prevajanje I\, Tutorial (T
 )\nLetniki: 1st year (PRE1)\, 1st year (PRE1)\nIzvajalci: Simona Šumrada\
 nProstor: Lecture room 533
END:VEVENT
BEGIN:VEVENT
SUMMARY:PR1 111Slovensko-francosko prevajanje I\, Tutorial (T)
DTSTART;TZID=Europe/Ljubljana:20260224T130000
DTEND;TZID=Europe/Ljubljana:20260224T143500
DTSTAMP:20260424T201514Z
UID:ff-AFLABS-URNIK:srecanje:59232-2026-02-24 13:00:00+01:00
DESCRIPTION:Predmet: PR1 111Slovensko-francosko prevajanje I\, Tutorial (T
 )\nLetniki: 1st year (PRE1)\, 1st year (PRE1)\nIzvajalci: Simona Šumrada\
 nProstor: Lecture room 533
END:VEVENT
BEGIN:VEVENT
SUMMARY:PR1 111Slovensko-francosko prevajanje I\, Tutorial (T)
DTSTART;TZID=Europe/Ljubljana:20260303T130000
DTEND;TZID=Europe/Ljubljana:20260303T143500
DTSTAMP:20260424T201514Z
UID:ff-AFLABS-URNIK:srecanje:59232-2026-03-03 13:00:00+01:00
DESCRIPTION:Predmet: PR1 111Slovensko-francosko prevajanje I\, Tutorial (T
 )\nLetniki: 1st year (PRE1)\, 1st year (PRE1)\nIzvajalci: Simona Šumrada\
 nProstor: Lecture room 533
END:VEVENT
BEGIN:VEVENT
SUMMARY:PR1 111Slovensko-francosko prevajanje I\, Tutorial (T)
DTSTART;TZID=Europe/Ljubljana:20260310T130000
DTEND;TZID=Europe/Ljubljana:20260310T143500
DTSTAMP:20260424T201514Z
UID:ff-AFLABS-URNIK:srecanje:59232-2026-03-10 13:00:00+01:00
DESCRIPTION:Predmet: PR1 111Slovensko-francosko prevajanje I\, Tutorial (T
 )\nLetniki: 1st year (PRE1)\, 1st year (PRE1)\nIzvajalci: Simona Šumrada\
 nProstor: Lecture room 533
END:VEVENT
BEGIN:VEVENT
SUMMARY:PR1 111Francoski jezik in tvorjenje besedil\, Other (O)
DTSTART;TZID=Europe/Ljubljana:20260220T080000
DTEND;TZID=Europe/Ljubljana:20260220T093500
DTSTAMP:20260424T201514Z
UID:ff-AFLABS-URNIK:srecanje:55494-2026-02-20 08:00:00+01:00
DESCRIPTION:Predmet: PR1 111Francoski jezik in tvorjenje besedil\, Other (
 O)\nLetniki: 1st year (PRE1)\, 1st year (PRE1)\nIzvajalci: Simona Šumrada
 \nProstor: Phono lab 12
END:VEVENT
BEGIN:VEVENT
SUMMARY:PR1 111Francoski jezik in tvorjenje besedil\, Other (O)
DTSTART;TZID=Europe/Ljubljana:20260227T080000
DTEND;TZID=Europe/Ljubljana:20260227T093500
DTSTAMP:20260424T201514Z
UID:ff-AFLABS-URNIK:srecanje:55494-2026-02-27 08:00:00+01:00
DESCRIPTION:Predmet: PR1 111Francoski jezik in tvorjenje besedil\, Other (
 O)\nLetniki: 1st year (PRE1)\, 1st year (PRE1)\nIzvajalci: Simona Šumrada
 \nProstor: Phono lab 12
END:VEVENT
BEGIN:VEVENT
SUMMARY:PR1 111Francoski jezik in tvorjenje besedil\, Other (O)
DTSTART;TZID=Europe/Ljubljana:20260306T080000
DTEND;TZID=Europe/Ljubljana:20260306T093500
DTSTAMP:20260424T201514Z
UID:ff-AFLABS-URNIK:srecanje:55494-2026-03-06 08:00:00+01:00
DESCRIPTION:Predmet: PR1 111Francoski jezik in tvorjenje besedil\, Other (
 O)\nLetniki: 1st year (PRE1)\, 1st year (PRE1)\nIzvajalci: Simona Šumrada
 \nProstor: Phono lab 12
END:VEVENT
BEGIN:VEVENT
SUMMARY:PR1 111Francoski jezik in tvorjenje besedil\, Other (O)
DTSTART;TZID=Europe/Ljubljana:20260313T080000
DTEND;TZID=Europe/Ljubljana:20260313T093500
DTSTAMP:20260424T201514Z
UID:ff-AFLABS-URNIK:srecanje:55494-2026-03-13 08:00:00+01:00
DESCRIPTION:Predmet: PR1 111Francoski jezik in tvorjenje besedil\, Other (
 O)\nLetniki: 1st year (PRE1)\, 1st year (PRE1)\nIzvajalci: Simona Šumrada
 \nProstor: Phono lab 12
END:VEVENT
BEGIN:VEVENT
SUMMARY:PR1 111Francoski jezik in tvorjenje besedil\, Other (O)
DTSTART;TZID=Europe/Ljubljana:20260220T130000
DTEND;TZID=Europe/Ljubljana:20260220T143500
DTSTAMP:20260424T201514Z
UID:ff-AFLABS-URNIK:srecanje:58197-2026-02-20 13:00:00+01:00
DESCRIPTION:Predmet: PR1 111Francoski jezik in tvorjenje besedil\, Other (
 O)\nLetniki: 1st year (PRE1)\, 1st year (PRE1)\nIzvajalci: Simona Šumrada
 \nProstor: Lecture room 404
END:VEVENT
BEGIN:VEVENT
SUMMARY:PR1 111Francoski jezik in tvorjenje besedil\, Other (O)
DTSTART;TZID=Europe/Ljubljana:20260227T130000
DTEND;TZID=Europe/Ljubljana:20260227T143500
DTSTAMP:20260424T201514Z
UID:ff-AFLABS-URNIK:srecanje:58197-2026-02-27 13:00:00+01:00
DESCRIPTION:Predmet: PR1 111Francoski jezik in tvorjenje besedil\, Other (
 O)\nLetniki: 1st year (PRE1)\, 1st year (PRE1)\nIzvajalci: Simona Šumrada
 \nProstor: Lecture room 404
END:VEVENT
BEGIN:VEVENT
SUMMARY:PR1 111Francoski jezik in tvorjenje besedil\, Other (O)
DTSTART;TZID=Europe/Ljubljana:20260306T130000
DTEND;TZID=Europe/Ljubljana:20260306T143500
DTSTAMP:20260424T201514Z
UID:ff-AFLABS-URNIK:srecanje:58197-2026-03-06 13:00:00+01:00
DESCRIPTION:Predmet: PR1 111Francoski jezik in tvorjenje besedil\, Other (
 O)\nLetniki: 1st year (PRE1)\, 1st year (PRE1)\nIzvajalci: Simona Šumrada
 \nProstor: Lecture room 404
END:VEVENT
BEGIN:VEVENT
SUMMARY:PR1 111Francoski jezik in tvorjenje besedil\, Other (O)
DTSTART;TZID=Europe/Ljubljana:20260313T130000
DTEND;TZID=Europe/Ljubljana:20260313T143500
DTSTAMP:20260424T201514Z
UID:ff-AFLABS-URNIK:srecanje:58197-2026-03-13 13:00:00+01:00
DESCRIPTION:Predmet: PR1 111Francoski jezik in tvorjenje besedil\, Other (
 O)\nLetniki: 1st year (PRE1)\, 1st year (PRE1)\nIzvajalci: Simona Šumrada
 \nProstor: Lecture room 404
END:VEVENT
BEGIN:VEVENT
SUMMARY:PR1 111Slovensko-francosko prevajanje I\, Tutorial (T)
DTSTART;TZID=Europe/Ljubljana:20260220T080000
DTEND;TZID=Europe/Ljubljana:20260220T093500
DTSTAMP:20260424T201514Z
UID:ff-AFLABS-URNIK:srecanje:59318-2026-02-20 08:00:00+01:00
DESCRIPTION:Predmet: PR1 111Slovensko-francosko prevajanje I\, Tutorial (T
 )\nLetniki: 1st year (PRE1)\, 1st year (PRE1)\nIzvajalci: Simona Šumrada\
 nProstor: Lecture room 3-Rim.
END:VEVENT
BEGIN:VEVENT
SUMMARY:PR1 111Slovensko-francosko prevajanje I\, Tutorial (T)
DTSTART;TZID=Europe/Ljubljana:20260227T080000
DTEND;TZID=Europe/Ljubljana:20260227T093500
DTSTAMP:20260424T201514Z
UID:ff-AFLABS-URNIK:srecanje:59318-2026-02-27 08:00:00+01:00
DESCRIPTION:Predmet: PR1 111Slovensko-francosko prevajanje I\, Tutorial (T
 )\nLetniki: 1st year (PRE1)\, 1st year (PRE1)\nIzvajalci: Simona Šumrada\
 nProstor: Lecture room 3-Rim.
END:VEVENT
BEGIN:VEVENT
SUMMARY:PR1 111Slovensko-francosko prevajanje I\, Tutorial (T)
DTSTART;TZID=Europe/Ljubljana:20260306T080000
DTEND;TZID=Europe/Ljubljana:20260306T093500
DTSTAMP:20260424T201514Z
UID:ff-AFLABS-URNIK:srecanje:59318-2026-03-06 08:00:00+01:00
DESCRIPTION:Predmet: PR1 111Slovensko-francosko prevajanje I\, Tutorial (T
 )\nLetniki: 1st year (PRE1)\, 1st year (PRE1)\nIzvajalci: Simona Šumrada\
 nProstor: Lecture room 3-Rim.
END:VEVENT
BEGIN:VEVENT
SUMMARY:PR1 111Slovensko-francosko prevajanje I\, Tutorial (T)
DTSTART;TZID=Europe/Ljubljana:20260313T080000
DTEND;TZID=Europe/Ljubljana:20260313T093500
DTSTAMP:20260424T201514Z
UID:ff-AFLABS-URNIK:srecanje:59318-2026-03-13 08:00:00+01:00
DESCRIPTION:Predmet: PR1 111Slovensko-francosko prevajanje I\, Tutorial (T
 )\nLetniki: 1st year (PRE1)\, 1st year (PRE1)\nIzvajalci: Simona Šumrada\
 nProstor: Lecture room 3-Rim.
END:VEVENT
BEGIN:VEVENT
SUMMARY:Oddelek za prevajalstvo
DTSTART;TZID=Europe/Ljubljana:20260128T130000
DTEND;TZID=Europe/Ljubljana:20260128T150000
DTSTAMP:20260424T201514Z
UID:ff-AFLABS-URNIK:rezervacija:79132
CATEGORIES:Reservation
COLOR:royalblue
DESCRIPTION:Predmeti: \nLetniki: \nIzvajalci: Simona Šumrada\nProstori: L
 ecture room 05
LOCATION:Lecture room 05
ORGANIZER:Simona Šumrada
X-WR-TIMEZONE:Europe/Ljubljana
END:VEVENT
BEGIN:VEVENT
SUMMARY:Oddelek za prevajalstvo
DTSTART;TZID=Europe/Ljubljana:20260130T140000
DTEND;TZID=Europe/Ljubljana:20260130T160000
DTSTAMP:20260424T201514Z
UID:ff-AFLABS-URNIK:rezervacija:79136
CATEGORIES:Reservation
COLOR:royalblue
DESCRIPTION:Predmeti: \nLetniki: \nIzvajalci: Simona Šumrada\nProstori: L
 ecture room 05
LOCATION:Lecture room 05
ORGANIZER:Simona Šumrada
X-WR-TIMEZONE:Europe/Ljubljana
END:VEVENT
BEGIN:VEVENT
SUMMARY:izpit (R + I): PR1 312Francoski jezik in tvorjenje besedil 2
DTSTART;TZID=Europe/Ljubljana:20260128T130000
DTEND;TZID=Europe/Ljubljana:20260128T150000
DTSTAMP:20260424T201514Z
UID:ff-AFLABS-URNIK:rezervacija:144909
ATTENDEE:3rd year (PRE1)
CATEGORIES:Reservation
COLOR:royalblue
DESCRIPTION:Predmeti: PR1 312Francoski jezik in tvorjenje besedil 2\nLetni
 ki: 3rd year (PRE1)\, 3rd year (PRE1)\nIzvajalci: Simona Šumrada\nProstor
 i: Lecture room 05
LOCATION:Lecture room 05
ORGANIZER:Simona Šumrada
X-WR-TIMEZONE:Europe/Ljubljana
END:VEVENT
BEGIN:VEVENT
SUMMARY:izpit (R + I): PR1 111Francoski jezik in tvorjenje besedil
DTSTART;TZID=Europe/Ljubljana:20260130T140000
DTEND;TZID=Europe/Ljubljana:20260130T160000
DTSTAMP:20260424T201514Z
UID:ff-AFLABS-URNIK:rezervacija:150370
ATTENDEE:1st year (PRE1)
CATEGORIES:Reservation
COLOR:royalblue
DESCRIPTION:Predmeti: PR1 111Francoski jezik in tvorjenje besedil\nLetniki
 : 1st year (PRE1)\, 1st year (PRE1)\nIzvajalci: Simona Šumrada\nProstori:
  Lecture room 05
LOCATION:Lecture room 05
ORGANIZER:Simona Šumrada
X-WR-TIMEZONE:Europe/Ljubljana
END:VEVENT
END:VCALENDAR
