BEGIN:VCALENDAR
VERSION:2.0
PRODID:-//AFLabs urnik izvoz - ff//aflabs.si//SI
NAME:UL FF Urnik
X-WR-CALNAME:UL FF Urnik
DTSTAMP:20260421T045739Z
REFRESH-INTERVAL:PT1H
SOURCE:https://urnik.ff.uni-lj.si/en/teacher/318/?day=2026-06-02&export=1
URL:https://urnik.ff.uni-lj.si/en/teacher/318/?day=2026-06-02&export=1
X-PUBLISHED-TTL:PT1H
X-WR-TIMEZONE:Europe/Ljubljana
BEGIN:VTIMEZONE
TZID:Europe/Ljubljana
BEGIN:DAYLIGHT
DTSTART:20260329T020000
RDATE:20260329T020000
RDATE:20270328T020000
TZNAME:CEST
TZOFFSETFROM:+0100
TZOFFSETTO:+0200
END:DAYLIGHT
BEGIN:STANDARD
DTSTART:20261025T030000
RDATE:20261025T030000
RDATE:20271031T030000
TZNAME:CET
TZOFFSETFROM:+0200
TZOFFSETTO:+0100
END:STANDARD
END:VTIMEZONE
BEGIN:VEVENT
SUMMARY:izpit (R + I): MU1 Zgodovina glasbe 3 (Izbrana glasbena dela in po
 etike skladateljev 20. in 21. stoletja) E
DTSTART;TZID=Europe/Ljubljana:20260617T090000
DTEND;TZID=Europe/Ljubljana:20260617T130000
DTSTAMP:20260421T045739Z
UID:ff-AFLABS-URNIK:rezervacija:146605
ATTENDEE:3rd year (MU1)
CATEGORIES:Reservation
COLOR:royalblue
DESCRIPTION:Predmeti: MU1 Zgodovina glasbe 3 (Izbrana glasbena dela in poe
 tike skladateljev 20. in 21. stoletja) E\, MU1 Zgodovina glasbe 3 (Izbrana
  glasbena dela in poetike skladateljev 20. in 21. stoletja) E\nLetniki: 3r
 d year (MU1)\nIzvajalci: Gregor Pompe\nProstori: Office 537
LOCATION:Office 537
ORGANIZER:Gregor Pompe
X-WR-TIMEZONE:Europe/Ljubljana
END:VEVENT
BEGIN:VEVENT
SUMMARY:izpit (R + I): MU2 Glasbeno gledališče 3 E
DTSTART;TZID=Europe/Ljubljana:20260603T090000
DTEND;TZID=Europe/Ljubljana:20260603T130000
DTSTAMP:20260421T045739Z
UID:ff-AFLABS-URNIK:rezervacija:146630
ATTENDEE:1st year (MU2)
ATTENDEE:2nd year (MU2)
CATEGORIES:Reservation
COLOR:royalblue
DESCRIPTION:Predmeti: MU2 Glasbeno gledališče 3 E\, MU2 Glasbeno gledali
 šče 3 E\nLetniki: 1st year (MU2)\, 2nd year (MU2)\nIzvajalci: Gregor Pom
 pe\nProstori: Office 537
LOCATION:Office 537
ORGANIZER:Gregor Pompe
X-WR-TIMEZONE:Europe/Ljubljana
END:VEVENT
BEGIN:VEVENT
SUMMARY:izpit (R + I): MU2 Glasbeno gledališče 2 E
DTSTART;TZID=Europe/Ljubljana:20260603T090000
DTEND;TZID=Europe/Ljubljana:20260603T130000
DTSTAMP:20260421T045739Z
UID:ff-AFLABS-URNIK:rezervacija:146629
ATTENDEE:1st year (MU2)
ATTENDEE:2nd year (MU2)
CATEGORIES:Reservation
COLOR:royalblue
DESCRIPTION:Predmeti: MU2 Glasbeno gledališče 2 E\, MU2 Glasbeno gledali
 šče 2 E\nLetniki: 1st year (MU2)\, 2nd year (MU2)\nIzvajalci: Gregor Pom
 pe\nProstori: Office 537
LOCATION:Office 537
ORGANIZER:Gregor Pompe
X-WR-TIMEZONE:Europe/Ljubljana
END:VEVENT
BEGIN:VEVENT
SUMMARY:izpit (R + I): MU2 Glasbeno gledališče 1 E
DTSTART;TZID=Europe/Ljubljana:20260617T090000
DTEND;TZID=Europe/Ljubljana:20260617T130000
DTSTAMP:20260421T045739Z
UID:ff-AFLABS-URNIK:rezervacija:146603
ATTENDEE:1st year (MU2)
ATTENDEE:2nd year (MU2)
CATEGORIES:Reservation
COLOR:royalblue
DESCRIPTION:Predmeti: MU2 Glasbeno gledališče 1 E\, MU2 Glasbeno gledali
 šče 1 E\nLetniki: 1st year (MU2)\, 2nd year (MU2)\nIzvajalci: Gregor Pom
 pe\nProstori: Office 537
LOCATION:Office 537
ORGANIZER:Gregor Pompe
X-WR-TIMEZONE:Europe/Ljubljana
END:VEVENT
BEGIN:VEVENT
SUMMARY:izpit (R + I): MU1 Glasbeni stavek 4 2019/20 - seminar
DTSTART;TZID=Europe/Ljubljana:20260603T090000
DTEND;TZID=Europe/Ljubljana:20260603T130000
DTSTAMP:20260421T045739Z
UID:ff-AFLABS-URNIK:rezervacija:146635
CATEGORIES:Reservation
COLOR:royalblue
DESCRIPTION:Predmeti: MU1 Glasbeni stavek 4 2019/20 - seminar\nLetniki: \n
 Izvajalci: Gregor Pompe\nProstori: Office 537
LOCATION:Office 537
ORGANIZER:Gregor Pompe
X-WR-TIMEZONE:Europe/Ljubljana
END:VEVENT
BEGIN:VEVENT
SUMMARY:izpit (R + I): MU2 Glasbeno gledališče 2 D 2022/23
DTSTART;TZID=Europe/Ljubljana:20260603T090000
DTEND;TZID=Europe/Ljubljana:20260603T130000
DTSTAMP:20260421T045739Z
UID:ff-AFLABS-URNIK:rezervacija:146633
ATTENDEE:1st year (MU2)
ATTENDEE:2nd year (MU2)
CATEGORIES:Reservation
COLOR:royalblue
DESCRIPTION:Predmeti: MU2 Glasbeno gledališče 2 D 2022/23\, MU2 Glasbeno
  gledališče 2 D 2022/23\nLetniki: 1st year (MU2)\, 2nd year (MU2)\nIzvaj
 alci: Gregor Pompe\nProstori: Office 537
LOCATION:Office 537
ORGANIZER:Gregor Pompe
X-WR-TIMEZONE:Europe/Ljubljana
END:VEVENT
BEGIN:VEVENT
SUMMARY:izpit (R + I): MU1 Zgodovina glasbe 3 (Izbrana glasbena dela in po
 etike skladateljev 20. in 21. stoletja) E
DTSTART;TZID=Europe/Ljubljana:20260603T090000
DTEND;TZID=Europe/Ljubljana:20260603T130000
DTSTAMP:20260421T045739Z
UID:ff-AFLABS-URNIK:rezervacija:146631
ATTENDEE:3rd year (MU1)
CATEGORIES:Reservation
COLOR:royalblue
DESCRIPTION:Predmeti: MU1 Zgodovina glasbe 3 (Izbrana glasbena dela in poe
 tike skladateljev 20. in 21. stoletja) E\, MU1 Zgodovina glasbe 3 (Izbrana
  glasbena dela in poetike skladateljev 20. in 21. stoletja) E\nLetniki: 3r
 d year (MU1)\nIzvajalci: Gregor Pompe\nProstori: Office 537
LOCATION:Office 537
ORGANIZER:Gregor Pompe
X-WR-TIMEZONE:Europe/Ljubljana
END:VEVENT
BEGIN:VEVENT
SUMMARY:izpit (R + I): MU1 Zgodovina glasbe 3 (Izbrana glasbena dela in po
 etike skladateljev 20. in 21. stoletja) D
DTSTART;TZID=Europe/Ljubljana:20260617T090000
DTEND;TZID=Europe/Ljubljana:20260617T130000
DTSTAMP:20260421T045739Z
UID:ff-AFLABS-URNIK:rezervacija:146606
ATTENDEE:3rd year (MU1)
CATEGORIES:Reservation
COLOR:royalblue
DESCRIPTION:Predmeti: MU1 Zgodovina glasbe 3 (Izbrana glasbena dela in poe
 tike skladateljev 20. in 21. stoletja) D\, MU1 Zgodovina glasbe 3 (Izbrana
  glasbena dela in poetike skladateljev 20. in 21. stoletja) D\nLetniki: 3r
 d year (MU1)\nIzvajalci: Gregor Pompe\nProstori: Office 537
LOCATION:Office 537
ORGANIZER:Gregor Pompe
X-WR-TIMEZONE:Europe/Ljubljana
END:VEVENT
BEGIN:VEVENT
SUMMARY:izpit (R + I): MU1 Psihologija glasbe
DTSTART;TZID=Europe/Ljubljana:20260602T090000
DTEND;TZID=Europe/Ljubljana:20260602T130000
DTSTAMP:20260421T045739Z
UID:ff-AFLABS-URNIK:rezervacija:146597
ATTENDEE:1st year (MU1)
ATTENDEE:2nd year (MU1)
ATTENDEE:3rd year (MU1)
CATEGORIES:Reservation
COLOR:royalblue
DESCRIPTION:Predmeti: MU1 Psihologija glasbe\, MU1 Psihologija glasbe\nLet
 niki: 1st year (MU1)\, 2nd year (MU1)\, 2nd year (MU1)\, 3rd year (MU1)\nI
 zvajalci: Gregor Pompe\nProstori: Office 537
LOCATION:Office 537
ORGANIZER:Gregor Pompe
X-WR-TIMEZONE:Europe/Ljubljana
END:VEVENT
BEGIN:VEVENT
SUMMARY:izpit (R + I): MU1 Glasbeni stavek 4 2019/20 - seminar
DTSTART;TZID=Europe/Ljubljana:20260617T090000
DTEND;TZID=Europe/Ljubljana:20260617T130000
DTSTAMP:20260421T045739Z
UID:ff-AFLABS-URNIK:rezervacija:146608
CATEGORIES:Reservation
COLOR:royalblue
DESCRIPTION:Predmeti: MU1 Glasbeni stavek 4 2019/20 - seminar\nLetniki: \n
 Izvajalci: Gregor Pompe\nProstori: Office 537
LOCATION:Office 537
ORGANIZER:Gregor Pompe
X-WR-TIMEZONE:Europe/Ljubljana
END:VEVENT
BEGIN:VEVENT
SUMMARY:izpit (R + I): MU2 Glasbeno gledališče 3 E
DTSTART;TZID=Europe/Ljubljana:20260617T090000
DTEND;TZID=Europe/Ljubljana:20260617T130000
DTSTAMP:20260421T045739Z
UID:ff-AFLABS-URNIK:rezervacija:146637
ATTENDEE:1st year (MU2)
ATTENDEE:2nd year (MU2)
CATEGORIES:Reservation
COLOR:royalblue
DESCRIPTION:Predmeti: MU2 Glasbeno gledališče 3 E\, MU2 Glasbeno gledali
 šče 3 E\nLetniki: 1st year (MU2)\, 2nd year (MU2)\nIzvajalci: Gregor Pom
 pe\nProstori: Office 537
LOCATION:Office 537
ORGANIZER:Gregor Pompe
X-WR-TIMEZONE:Europe/Ljubljana
END:VEVENT
BEGIN:VEVENT
SUMMARY:izpit (R + I): MU1 Psihologija glasbe
DTSTART;TZID=Europe/Ljubljana:20260616T090000
DTEND;TZID=Europe/Ljubljana:20260616T130000
DTSTAMP:20260421T045739Z
UID:ff-AFLABS-URNIK:rezervacija:146513
ATTENDEE:1st year (MU1)
ATTENDEE:2nd year (MU1)
ATTENDEE:3rd year (MU1)
CATEGORIES:Reservation
COLOR:royalblue
DESCRIPTION:Predmeti: MU1 Psihologija glasbe\, MU1 Psihologija glasbe\nLet
 niki: 1st year (MU1)\, 2nd year (MU1)\, 2nd year (MU1)\, 3rd year (MU1)\nI
 zvajalci: Gregor Pompe\nProstori: Office 537
LOCATION:Office 537
ORGANIZER:Gregor Pompe
X-WR-TIMEZONE:Europe/Ljubljana
END:VEVENT
BEGIN:VEVENT
SUMMARY:izpit (R + I): MU2 Glasbeno gledališče 3 D 2022/23
DTSTART;TZID=Europe/Ljubljana:20260617T090000
DTEND;TZID=Europe/Ljubljana:20260617T130000
DTSTAMP:20260421T045739Z
UID:ff-AFLABS-URNIK:rezervacija:146638
ATTENDEE:1st year (MU2)
ATTENDEE:2nd year (MU2)
CATEGORIES:Reservation
COLOR:royalblue
DESCRIPTION:Predmeti: MU2 Glasbeno gledališče 3 D 2022/23\, MU2 Glasbeno
  gledališče 3 D 2022/23\nLetniki: 1st year (MU2)\, 2nd year (MU2)\nIzvaj
 alci: Gregor Pompe\nProstori: Office 537
LOCATION:Office 537
ORGANIZER:Gregor Pompe
X-WR-TIMEZONE:Europe/Ljubljana
END:VEVENT
BEGIN:VEVENT
SUMMARY:izpit (R + I): MU2 Glasbeno gledališče 1 D 2022/23
DTSTART;TZID=Europe/Ljubljana:20260617T090000
DTEND;TZID=Europe/Ljubljana:20260617T130000
DTSTAMP:20260421T045739Z
UID:ff-AFLABS-URNIK:rezervacija:146604
ATTENDEE:1st year (MU2)
ATTENDEE:2nd year (MU2)
CATEGORIES:Reservation
COLOR:royalblue
DESCRIPTION:Predmeti: MU2 Glasbeno gledališče 1 D 2022/23\, MU2 Glasbeno
  gledališče 1 D 2022/23\nLetniki: 1st year (MU2)\, 2nd year (MU2)\nIzvaj
 alci: Gregor Pompe\nProstori: Office 537
LOCATION:Office 537
ORGANIZER:Gregor Pompe
X-WR-TIMEZONE:Europe/Ljubljana
END:VEVENT
BEGIN:VEVENT
SUMMARY:izpit (R + I): MU2 Glasbeno gledališče 2 E
DTSTART;TZID=Europe/Ljubljana:20260617T090000
DTEND;TZID=Europe/Ljubljana:20260617T130000
DTSTAMP:20260421T045739Z
UID:ff-AFLABS-URNIK:rezervacija:146636
ATTENDEE:1st year (MU2)
ATTENDEE:2nd year (MU2)
CATEGORIES:Reservation
COLOR:royalblue
DESCRIPTION:Predmeti: MU2 Glasbeno gledališče 2 E\, MU2 Glasbeno gledali
 šče 2 E\nLetniki: 1st year (MU2)\, 2nd year (MU2)\nIzvajalci: Gregor Pom
 pe\nProstori: Office 537
LOCATION:Office 537
ORGANIZER:Gregor Pompe
X-WR-TIMEZONE:Europe/Ljubljana
END:VEVENT
BEGIN:VEVENT
SUMMARY:izpit (R + I): MU2 Glasbeno gledališče 3 D 2022/23
DTSTART;TZID=Europe/Ljubljana:20260603T090000
DTEND;TZID=Europe/Ljubljana:20260603T100000
DTSTAMP:20260421T045739Z
UID:ff-AFLABS-URNIK:rezervacija:146634
ATTENDEE:1st year (MU2)
ATTENDEE:2nd year (MU2)
CATEGORIES:Reservation
COLOR:royalblue
DESCRIPTION:Predmeti: MU2 Glasbeno gledališče 3 D 2022/23\, MU2 Glasbeno
  gledališče 3 D 2022/23\nLetniki: 1st year (MU2)\, 2nd year (MU2)\nIzvaj
 alci: Gregor Pompe\nProstori: Office 537
LOCATION:Office 537
ORGANIZER:Gregor Pompe
X-WR-TIMEZONE:Europe/Ljubljana
END:VEVENT
BEGIN:VEVENT
SUMMARY:izpit (R + I): MU2 Glasbeno gledališče 1 E
DTSTART;TZID=Europe/Ljubljana:20260603T090000
DTEND;TZID=Europe/Ljubljana:20260603T130000
DTSTAMP:20260421T045739Z
UID:ff-AFLABS-URNIK:rezervacija:146512
ATTENDEE:1st year (MU2)
ATTENDEE:2nd year (MU2)
CATEGORIES:Reservation
COLOR:royalblue
DESCRIPTION:Predmeti: MU2 Glasbeno gledališče 1 E\, MU2 Glasbeno gledali
 šče 1 E\nLetniki: 1st year (MU2)\, 2nd year (MU2)\nIzvajalci: Gregor Pom
 pe\nProstori: Office 537
LOCATION:Office 537
ORGANIZER:Gregor Pompe
X-WR-TIMEZONE:Europe/Ljubljana
END:VEVENT
BEGIN:VEVENT
SUMMARY:izpit (R + I): MU1 Zgodovina glasbe 3 (Izbrana glasbena dela in po
 etike skladateljev 20. in 21. stoletja) D
DTSTART;TZID=Europe/Ljubljana:20260603T090000
DTEND;TZID=Europe/Ljubljana:20260603T130000
DTSTAMP:20260421T045739Z
UID:ff-AFLABS-URNIK:rezervacija:146632
ATTENDEE:3rd year (MU1)
CATEGORIES:Reservation
COLOR:royalblue
DESCRIPTION:Predmeti: MU1 Zgodovina glasbe 3 (Izbrana glasbena dela in poe
 tike skladateljev 20. in 21. stoletja) D\, MU1 Zgodovina glasbe 3 (Izbrana
  glasbena dela in poetike skladateljev 20. in 21. stoletja) D\nLetniki: 3r
 d year (MU1)\nIzvajalci: Gregor Pompe\nProstori: Office 537
LOCATION:Office 537
ORGANIZER:Gregor Pompe
X-WR-TIMEZONE:Europe/Ljubljana
END:VEVENT
BEGIN:VEVENT
SUMMARY:izpit (R + I): MU2 Glasbeno gledališče 2 D 2022/23
DTSTART;TZID=Europe/Ljubljana:20260617T090000
DTEND;TZID=Europe/Ljubljana:20260617T130000
DTSTAMP:20260421T045739Z
UID:ff-AFLABS-URNIK:rezervacija:146607
ATTENDEE:1st year (MU2)
ATTENDEE:2nd year (MU2)
CATEGORIES:Reservation
COLOR:royalblue
DESCRIPTION:Predmeti: MU2 Glasbeno gledališče 2 D 2022/23\, MU2 Glasbeno
  gledališče 2 D 2022/23\nLetniki: 1st year (MU2)\, 2nd year (MU2)\nIzvaj
 alci: Gregor Pompe\nProstori: Office 537
LOCATION:Office 537
ORGANIZER:Gregor Pompe
X-WR-TIMEZONE:Europe/Ljubljana
END:VEVENT
BEGIN:VEVENT
SUMMARY:izpit (R + I): MU2 Glasbeno gledališče 1 D 2022/23
DTSTART;TZID=Europe/Ljubljana:20260603T090000
DTEND;TZID=Europe/Ljubljana:20260603T130000
DTSTAMP:20260421T045739Z
UID:ff-AFLABS-URNIK:rezervacija:146628
ATTENDEE:1st year (MU2)
ATTENDEE:2nd year (MU2)
CATEGORIES:Reservation
COLOR:royalblue
DESCRIPTION:Predmeti: MU2 Glasbeno gledališče 1 D 2022/23\, MU2 Glasbeno
  gledališče 1 D 2022/23\nLetniki: 1st year (MU2)\, 2nd year (MU2)\nIzvaj
 alci: Gregor Pompe\nProstori: Office 537
LOCATION:Office 537
ORGANIZER:Gregor Pompe
X-WR-TIMEZONE:Europe/Ljubljana
END:VEVENT
END:VCALENDAR
