BEGIN:VCALENDAR
VERSION:2.0
PRODID:-//AFLabs urnik izvoz - ff//aflabs.si//SI
NAME:UL FF Urnik
X-WR-CALNAME:UL FF Urnik
DTSTAMP:20260425T003015Z
REFRESH-INTERVAL:PT1H
SOURCE:https://urnik.ff.uni-lj.si/en/teacher/3537/?day=2025-09-30&export=1
URL:https://urnik.ff.uni-lj.si/en/teacher/3537/?day=2025-09-30&export=1
X-PUBLISHED-TTL:PT1H
X-WR-TIMEZONE:Europe/Ljubljana
BEGIN:VTIMEZONE
TZID:Europe/Ljubljana
BEGIN:DAYLIGHT
DTSTART:20260329T020000
RDATE:20260329T020000
RDATE:20270328T020000
TZNAME:CEST
TZOFFSETFROM:+0100
TZOFFSETTO:+0200
END:DAYLIGHT
BEGIN:STANDARD
DTSTART:20261025T030000
RDATE:20261025T030000
RDATE:20271031T030000
TZNAME:CET
TZOFFSETFROM:+0200
TZOFFSETTO:+0100
END:STANDARD
END:VTIMEZONE
BEGIN:VEVENT
SUMMARY:SL2 Jezikoslovni magistrski seminar - D\, Seminar (S)
DTSTART;TZID=Europe/Ljubljana:20251001T112000
DTEND;TZID=Europe/Ljubljana:20251001T125500
DTSTAMP:20260425T003015Z
UID:ff-AFLABS-URNIK:srecanje:57565-2025-10-01 11:20:00+02:00
DESCRIPTION:Predmet: SL2 Jezikoslovni magistrski seminar - D\, Seminar (S)
 \nLetniki: 2nd year (SL2)\nIzvajalci: Nina Ditmajer Prando\nProstor: Lectu
 re room 116
END:VEVENT
BEGIN:VEVENT
SUMMARY:SL2 Jezikoslovni magistrski seminar - D\, Seminar (S)
DTSTART;TZID=Europe/Ljubljana:20251008T112000
DTEND;TZID=Europe/Ljubljana:20251008T125500
DTSTAMP:20260425T003015Z
UID:ff-AFLABS-URNIK:srecanje:57565-2025-10-08 11:20:00+02:00
DESCRIPTION:Predmet: SL2 Jezikoslovni magistrski seminar - D\, Seminar (S)
 \nLetniki: 2nd year (SL2)\nIzvajalci: Nina Ditmajer Prando\nProstor: Lectu
 re room 116
END:VEVENT
BEGIN:VEVENT
SUMMARY:SL2 Jezikoslovni magistrski seminar - D\, Seminar (S)
DTSTART;TZID=Europe/Ljubljana:20251015T112000
DTEND;TZID=Europe/Ljubljana:20251015T125500
DTSTAMP:20260425T003015Z
UID:ff-AFLABS-URNIK:srecanje:57565-2025-10-15 11:20:00+02:00
DESCRIPTION:Predmet: SL2 Jezikoslovni magistrski seminar - D\, Seminar (S)
 \nLetniki: 2nd year (SL2)\nIzvajalci: Nina Ditmajer Prando\nProstor: Lectu
 re room 116
END:VEVENT
BEGIN:VEVENT
SUMMARY:SL2 Jezikoslovni magistrski seminar - D\, Seminar (S)
DTSTART;TZID=Europe/Ljubljana:20251022T112000
DTEND;TZID=Europe/Ljubljana:20251022T125500
DTSTAMP:20260425T003015Z
UID:ff-AFLABS-URNIK:srecanje:57565-2025-10-22 11:20:00+02:00
DESCRIPTION:Predmet: SL2 Jezikoslovni magistrski seminar - D\, Seminar (S)
 \nLetniki: 2nd year (SL2)\nIzvajalci: Nina Ditmajer Prando\nProstor: Lectu
 re room 116
END:VEVENT
BEGIN:VEVENT
SUMMARY:SL2 Jezikoslovni magistrski seminar - D\, Seminar (S)
DTSTART;TZID=Europe/Ljubljana:20251029T112000
DTEND;TZID=Europe/Ljubljana:20251029T125500
DTSTAMP:20260425T003015Z
UID:ff-AFLABS-URNIK:srecanje:57565-2025-10-29 11:20:00+01:00
DESCRIPTION:Predmet: SL2 Jezikoslovni magistrski seminar - D\, Seminar (S)
 \nLetniki: 2nd year (SL2)\nIzvajalci: Nina Ditmajer Prando\nProstor: Lectu
 re room 116
END:VEVENT
BEGIN:VEVENT
SUMMARY:SL2 Jezikoslovni magistrski seminar\, Seminar (S)
DTSTART;TZID=Europe/Ljubljana:20251001T112000
DTEND;TZID=Europe/Ljubljana:20251001T125500
DTSTAMP:20260425T003015Z
UID:ff-AFLABS-URNIK:srecanje:57566-2025-10-01 11:20:00+02:00
DESCRIPTION:Predmet: SL2 Jezikoslovni magistrski seminar\, Seminar (S)\nLe
 tniki: 2nd year (SL2)\, 2nd year (SL2)\, 2nd year (SL2)\, 2nd year (SL2)\,
  2nd year (SL2)\nIzvajalci: Nina Ditmajer Prando\nProstor: Lecture room 11
 6
END:VEVENT
BEGIN:VEVENT
SUMMARY:SL2 Jezikoslovni magistrski seminar\, Seminar (S)
DTSTART;TZID=Europe/Ljubljana:20251008T112000
DTEND;TZID=Europe/Ljubljana:20251008T125500
DTSTAMP:20260425T003015Z
UID:ff-AFLABS-URNIK:srecanje:57566-2025-10-08 11:20:00+02:00
DESCRIPTION:Predmet: SL2 Jezikoslovni magistrski seminar\, Seminar (S)\nLe
 tniki: 2nd year (SL2)\, 2nd year (SL2)\, 2nd year (SL2)\, 2nd year (SL2)\,
  2nd year (SL2)\nIzvajalci: Nina Ditmajer Prando\nProstor: Lecture room 11
 6
END:VEVENT
BEGIN:VEVENT
SUMMARY:SL2 Jezikoslovni magistrski seminar\, Seminar (S)
DTSTART;TZID=Europe/Ljubljana:20251015T112000
DTEND;TZID=Europe/Ljubljana:20251015T125500
DTSTAMP:20260425T003015Z
UID:ff-AFLABS-URNIK:srecanje:57566-2025-10-15 11:20:00+02:00
DESCRIPTION:Predmet: SL2 Jezikoslovni magistrski seminar\, Seminar (S)\nLe
 tniki: 2nd year (SL2)\, 2nd year (SL2)\, 2nd year (SL2)\, 2nd year (SL2)\,
  2nd year (SL2)\nIzvajalci: Nina Ditmajer Prando\nProstor: Lecture room 11
 6
END:VEVENT
BEGIN:VEVENT
SUMMARY:SL2 Jezikoslovni magistrski seminar\, Seminar (S)
DTSTART;TZID=Europe/Ljubljana:20251022T112000
DTEND;TZID=Europe/Ljubljana:20251022T125500
DTSTAMP:20260425T003015Z
UID:ff-AFLABS-URNIK:srecanje:57566-2025-10-22 11:20:00+02:00
DESCRIPTION:Predmet: SL2 Jezikoslovni magistrski seminar\, Seminar (S)\nLe
 tniki: 2nd year (SL2)\, 2nd year (SL2)\, 2nd year (SL2)\, 2nd year (SL2)\,
  2nd year (SL2)\nIzvajalci: Nina Ditmajer Prando\nProstor: Lecture room 11
 6
END:VEVENT
BEGIN:VEVENT
SUMMARY:SL2 Jezikoslovni magistrski seminar\, Seminar (S)
DTSTART;TZID=Europe/Ljubljana:20251029T112000
DTEND;TZID=Europe/Ljubljana:20251029T125500
DTSTAMP:20260425T003015Z
UID:ff-AFLABS-URNIK:srecanje:57566-2025-10-29 11:20:00+01:00
DESCRIPTION:Predmet: SL2 Jezikoslovni magistrski seminar\, Seminar (S)\nLe
 tniki: 2nd year (SL2)\, 2nd year (SL2)\, 2nd year (SL2)\, 2nd year (SL2)\,
  2nd year (SL2)\nIzvajalci: Nina Ditmajer Prando\nProstor: Lecture room 11
 6
END:VEVENT
BEGIN:VEVENT
SUMMARY:SL1 Pregled zgodovine slovenskega jezika - dvopredmetni\, Lecture 
 (L)
DTSTART;TZID=Europe/Ljubljana:20251001T085000
DTEND;TZID=Europe/Ljubljana:20251001T093500
DTSTAMP:20260425T003015Z
UID:ff-AFLABS-URNIK:srecanje:56059-2025-10-01 08:50:00+02:00
DESCRIPTION:Predmet: SL1 Pregled zgodovine slovenskega jezika - dvopredmet
 ni\, Lecture (L)\nLetniki: 3rd year (SL1)\nIzvajalci: Nina Ditmajer Prando
 \nProstor: Lecture room 4
END:VEVENT
BEGIN:VEVENT
SUMMARY:SL1 Pregled zgodovine slovenskega jezika - dvopredmetni\, Lecture 
 (L)
DTSTART;TZID=Europe/Ljubljana:20251008T085000
DTEND;TZID=Europe/Ljubljana:20251008T093500
DTSTAMP:20260425T003015Z
UID:ff-AFLABS-URNIK:srecanje:56059-2025-10-08 08:50:00+02:00
DESCRIPTION:Predmet: SL1 Pregled zgodovine slovenskega jezika - dvopredmet
 ni\, Lecture (L)\nLetniki: 3rd year (SL1)\nIzvajalci: Nina Ditmajer Prando
 \nProstor: Lecture room 4
END:VEVENT
BEGIN:VEVENT
SUMMARY:SL1 Pregled zgodovine slovenskega jezika - dvopredmetni\, Lecture 
 (L)
DTSTART;TZID=Europe/Ljubljana:20251015T085000
DTEND;TZID=Europe/Ljubljana:20251015T093500
DTSTAMP:20260425T003015Z
UID:ff-AFLABS-URNIK:srecanje:56059-2025-10-15 08:50:00+02:00
DESCRIPTION:Predmet: SL1 Pregled zgodovine slovenskega jezika - dvopredmet
 ni\, Lecture (L)\nLetniki: 3rd year (SL1)\nIzvajalci: Nina Ditmajer Prando
 \nProstor: Lecture room 4
END:VEVENT
BEGIN:VEVENT
SUMMARY:SL1 Pregled zgodovine slovenskega jezika - dvopredmetni\, Lecture 
 (L)
DTSTART;TZID=Europe/Ljubljana:20251022T085000
DTEND;TZID=Europe/Ljubljana:20251022T093500
DTSTAMP:20260425T003015Z
UID:ff-AFLABS-URNIK:srecanje:56059-2025-10-22 08:50:00+02:00
DESCRIPTION:Predmet: SL1 Pregled zgodovine slovenskega jezika - dvopredmet
 ni\, Lecture (L)\nLetniki: 3rd year (SL1)\nIzvajalci: Nina Ditmajer Prando
 \nProstor: Lecture room 4
END:VEVENT
BEGIN:VEVENT
SUMMARY:SL1 Pregled zgodovine slovenskega jezika - dvopredmetni\, Lecture 
 (L)
DTSTART;TZID=Europe/Ljubljana:20251029T085000
DTEND;TZID=Europe/Ljubljana:20251029T093500
DTSTAMP:20260425T003015Z
UID:ff-AFLABS-URNIK:srecanje:56059-2025-10-29 08:50:00+01:00
DESCRIPTION:Predmet: SL1 Pregled zgodovine slovenskega jezika - dvopredmet
 ni\, Lecture (L)\nLetniki: 3rd year (SL1)\nIzvajalci: Nina Ditmajer Prando
 \nProstor: Lecture room 4
END:VEVENT
BEGIN:VEVENT
SUMMARY:SL1 Pregled zgodovine slovenskega jezika - dvopredmetni\, Lecture 
 (L)
DTSTART;TZID=Europe/Ljubljana:20251001T094000
DTEND;TZID=Europe/Ljubljana:20251001T102500
DTSTAMP:20260425T003015Z
UID:ff-AFLABS-URNIK:srecanje:57766-2025-10-01 09:40:00+02:00
DESCRIPTION:Predmet: SL1 Pregled zgodovine slovenskega jezika - dvopredmet
 ni\, Lecture (L)\nLetniki: 3rd year (SL1)\nIzvajalci: Nina Ditmajer Prando
 \nProstor: Lecture room 4
END:VEVENT
BEGIN:VEVENT
SUMMARY:SL1 Pregled zgodovine slovenskega jezika - dvopredmetni\, Lecture 
 (L)
DTSTART;TZID=Europe/Ljubljana:20251008T094000
DTEND;TZID=Europe/Ljubljana:20251008T102500
DTSTAMP:20260425T003015Z
UID:ff-AFLABS-URNIK:srecanje:57766-2025-10-08 09:40:00+02:00
DESCRIPTION:Predmet: SL1 Pregled zgodovine slovenskega jezika - dvopredmet
 ni\, Lecture (L)\nLetniki: 3rd year (SL1)\nIzvajalci: Nina Ditmajer Prando
 \nProstor: Lecture room 4
END:VEVENT
BEGIN:VEVENT
SUMMARY:SL1 Pregled zgodovine slovenskega jezika - dvopredmetni\, Lecture 
 (L)
DTSTART;TZID=Europe/Ljubljana:20251015T094000
DTEND;TZID=Europe/Ljubljana:20251015T102500
DTSTAMP:20260425T003015Z
UID:ff-AFLABS-URNIK:srecanje:57766-2025-10-15 09:40:00+02:00
DESCRIPTION:Predmet: SL1 Pregled zgodovine slovenskega jezika - dvopredmet
 ni\, Lecture (L)\nLetniki: 3rd year (SL1)\nIzvajalci: Nina Ditmajer Prando
 \nProstor: Lecture room 4
END:VEVENT
BEGIN:VEVENT
SUMMARY:SL1 Pregled zgodovine slovenskega jezika - dvopredmetni\, Lecture 
 (L)
DTSTART;TZID=Europe/Ljubljana:20251022T094000
DTEND;TZID=Europe/Ljubljana:20251022T102500
DTSTAMP:20260425T003015Z
UID:ff-AFLABS-URNIK:srecanje:57766-2025-10-22 09:40:00+02:00
DESCRIPTION:Predmet: SL1 Pregled zgodovine slovenskega jezika - dvopredmet
 ni\, Lecture (L)\nLetniki: 3rd year (SL1)\nIzvajalci: Nina Ditmajer Prando
 \nProstor: Lecture room 4
END:VEVENT
BEGIN:VEVENT
SUMMARY:SL1 Pregled zgodovine slovenskega jezika - dvopredmetni\, Lecture 
 (L)
DTSTART;TZID=Europe/Ljubljana:20251029T094000
DTEND;TZID=Europe/Ljubljana:20251029T102500
DTSTAMP:20260425T003015Z
UID:ff-AFLABS-URNIK:srecanje:57766-2025-10-29 09:40:00+01:00
DESCRIPTION:Predmet: SL1 Pregled zgodovine slovenskega jezika - dvopredmet
 ni\, Lecture (L)\nLetniki: 3rd year (SL1)\nIzvajalci: Nina Ditmajer Prando
 \nProstor: Lecture room 4
END:VEVENT
BEGIN:VEVENT
SUMMARY:SL2 Jezikovna razčlemba slovenskih besedil do 19. stoletja\, Lect
 ure\, Seminar (L\, S)
DTSTART;TZID=Europe/Ljubljana:20251003T130000
DTEND;TZID=Europe/Ljubljana:20251003T153000
DTSTAMP:20260425T003015Z
UID:ff-AFLABS-URNIK:srecanje:59975-2025-10-03 13:00:00+02:00
DESCRIPTION:Predmet: SL2 Jezikovna razčlemba slovenskih besedil do 19. st
 oletja\, Lecture\, Seminar (L\, S)\nLetniki: 1st year (SL2)\, 1st year (SL
 2)\, 2nd year (SL2)\nIzvajalci: Nina Ditmajer Prando\nProstor: Lecture roo
 m 209C
END:VEVENT
BEGIN:VEVENT
SUMMARY:SL2 Jezikovna razčlemba slovenskih besedil do 19. stoletja\, Lect
 ure\, Seminar (L\, S)
DTSTART;TZID=Europe/Ljubljana:20251010T130000
DTEND;TZID=Europe/Ljubljana:20251010T153000
DTSTAMP:20260425T003015Z
UID:ff-AFLABS-URNIK:srecanje:59975-2025-10-10 13:00:00+02:00
DESCRIPTION:Predmet: SL2 Jezikovna razčlemba slovenskih besedil do 19. st
 oletja\, Lecture\, Seminar (L\, S)\nLetniki: 1st year (SL2)\, 1st year (SL
 2)\, 2nd year (SL2)\nIzvajalci: Nina Ditmajer Prando\nProstor: Lecture roo
 m 209C
END:VEVENT
BEGIN:VEVENT
SUMMARY:SL2 Jezikovna razčlemba slovenskih besedil do 19. stoletja\, Lect
 ure\, Seminar (L\, S)
DTSTART;TZID=Europe/Ljubljana:20251017T130000
DTEND;TZID=Europe/Ljubljana:20251017T153000
DTSTAMP:20260425T003015Z
UID:ff-AFLABS-URNIK:srecanje:59975-2025-10-17 13:00:00+02:00
DESCRIPTION:Predmet: SL2 Jezikovna razčlemba slovenskih besedil do 19. st
 oletja\, Lecture\, Seminar (L\, S)\nLetniki: 1st year (SL2)\, 1st year (SL
 2)\, 2nd year (SL2)\nIzvajalci: Nina Ditmajer Prando\nProstor: Lecture roo
 m 209C
END:VEVENT
BEGIN:VEVENT
SUMMARY:SL2 Jezikovna razčlemba slovenskih besedil do 19. stoletja\, Lect
 ure\, Seminar (L\, S)
DTSTART;TZID=Europe/Ljubljana:20251024T130000
DTEND;TZID=Europe/Ljubljana:20251024T153000
DTSTAMP:20260425T003015Z
UID:ff-AFLABS-URNIK:srecanje:59975-2025-10-24 13:00:00+02:00
DESCRIPTION:Predmet: SL2 Jezikovna razčlemba slovenskih besedil do 19. st
 oletja\, Lecture\, Seminar (L\, S)\nLetniki: 1st year (SL2)\, 1st year (SL
 2)\, 2nd year (SL2)\nIzvajalci: Nina Ditmajer Prando\nProstor: Lecture roo
 m 209C
END:VEVENT
END:VCALENDAR
