BEGIN:VCALENDAR
VERSION:2.0
PRODID:-//AFLabs urnik izvoz - ff//aflabs.si//SI
NAME:UL FF Urnik
X-WR-CALNAME:UL FF Urnik
DTSTAMP:20260422T053116Z
REFRESH-INTERVAL:PT1H
SOURCE:https://urnik.ff.uni-lj.si/en/teacher/3946/?day=2025-09-30&export=1
URL:https://urnik.ff.uni-lj.si/en/teacher/3946/?day=2025-09-30&export=1
X-PUBLISHED-TTL:PT1H
X-WR-TIMEZONE:Europe/Ljubljana
BEGIN:VTIMEZONE
TZID:Europe/Ljubljana
BEGIN:DAYLIGHT
DTSTART:20260329T020000
RDATE:20260329T020000
RDATE:20270328T020000
TZNAME:CEST
TZOFFSETFROM:+0100
TZOFFSETTO:+0200
END:DAYLIGHT
BEGIN:STANDARD
DTSTART:20261025T030000
RDATE:20261025T030000
RDATE:20271031T030000
TZNAME:CET
TZOFFSETFROM:+0200
TZOFFSETTO:+0100
END:STANDARD
END:VTIMEZONE
BEGIN:VEVENT
SUMMARY:JŠ1 Bolgarski jezik\, družba in kultura\, Tutorial (T)
DTSTART;TZID=Europe/Ljubljana:20251003T130000
DTEND;TZID=Europe/Ljubljana:20251003T143500
DTSTAMP:20260422T053116Z
UID:ff-AFLABS-URNIK:srecanje:57205-2025-10-03 13:00:00+02:00
DESCRIPTION:Predmet: JŠ1 Bolgarski jezik\, družba in kultura\, Tutorial 
 (T)\nLetniki: 3rd year (JŠ1)\nIzvajalci: Lyudmil Ivanov Dimitrov\nProstor
 : Lecture room 2-Tobačna
END:VEVENT
BEGIN:VEVENT
SUMMARY:JŠ1 Bolgarski jezik\, družba in kultura\, Tutorial (T)
DTSTART;TZID=Europe/Ljubljana:20251010T130000
DTEND;TZID=Europe/Ljubljana:20251010T143500
DTSTAMP:20260422T053116Z
UID:ff-AFLABS-URNIK:srecanje:57205-2025-10-10 13:00:00+02:00
DESCRIPTION:Predmet: JŠ1 Bolgarski jezik\, družba in kultura\, Tutorial 
 (T)\nLetniki: 3rd year (JŠ1)\nIzvajalci: Lyudmil Ivanov Dimitrov\nProstor
 : Lecture room 2-Tobačna
END:VEVENT
BEGIN:VEVENT
SUMMARY:JŠ1 Bolgarski jezik\, družba in kultura\, Tutorial (T)
DTSTART;TZID=Europe/Ljubljana:20251017T130000
DTEND;TZID=Europe/Ljubljana:20251017T143500
DTSTAMP:20260422T053116Z
UID:ff-AFLABS-URNIK:srecanje:57205-2025-10-17 13:00:00+02:00
DESCRIPTION:Predmet: JŠ1 Bolgarski jezik\, družba in kultura\, Tutorial 
 (T)\nLetniki: 3rd year (JŠ1)\nIzvajalci: Lyudmil Ivanov Dimitrov\nProstor
 : Lecture room 2-Tobačna
END:VEVENT
BEGIN:VEVENT
SUMMARY:JŠ1 Bolgarski jezik\, družba in kultura\, Tutorial (T)
DTSTART;TZID=Europe/Ljubljana:20251024T130000
DTEND;TZID=Europe/Ljubljana:20251024T143500
DTSTAMP:20260422T053116Z
UID:ff-AFLABS-URNIK:srecanje:57205-2025-10-24 13:00:00+02:00
DESCRIPTION:Predmet: JŠ1 Bolgarski jezik\, družba in kultura\, Tutorial 
 (T)\nLetniki: 3rd year (JŠ1)\nIzvajalci: Lyudmil Ivanov Dimitrov\nProstor
 : Lecture room 2-Tobačna
END:VEVENT
BEGIN:VEVENT
SUMMARY:PO1 Lektorat drugega slovanskega jezika – bolgarski jezik\, Tuto
 rial (T)
DTSTART;TZID=Europe/Ljubljana:20251003T094000
DTEND;TZID=Europe/Ljubljana:20251003T111500
DTSTAMP:20260422T053116Z
UID:ff-AFLABS-URNIK:srecanje:58368-2025-10-03 09:40:00+02:00
DESCRIPTION:Predmet: PO1 Lektorat drugega slovanskega jezika – bolgarski
  jezik\, Tutorial (T)\nLetniki: 3rd year (CJK1)\, 2nd year (PK1)\, 3rd yea
 r (PO1)\, 3rd year (SLV1)\nIzvajalci: Lyudmil Ivanov Dimitrov\nProstor: Le
 cture room 3-Tobačna
END:VEVENT
BEGIN:VEVENT
SUMMARY:PO1 Lektorat drugega slovanskega jezika – bolgarski jezik\, Tuto
 rial (T)
DTSTART;TZID=Europe/Ljubljana:20251010T094000
DTEND;TZID=Europe/Ljubljana:20251010T111500
DTSTAMP:20260422T053116Z
UID:ff-AFLABS-URNIK:srecanje:58368-2025-10-10 09:40:00+02:00
DESCRIPTION:Predmet: PO1 Lektorat drugega slovanskega jezika – bolgarski
  jezik\, Tutorial (T)\nLetniki: 3rd year (CJK1)\, 2nd year (PK1)\, 3rd yea
 r (PO1)\, 3rd year (SLV1)\nIzvajalci: Lyudmil Ivanov Dimitrov\nProstor: Le
 cture room 3-Tobačna
END:VEVENT
BEGIN:VEVENT
SUMMARY:PO1 Lektorat drugega slovanskega jezika – bolgarski jezik\, Tuto
 rial (T)
DTSTART;TZID=Europe/Ljubljana:20251017T094000
DTEND;TZID=Europe/Ljubljana:20251017T111500
DTSTAMP:20260422T053116Z
UID:ff-AFLABS-URNIK:srecanje:58368-2025-10-17 09:40:00+02:00
DESCRIPTION:Predmet: PO1 Lektorat drugega slovanskega jezika – bolgarski
  jezik\, Tutorial (T)\nLetniki: 3rd year (CJK1)\, 2nd year (PK1)\, 3rd yea
 r (PO1)\, 3rd year (SLV1)\nIzvajalci: Lyudmil Ivanov Dimitrov\nProstor: Le
 cture room 3-Tobačna
END:VEVENT
BEGIN:VEVENT
SUMMARY:PO1 Lektorat drugega slovanskega jezika – bolgarski jezik\, Tuto
 rial (T)
DTSTART;TZID=Europe/Ljubljana:20251024T094000
DTEND;TZID=Europe/Ljubljana:20251024T111500
DTSTAMP:20260422T053116Z
UID:ff-AFLABS-URNIK:srecanje:58368-2025-10-24 09:40:00+02:00
DESCRIPTION:Predmet: PO1 Lektorat drugega slovanskega jezika – bolgarski
  jezik\, Tutorial (T)\nLetniki: 3rd year (CJK1)\, 2nd year (PK1)\, 3rd yea
 r (PO1)\, 3rd year (SLV1)\nIzvajalci: Lyudmil Ivanov Dimitrov\nProstor: Le
 cture room 3-Tobačna
END:VEVENT
BEGIN:VEVENT
SUMMARY:PSJ1 Lektorat slovanskega jezika II: Bolgarski jezik 1-2\, Tutoria
 l (T)
DTSTART;TZID=Europe/Ljubljana:20251003T094000
DTEND;TZID=Europe/Ljubljana:20251003T111500
DTSTAMP:20260422T053116Z
UID:ff-AFLABS-URNIK:srecanje:57856-2025-10-03 09:40:00+02:00
DESCRIPTION:Predmet: PSJ1 Lektorat slovanskega jezika II: Bolgarski jezik 
 1-2\, Tutorial (T)\nLetniki: 2nd year (PSJ1)\nIzvajalci: Lyudmil Ivanov Di
 mitrov\nProstor: Lecture room 3-Tobačna
END:VEVENT
BEGIN:VEVENT
SUMMARY:PSJ1 Lektorat slovanskega jezika II: Bolgarski jezik 1-2\, Tutoria
 l (T)
DTSTART;TZID=Europe/Ljubljana:20251010T094000
DTEND;TZID=Europe/Ljubljana:20251010T111500
DTSTAMP:20260422T053116Z
UID:ff-AFLABS-URNIK:srecanje:57856-2025-10-10 09:40:00+02:00
DESCRIPTION:Predmet: PSJ1 Lektorat slovanskega jezika II: Bolgarski jezik 
 1-2\, Tutorial (T)\nLetniki: 2nd year (PSJ1)\nIzvajalci: Lyudmil Ivanov Di
 mitrov\nProstor: Lecture room 3-Tobačna
END:VEVENT
BEGIN:VEVENT
SUMMARY:PSJ1 Lektorat slovanskega jezika II: Bolgarski jezik 1-2\, Tutoria
 l (T)
DTSTART;TZID=Europe/Ljubljana:20251017T094000
DTEND;TZID=Europe/Ljubljana:20251017T111500
DTSTAMP:20260422T053116Z
UID:ff-AFLABS-URNIK:srecanje:57856-2025-10-17 09:40:00+02:00
DESCRIPTION:Predmet: PSJ1 Lektorat slovanskega jezika II: Bolgarski jezik 
 1-2\, Tutorial (T)\nLetniki: 2nd year (PSJ1)\nIzvajalci: Lyudmil Ivanov Di
 mitrov\nProstor: Lecture room 3-Tobačna
END:VEVENT
BEGIN:VEVENT
SUMMARY:PSJ1 Lektorat slovanskega jezika II: Bolgarski jezik 1-2\, Tutoria
 l (T)
DTSTART;TZID=Europe/Ljubljana:20251024T094000
DTEND;TZID=Europe/Ljubljana:20251024T111500
DTSTAMP:20260422T053116Z
UID:ff-AFLABS-URNIK:srecanje:57856-2025-10-24 09:40:00+02:00
DESCRIPTION:Predmet: PSJ1 Lektorat slovanskega jezika II: Bolgarski jezik 
 1-2\, Tutorial (T)\nLetniki: 2nd year (PSJ1)\nIzvajalci: Lyudmil Ivanov Di
 mitrov\nProstor: Lecture room 3-Tobačna
END:VEVENT
BEGIN:VEVENT
SUMMARY:PSJ1 Lektorat slovanskega jezika II: Bolgarski jezik 3-4\, Tutoria
 l (T)
DTSTART;TZID=Europe/Ljubljana:20251003T112000
DTEND;TZID=Europe/Ljubljana:20251003T125500
DTSTAMP:20260422T053116Z
UID:ff-AFLABS-URNIK:srecanje:57852-2025-10-03 11:20:00+02:00
DESCRIPTION:Predmet: PSJ1 Lektorat slovanskega jezika II: Bolgarski jezik 
 3-4\, Tutorial (T)\nLetniki: 3rd year (PSJ1)\nIzvajalci: Lyudmil Ivanov Di
 mitrov\nProstor: Lecture room 4-Tobačna
END:VEVENT
BEGIN:VEVENT
SUMMARY:PSJ1 Lektorat slovanskega jezika II: Bolgarski jezik 3-4\, Tutoria
 l (T)
DTSTART;TZID=Europe/Ljubljana:20251010T112000
DTEND;TZID=Europe/Ljubljana:20251010T125500
DTSTAMP:20260422T053116Z
UID:ff-AFLABS-URNIK:srecanje:57852-2025-10-10 11:20:00+02:00
DESCRIPTION:Predmet: PSJ1 Lektorat slovanskega jezika II: Bolgarski jezik 
 3-4\, Tutorial (T)\nLetniki: 3rd year (PSJ1)\nIzvajalci: Lyudmil Ivanov Di
 mitrov\nProstor: Lecture room 4-Tobačna
END:VEVENT
BEGIN:VEVENT
SUMMARY:PSJ1 Lektorat slovanskega jezika II: Bolgarski jezik 3-4\, Tutoria
 l (T)
DTSTART;TZID=Europe/Ljubljana:20251017T112000
DTEND;TZID=Europe/Ljubljana:20251017T125500
DTSTAMP:20260422T053116Z
UID:ff-AFLABS-URNIK:srecanje:57852-2025-10-17 11:20:00+02:00
DESCRIPTION:Predmet: PSJ1 Lektorat slovanskega jezika II: Bolgarski jezik 
 3-4\, Tutorial (T)\nLetniki: 3rd year (PSJ1)\nIzvajalci: Lyudmil Ivanov Di
 mitrov\nProstor: Lecture room 4-Tobačna
END:VEVENT
BEGIN:VEVENT
SUMMARY:PSJ1 Lektorat slovanskega jezika II: Bolgarski jezik 3-4\, Tutoria
 l (T)
DTSTART;TZID=Europe/Ljubljana:20251024T112000
DTEND;TZID=Europe/Ljubljana:20251024T125500
DTSTAMP:20260422T053116Z
UID:ff-AFLABS-URNIK:srecanje:57852-2025-10-24 11:20:00+02:00
DESCRIPTION:Predmet: PSJ1 Lektorat slovanskega jezika II: Bolgarski jezik 
 3-4\, Tutorial (T)\nLetniki: 3rd year (PSJ1)\nIzvajalci: Lyudmil Ivanov Di
 mitrov\nProstor: Lecture room 4-Tobačna
END:VEVENT
BEGIN:VEVENT
SUMMARY:PSJ2 Lektorat slovanskega jezika III: Bolgarski jezik 1-2\, Tutori
 al (T)
DTSTART;TZID=Europe/Ljubljana:20251003T094000
DTEND;TZID=Europe/Ljubljana:20251003T111500
DTSTAMP:20260422T053116Z
UID:ff-AFLABS-URNIK:srecanje:58825-2025-10-03 09:40:00+02:00
DESCRIPTION:Predmet: PSJ2 Lektorat slovanskega jezika III: Bolgarski jezik
  1-2\, Tutorial (T)\nLetniki: 1st year (PSJ2)\, 2nd year (PSJ2)\, 1st year
  (ZG2)\, 2nd year (ZG2)\nIzvajalci: Lyudmil Ivanov Dimitrov\nProstor: Lect
 ure room 3-Tobačna
END:VEVENT
BEGIN:VEVENT
SUMMARY:PSJ2 Lektorat slovanskega jezika III: Bolgarski jezik 1-2\, Tutori
 al (T)
DTSTART;TZID=Europe/Ljubljana:20251010T094000
DTEND;TZID=Europe/Ljubljana:20251010T111500
DTSTAMP:20260422T053116Z
UID:ff-AFLABS-URNIK:srecanje:58825-2025-10-10 09:40:00+02:00
DESCRIPTION:Predmet: PSJ2 Lektorat slovanskega jezika III: Bolgarski jezik
  1-2\, Tutorial (T)\nLetniki: 1st year (PSJ2)\, 2nd year (PSJ2)\, 1st year
  (ZG2)\, 2nd year (ZG2)\nIzvajalci: Lyudmil Ivanov Dimitrov\nProstor: Lect
 ure room 3-Tobačna
END:VEVENT
BEGIN:VEVENT
SUMMARY:PSJ2 Lektorat slovanskega jezika III: Bolgarski jezik 1-2\, Tutori
 al (T)
DTSTART;TZID=Europe/Ljubljana:20251017T094000
DTEND;TZID=Europe/Ljubljana:20251017T111500
DTSTAMP:20260422T053116Z
UID:ff-AFLABS-URNIK:srecanje:58825-2025-10-17 09:40:00+02:00
DESCRIPTION:Predmet: PSJ2 Lektorat slovanskega jezika III: Bolgarski jezik
  1-2\, Tutorial (T)\nLetniki: 1st year (PSJ2)\, 2nd year (PSJ2)\, 1st year
  (ZG2)\, 2nd year (ZG2)\nIzvajalci: Lyudmil Ivanov Dimitrov\nProstor: Lect
 ure room 3-Tobačna
END:VEVENT
BEGIN:VEVENT
SUMMARY:PSJ2 Lektorat slovanskega jezika III: Bolgarski jezik 1-2\, Tutori
 al (T)
DTSTART;TZID=Europe/Ljubljana:20251024T094000
DTEND;TZID=Europe/Ljubljana:20251024T111500
DTSTAMP:20260422T053116Z
UID:ff-AFLABS-URNIK:srecanje:58825-2025-10-24 09:40:00+02:00
DESCRIPTION:Predmet: PSJ2 Lektorat slovanskega jezika III: Bolgarski jezik
  1-2\, Tutorial (T)\nLetniki: 1st year (PSJ2)\, 2nd year (PSJ2)\, 1st year
  (ZG2)\, 2nd year (ZG2)\nIzvajalci: Lyudmil Ivanov Dimitrov\nProstor: Lect
 ure room 3-Tobačna
END:VEVENT
BEGIN:VEVENT
SUMMARY:PSJ2 Lektorat slovanskega jezika III: Bolgarski jezik 3-4\, Tutori
 al (T)
DTSTART;TZID=Europe/Ljubljana:20251003T112000
DTEND;TZID=Europe/Ljubljana:20251003T125500
DTSTAMP:20260422T053116Z
UID:ff-AFLABS-URNIK:srecanje:58826-2025-10-03 11:20:00+02:00
DESCRIPTION:Predmet: PSJ2 Lektorat slovanskega jezika III: Bolgarski jezik
  3-4\, Tutorial (T)\nLetniki: 1st year (PSJ2)\, 2nd year (PSJ2)\, 1st year
  (ZG2)\, 2nd year (ZG2)\nIzvajalci: Lyudmil Ivanov Dimitrov\nProstor: Lect
 ure room 4-Tobačna
END:VEVENT
BEGIN:VEVENT
SUMMARY:PSJ2 Lektorat slovanskega jezika III: Bolgarski jezik 3-4\, Tutori
 al (T)
DTSTART;TZID=Europe/Ljubljana:20251010T112000
DTEND;TZID=Europe/Ljubljana:20251010T125500
DTSTAMP:20260422T053116Z
UID:ff-AFLABS-URNIK:srecanje:58826-2025-10-10 11:20:00+02:00
DESCRIPTION:Predmet: PSJ2 Lektorat slovanskega jezika III: Bolgarski jezik
  3-4\, Tutorial (T)\nLetniki: 1st year (PSJ2)\, 2nd year (PSJ2)\, 1st year
  (ZG2)\, 2nd year (ZG2)\nIzvajalci: Lyudmil Ivanov Dimitrov\nProstor: Lect
 ure room 4-Tobačna
END:VEVENT
BEGIN:VEVENT
SUMMARY:PSJ2 Lektorat slovanskega jezika III: Bolgarski jezik 3-4\, Tutori
 al (T)
DTSTART;TZID=Europe/Ljubljana:20251017T112000
DTEND;TZID=Europe/Ljubljana:20251017T125500
DTSTAMP:20260422T053116Z
UID:ff-AFLABS-URNIK:srecanje:58826-2025-10-17 11:20:00+02:00
DESCRIPTION:Predmet: PSJ2 Lektorat slovanskega jezika III: Bolgarski jezik
  3-4\, Tutorial (T)\nLetniki: 1st year (PSJ2)\, 2nd year (PSJ2)\, 1st year
  (ZG2)\, 2nd year (ZG2)\nIzvajalci: Lyudmil Ivanov Dimitrov\nProstor: Lect
 ure room 4-Tobačna
END:VEVENT
BEGIN:VEVENT
SUMMARY:PSJ2 Lektorat slovanskega jezika III: Bolgarski jezik 3-4\, Tutori
 al (T)
DTSTART;TZID=Europe/Ljubljana:20251024T112000
DTEND;TZID=Europe/Ljubljana:20251024T125500
DTSTAMP:20260422T053116Z
UID:ff-AFLABS-URNIK:srecanje:58826-2025-10-24 11:20:00+02:00
DESCRIPTION:Predmet: PSJ2 Lektorat slovanskega jezika III: Bolgarski jezik
  3-4\, Tutorial (T)\nLetniki: 1st year (PSJ2)\, 2nd year (PSJ2)\, 1st year
  (ZG2)\, 2nd year (ZG2)\nIzvajalci: Lyudmil Ivanov Dimitrov\nProstor: Lect
 ure room 4-Tobačna
END:VEVENT
BEGIN:VEVENT
SUMMARY:JŠ1 Bolgarski jezik\, družba in kultura\, Tutorial (T)
DTSTART;TZID=Europe/Ljubljana:20251006T144000
DTEND;TZID=Europe/Ljubljana:20251006T161500
DTSTAMP:20260422T053116Z
UID:ff-AFLABS-URNIK:srecanje:57538-2025-10-06 14:40:00+02:00
DESCRIPTION:Predmet: JŠ1 Bolgarski jezik\, družba in kultura\, Tutorial 
 (T)\nLetniki: 3rd year (JŠ1)\nIzvajalci: Lyudmil Ivanov Dimitrov\nProstor
 : Lecture room 116
END:VEVENT
BEGIN:VEVENT
SUMMARY:JŠ1 Bolgarski jezik\, družba in kultura\, Tutorial (T)
DTSTART;TZID=Europe/Ljubljana:20251013T144000
DTEND;TZID=Europe/Ljubljana:20251013T161500
DTSTAMP:20260422T053116Z
UID:ff-AFLABS-URNIK:srecanje:57538-2025-10-13 14:40:00+02:00
DESCRIPTION:Predmet: JŠ1 Bolgarski jezik\, družba in kultura\, Tutorial 
 (T)\nLetniki: 3rd year (JŠ1)\nIzvajalci: Lyudmil Ivanov Dimitrov\nProstor
 : Lecture room 116
END:VEVENT
BEGIN:VEVENT
SUMMARY:JŠ1 Bolgarski jezik\, družba in kultura\, Tutorial (T)
DTSTART;TZID=Europe/Ljubljana:20251020T144000
DTEND;TZID=Europe/Ljubljana:20251020T161500
DTSTAMP:20260422T053116Z
UID:ff-AFLABS-URNIK:srecanje:57538-2025-10-20 14:40:00+02:00
DESCRIPTION:Predmet: JŠ1 Bolgarski jezik\, družba in kultura\, Tutorial 
 (T)\nLetniki: 3rd year (JŠ1)\nIzvajalci: Lyudmil Ivanov Dimitrov\nProstor
 : Lecture room 116
END:VEVENT
BEGIN:VEVENT
SUMMARY:JŠ1 Bolgarski jezik\, družba in kultura\, Tutorial (T)
DTSTART;TZID=Europe/Ljubljana:20251027T144000
DTEND;TZID=Europe/Ljubljana:20251027T161500
DTSTAMP:20260422T053116Z
UID:ff-AFLABS-URNIK:srecanje:57538-2025-10-27 14:40:00+01:00
DESCRIPTION:Predmet: JŠ1 Bolgarski jezik\, družba in kultura\, Tutorial 
 (T)\nLetniki: 3rd year (JŠ1)\nIzvajalci: Lyudmil Ivanov Dimitrov\nProstor
 : Lecture room 116
END:VEVENT
BEGIN:VEVENT
SUMMARY:JŠ1 Bolgarski jezik\, družba in kultura\, Tutorial (T)
DTSTART;TZID=Europe/Ljubljana:20251103T144000
DTEND;TZID=Europe/Ljubljana:20251103T161500
DTSTAMP:20260422T053116Z
UID:ff-AFLABS-URNIK:srecanje:57538-2025-11-03 14:40:00+01:00
DESCRIPTION:Predmet: JŠ1 Bolgarski jezik\, družba in kultura\, Tutorial 
 (T)\nLetniki: 3rd year (JŠ1)\nIzvajalci: Lyudmil Ivanov Dimitrov\nProstor
 : Lecture room 116
END:VEVENT
BEGIN:VEVENT
SUMMARY:PSJ1 Lektorat slovanskega jezika II: Bolgarski jezik 1-2\, Tutoria
 l (T)
DTSTART;TZID=Europe/Ljubljana:20251006T112000
DTEND;TZID=Europe/Ljubljana:20251006T125500
DTSTAMP:20260422T053116Z
UID:ff-AFLABS-URNIK:srecanje:60464-2025-10-06 11:20:00+02:00
DESCRIPTION:Predmet: PSJ1 Lektorat slovanskega jezika II: Bolgarski jezik 
 1-2\, Tutorial (T)\nLetniki: 2nd year (PSJ1)\nIzvajalci: Lyudmil Ivanov Di
 mitrov\nProstor: Lecture room 029
END:VEVENT
BEGIN:VEVENT
SUMMARY:PSJ1 Lektorat slovanskega jezika II: Bolgarski jezik 1-2\, Tutoria
 l (T)
DTSTART;TZID=Europe/Ljubljana:20251013T112000
DTEND;TZID=Europe/Ljubljana:20251013T125500
DTSTAMP:20260422T053116Z
UID:ff-AFLABS-URNIK:srecanje:60464-2025-10-13 11:20:00+02:00
DESCRIPTION:Predmet: PSJ1 Lektorat slovanskega jezika II: Bolgarski jezik 
 1-2\, Tutorial (T)\nLetniki: 2nd year (PSJ1)\nIzvajalci: Lyudmil Ivanov Di
 mitrov\nProstor: Lecture room 029
END:VEVENT
BEGIN:VEVENT
SUMMARY:PSJ1 Lektorat slovanskega jezika II: Bolgarski jezik 1-2\, Tutoria
 l (T)
DTSTART;TZID=Europe/Ljubljana:20251020T112000
DTEND;TZID=Europe/Ljubljana:20251020T125500
DTSTAMP:20260422T053116Z
UID:ff-AFLABS-URNIK:srecanje:60464-2025-10-20 11:20:00+02:00
DESCRIPTION:Predmet: PSJ1 Lektorat slovanskega jezika II: Bolgarski jezik 
 1-2\, Tutorial (T)\nLetniki: 2nd year (PSJ1)\nIzvajalci: Lyudmil Ivanov Di
 mitrov\nProstor: Lecture room 029
END:VEVENT
BEGIN:VEVENT
SUMMARY:PSJ1 Lektorat slovanskega jezika II: Bolgarski jezik 1-2\, Tutoria
 l (T)
DTSTART;TZID=Europe/Ljubljana:20251027T112000
DTEND;TZID=Europe/Ljubljana:20251027T125500
DTSTAMP:20260422T053116Z
UID:ff-AFLABS-URNIK:srecanje:60464-2025-10-27 11:20:00+01:00
DESCRIPTION:Predmet: PSJ1 Lektorat slovanskega jezika II: Bolgarski jezik 
 1-2\, Tutorial (T)\nLetniki: 2nd year (PSJ1)\nIzvajalci: Lyudmil Ivanov Di
 mitrov\nProstor: Lecture room 029
END:VEVENT
BEGIN:VEVENT
SUMMARY:PSJ1 Lektorat slovanskega jezika II: Bolgarski jezik 1-2\, Tutoria
 l (T)
DTSTART;TZID=Europe/Ljubljana:20251103T112000
DTEND;TZID=Europe/Ljubljana:20251103T125500
DTSTAMP:20260422T053116Z
UID:ff-AFLABS-URNIK:srecanje:60464-2025-11-03 11:20:00+01:00
DESCRIPTION:Predmet: PSJ1 Lektorat slovanskega jezika II: Bolgarski jezik 
 1-2\, Tutorial (T)\nLetniki: 2nd year (PSJ1)\nIzvajalci: Lyudmil Ivanov Di
 mitrov\nProstor: Lecture room 029
END:VEVENT
END:VCALENDAR
