BEGIN:VCALENDAR
VERSION:2.0
PRODID:-//AFLabs urnik izvoz - ff//aflabs.si//SI
NAME:UL FF Urnik
X-WR-CALNAME:UL FF Urnik
DTSTAMP:20260419T163742Z
REFRESH-INTERVAL:PT1H
SOURCE:https://urnik.ff.uni-lj.si/en/teacher/3975/?day=2026-05-27&export=1
URL:https://urnik.ff.uni-lj.si/en/teacher/3975/?day=2026-05-27&export=1
X-PUBLISHED-TTL:PT1H
X-WR-TIMEZONE:Europe/Ljubljana
BEGIN:VTIMEZONE
TZID:Europe/Ljubljana
BEGIN:DAYLIGHT
DTSTART:20260329T020000
RDATE:20260329T020000
RDATE:20270328T020000
TZNAME:CEST
TZOFFSETFROM:+0100
TZOFFSETTO:+0200
END:DAYLIGHT
BEGIN:STANDARD
DTSTART:20261025T030000
RDATE:20261025T030000
RDATE:20271031T030000
TZNAME:CET
TZOFFSETFROM:+0200
TZOFFSETTO:+0100
END:STANDARD
END:VTIMEZONE
BEGIN:VEVENT
SUMMARY:PS2 Kliničnopsihološka diagnostika\, Tutorial (T)
DTSTART;TZID=Europe/Ljubljana:20260219T103000
DTEND;TZID=Europe/Ljubljana:20260219T161500
DTSTAMP:20260419T163742Z
UID:ff-AFLABS-URNIK:srecanje:60845-2026-02-19 10:30:00+01:00
DESCRIPTION:Predmet: PS2 Kliničnopsihološka diagnostika\, Tutorial (T)\n
 Letniki: 1st year (PS2)\nIzvajalci: Maja Gostič\, Maša Vozlič\nProstor:
  Lecture Room\, Rimska 16-B
END:VEVENT
BEGIN:VEVENT
SUMMARY:PS2 Kliničnopsihološka diagnostika\, Tutorial (T)
DTSTART;TZID=Europe/Ljubljana:20260226T103000
DTEND;TZID=Europe/Ljubljana:20260226T161500
DTSTAMP:20260419T163742Z
UID:ff-AFLABS-URNIK:srecanje:60845-2026-02-26 10:30:00+01:00
DESCRIPTION:Predmet: PS2 Kliničnopsihološka diagnostika\, Tutorial (T)\n
 Letniki: 1st year (PS2)\nIzvajalci: Maja Gostič\, Maša Vozlič\nProstor:
  Lecture Room\, Rimska 16-B
END:VEVENT
BEGIN:VEVENT
SUMMARY:PS2 Kliničnopsihološka diagnostika\, Tutorial (T)
DTSTART;TZID=Europe/Ljubljana:20260305T103000
DTEND;TZID=Europe/Ljubljana:20260305T161500
DTSTAMP:20260419T163742Z
UID:ff-AFLABS-URNIK:srecanje:60845-2026-03-05 10:30:00+01:00
DESCRIPTION:Predmet: PS2 Kliničnopsihološka diagnostika\, Tutorial (T)\n
 Letniki: 1st year (PS2)\nIzvajalci: Maja Gostič\, Maša Vozlič\nProstor:
  Lecture Room\, Rimska 16-B
END:VEVENT
BEGIN:VEVENT
SUMMARY:PS2 Kliničnopsihološka diagnostika\, Tutorial (T)
DTSTART;TZID=Europe/Ljubljana:20260312T103000
DTEND;TZID=Europe/Ljubljana:20260312T161500
DTSTAMP:20260419T163742Z
UID:ff-AFLABS-URNIK:srecanje:60845-2026-03-12 10:30:00+01:00
DESCRIPTION:Predmet: PS2 Kliničnopsihološka diagnostika\, Tutorial (T)\n
 Letniki: 1st year (PS2)\nIzvajalci: Maja Gostič\, Maša Vozlič\nProstor:
  Lecture Room\, Rimska 16-B
END:VEVENT
BEGIN:VEVENT
SUMMARY:PS2 Kliničnopsihološka diagnostika\, Tutorial (T)
DTSTART;TZID=Europe/Ljubljana:20260319T103000
DTEND;TZID=Europe/Ljubljana:20260319T161500
DTSTAMP:20260419T163742Z
UID:ff-AFLABS-URNIK:srecanje:60845-2026-03-19 10:30:00+01:00
DESCRIPTION:Predmet: PS2 Kliničnopsihološka diagnostika\, Tutorial (T)\n
 Letniki: 1st year (PS2)\nIzvajalci: Maja Gostič\, Maša Vozlič\nProstor:
  Lecture Room\, Rimska 16-B
END:VEVENT
BEGIN:VEVENT
SUMMARY:PS2 Kliničnopsihološka diagnostika\, Tutorial (T)
DTSTART;TZID=Europe/Ljubljana:20260326T103000
DTEND;TZID=Europe/Ljubljana:20260326T161500
DTSTAMP:20260419T163742Z
UID:ff-AFLABS-URNIK:srecanje:60845-2026-03-26 10:30:00+01:00
DESCRIPTION:Predmet: PS2 Kliničnopsihološka diagnostika\, Tutorial (T)\n
 Letniki: 1st year (PS2)\nIzvajalci: Maja Gostič\, Maša Vozlič\nProstor:
  Lecture Room\, Rimska 16-B
END:VEVENT
BEGIN:VEVENT
SUMMARY:PS2 Kliničnopsihološka diagnostika\, Tutorial (T)
DTSTART;TZID=Europe/Ljubljana:20260402T103000
DTEND;TZID=Europe/Ljubljana:20260402T161500
DTSTAMP:20260419T163742Z
UID:ff-AFLABS-URNIK:srecanje:60845-2026-04-02 10:30:00+02:00
DESCRIPTION:Predmet: PS2 Kliničnopsihološka diagnostika\, Tutorial (T)\n
 Letniki: 1st year (PS2)\nIzvajalci: Maja Gostič\, Maša Vozlič\nProstor:
  Lecture Room\, Rimska 16-B
END:VEVENT
BEGIN:VEVENT
SUMMARY:PS2 Kliničnopsihološka diagnostika\, Tutorial (T)
DTSTART;TZID=Europe/Ljubljana:20260409T103000
DTEND;TZID=Europe/Ljubljana:20260409T161500
DTSTAMP:20260419T163742Z
UID:ff-AFLABS-URNIK:srecanje:60845-2026-04-09 10:30:00+02:00
DESCRIPTION:Predmet: PS2 Kliničnopsihološka diagnostika\, Tutorial (T)\n
 Letniki: 1st year (PS2)\nIzvajalci: Maja Gostič\, Maša Vozlič\nProstor:
  Lecture Room\, Rimska 16-B
END:VEVENT
BEGIN:VEVENT
SUMMARY:PS2 Kliničnopsihološka diagnostika\, Tutorial (T)
DTSTART;TZID=Europe/Ljubljana:20260416T103000
DTEND;TZID=Europe/Ljubljana:20260416T161500
DTSTAMP:20260419T163742Z
UID:ff-AFLABS-URNIK:srecanje:60845-2026-04-16 10:30:00+02:00
DESCRIPTION:Predmet: PS2 Kliničnopsihološka diagnostika\, Tutorial (T)\n
 Letniki: 1st year (PS2)\nIzvajalci: Maja Gostič\, Maša Vozlič\nProstor:
  Lecture Room\, Rimska 16-B
END:VEVENT
BEGIN:VEVENT
SUMMARY:PS2 Kliničnopsihološka diagnostika\, Tutorial (T)
DTSTART;TZID=Europe/Ljubljana:20260423T103000
DTEND;TZID=Europe/Ljubljana:20260423T161500
DTSTAMP:20260419T163742Z
UID:ff-AFLABS-URNIK:srecanje:60845-2026-04-23 10:30:00+02:00
DESCRIPTION:Predmet: PS2 Kliničnopsihološka diagnostika\, Tutorial (T)\n
 Letniki: 1st year (PS2)\nIzvajalci: Maja Gostič\, Maša Vozlič\nProstor:
  Lecture Room\, Rimska 16-B
END:VEVENT
BEGIN:VEVENT
SUMMARY:PS2 Kliničnopsihološka diagnostika\, Tutorial (T)
DTSTART;TZID=Europe/Ljubljana:20260430T103000
DTEND;TZID=Europe/Ljubljana:20260430T161500
DTSTAMP:20260419T163742Z
UID:ff-AFLABS-URNIK:srecanje:60845-2026-04-30 10:30:00+02:00
DESCRIPTION:Predmet: PS2 Kliničnopsihološka diagnostika\, Tutorial (T)\n
 Letniki: 1st year (PS2)\nIzvajalci: Maja Gostič\, Maša Vozlič\nProstor:
  Lecture Room\, Rimska 16-B
END:VEVENT
BEGIN:VEVENT
SUMMARY:PS2 Kliničnopsihološka diagnostika\, Tutorial (T)
DTSTART;TZID=Europe/Ljubljana:20260507T103000
DTEND;TZID=Europe/Ljubljana:20260507T161500
DTSTAMP:20260419T163742Z
UID:ff-AFLABS-URNIK:srecanje:60845-2026-05-07 10:30:00+02:00
DESCRIPTION:Predmet: PS2 Kliničnopsihološka diagnostika\, Tutorial (T)\n
 Letniki: 1st year (PS2)\nIzvajalci: Maja Gostič\, Maša Vozlič\nProstor:
  Lecture Room\, Rimska 16-B
END:VEVENT
BEGIN:VEVENT
SUMMARY:PS2 Kliničnopsihološka diagnostika\, Tutorial (T)
DTSTART;TZID=Europe/Ljubljana:20260514T103000
DTEND;TZID=Europe/Ljubljana:20260514T161500
DTSTAMP:20260419T163742Z
UID:ff-AFLABS-URNIK:srecanje:60845-2026-05-14 10:30:00+02:00
DESCRIPTION:Predmet: PS2 Kliničnopsihološka diagnostika\, Tutorial (T)\n
 Letniki: 1st year (PS2)\nIzvajalci: Maja Gostič\, Maša Vozlič\nProstor:
  Lecture Room\, Rimska 16-B
END:VEVENT
BEGIN:VEVENT
SUMMARY:PS2 Kliničnopsihološka diagnostika\, Tutorial (T)
DTSTART;TZID=Europe/Ljubljana:20260521T103000
DTEND;TZID=Europe/Ljubljana:20260521T161500
DTSTAMP:20260419T163742Z
UID:ff-AFLABS-URNIK:srecanje:60845-2026-05-21 10:30:00+02:00
DESCRIPTION:Predmet: PS2 Kliničnopsihološka diagnostika\, Tutorial (T)\n
 Letniki: 1st year (PS2)\nIzvajalci: Maja Gostič\, Maša Vozlič\nProstor:
  Lecture Room\, Rimska 16-B
END:VEVENT
BEGIN:VEVENT
SUMMARY:PS2 Kliničnopsihološka diagnostika\, Tutorial (T)
DTSTART;TZID=Europe/Ljubljana:20260528T103000
DTEND;TZID=Europe/Ljubljana:20260528T161500
DTSTAMP:20260419T163742Z
UID:ff-AFLABS-URNIK:srecanje:60845-2026-05-28 10:30:00+02:00
DESCRIPTION:Predmet: PS2 Kliničnopsihološka diagnostika\, Tutorial (T)\n
 Letniki: 1st year (PS2)\nIzvajalci: Maja Gostič\, Maša Vozlič\nProstor:
  Lecture Room\, Rimska 16-B
END:VEVENT
BEGIN:VEVENT
SUMMARY:PS2 Svetovanje in psihoterapija\, Tutorial (T)
DTSTART;TZID=Europe/Ljubljana:20260220T080000
DTEND;TZID=Europe/Ljubljana:20260220T143500
DTSTAMP:20260419T163742Z
UID:ff-AFLABS-URNIK:srecanje:60847-2026-02-20 08:00:00+01:00
DESCRIPTION:Predmet: PS2 Svetovanje in psihoterapija\, Tutorial (T)\nLetni
 ki: 1st year (PS2)\nIzvajalci: Maja Gostič\, Maša Vozlič\nProstor: Lect
 ure Room\, Rimska 16-B
END:VEVENT
BEGIN:VEVENT
SUMMARY:PS2 Svetovanje in psihoterapija\, Tutorial (T)
DTSTART;TZID=Europe/Ljubljana:20260227T080000
DTEND;TZID=Europe/Ljubljana:20260227T143500
DTSTAMP:20260419T163742Z
UID:ff-AFLABS-URNIK:srecanje:60847-2026-02-27 08:00:00+01:00
DESCRIPTION:Predmet: PS2 Svetovanje in psihoterapija\, Tutorial (T)\nLetni
 ki: 1st year (PS2)\nIzvajalci: Maja Gostič\, Maša Vozlič\nProstor: Lect
 ure Room\, Rimska 16-B
END:VEVENT
BEGIN:VEVENT
SUMMARY:PS2 Svetovanje in psihoterapija\, Tutorial (T)
DTSTART;TZID=Europe/Ljubljana:20260306T080000
DTEND;TZID=Europe/Ljubljana:20260306T143500
DTSTAMP:20260419T163742Z
UID:ff-AFLABS-URNIK:srecanje:60847-2026-03-06 08:00:00+01:00
DESCRIPTION:Predmet: PS2 Svetovanje in psihoterapija\, Tutorial (T)\nLetni
 ki: 1st year (PS2)\nIzvajalci: Maja Gostič\, Maša Vozlič\nProstor: Lect
 ure Room\, Rimska 16-B
END:VEVENT
BEGIN:VEVENT
SUMMARY:PS2 Svetovanje in psihoterapija\, Tutorial (T)
DTSTART;TZID=Europe/Ljubljana:20260313T080000
DTEND;TZID=Europe/Ljubljana:20260313T143500
DTSTAMP:20260419T163742Z
UID:ff-AFLABS-URNIK:srecanje:60847-2026-03-13 08:00:00+01:00
DESCRIPTION:Predmet: PS2 Svetovanje in psihoterapija\, Tutorial (T)\nLetni
 ki: 1st year (PS2)\nIzvajalci: Maja Gostič\, Maša Vozlič\nProstor: Lect
 ure Room\, Rimska 16-B
END:VEVENT
BEGIN:VEVENT
SUMMARY:PS2 Svetovanje in psihoterapija\, Tutorial (T)
DTSTART;TZID=Europe/Ljubljana:20260320T080000
DTEND;TZID=Europe/Ljubljana:20260320T143500
DTSTAMP:20260419T163742Z
UID:ff-AFLABS-URNIK:srecanje:60847-2026-03-20 08:00:00+01:00
DESCRIPTION:Predmet: PS2 Svetovanje in psihoterapija\, Tutorial (T)\nLetni
 ki: 1st year (PS2)\nIzvajalci: Maja Gostič\, Maša Vozlič\nProstor: Lect
 ure Room\, Rimska 16-B
END:VEVENT
BEGIN:VEVENT
SUMMARY:PS2 Svetovanje in psihoterapija\, Tutorial (T)
DTSTART;TZID=Europe/Ljubljana:20260327T080000
DTEND;TZID=Europe/Ljubljana:20260327T143500
DTSTAMP:20260419T163742Z
UID:ff-AFLABS-URNIK:srecanje:60847-2026-03-27 08:00:00+01:00
DESCRIPTION:Predmet: PS2 Svetovanje in psihoterapija\, Tutorial (T)\nLetni
 ki: 1st year (PS2)\nIzvajalci: Maja Gostič\, Maša Vozlič\nProstor: Lect
 ure Room\, Rimska 16-B
END:VEVENT
BEGIN:VEVENT
SUMMARY:PS2 Svetovanje in psihoterapija\, Tutorial (T)
DTSTART;TZID=Europe/Ljubljana:20260403T080000
DTEND;TZID=Europe/Ljubljana:20260403T143500
DTSTAMP:20260419T163742Z
UID:ff-AFLABS-URNIK:srecanje:60847-2026-04-03 08:00:00+02:00
DESCRIPTION:Predmet: PS2 Svetovanje in psihoterapija\, Tutorial (T)\nLetni
 ki: 1st year (PS2)\nIzvajalci: Maja Gostič\, Maša Vozlič\nProstor: Lect
 ure Room\, Rimska 16-B
END:VEVENT
BEGIN:VEVENT
SUMMARY:PS2 Svetovanje in psihoterapija\, Tutorial (T)
DTSTART;TZID=Europe/Ljubljana:20260410T080000
DTEND;TZID=Europe/Ljubljana:20260410T143500
DTSTAMP:20260419T163742Z
UID:ff-AFLABS-URNIK:srecanje:60847-2026-04-10 08:00:00+02:00
DESCRIPTION:Predmet: PS2 Svetovanje in psihoterapija\, Tutorial (T)\nLetni
 ki: 1st year (PS2)\nIzvajalci: Maja Gostič\, Maša Vozlič\nProstor: Lect
 ure Room\, Rimska 16-B
END:VEVENT
BEGIN:VEVENT
SUMMARY:PS2 Svetovanje in psihoterapija\, Tutorial (T)
DTSTART;TZID=Europe/Ljubljana:20260417T080000
DTEND;TZID=Europe/Ljubljana:20260417T143500
DTSTAMP:20260419T163742Z
UID:ff-AFLABS-URNIK:srecanje:60847-2026-04-17 08:00:00+02:00
DESCRIPTION:Predmet: PS2 Svetovanje in psihoterapija\, Tutorial (T)\nLetni
 ki: 1st year (PS2)\nIzvajalci: Maja Gostič\, Maša Vozlič\nProstor: Lect
 ure Room\, Rimska 16-B
END:VEVENT
BEGIN:VEVENT
SUMMARY:PS2 Svetovanje in psihoterapija\, Tutorial (T)
DTSTART;TZID=Europe/Ljubljana:20260424T080000
DTEND;TZID=Europe/Ljubljana:20260424T143500
DTSTAMP:20260419T163742Z
UID:ff-AFLABS-URNIK:srecanje:60847-2026-04-24 08:00:00+02:00
DESCRIPTION:Predmet: PS2 Svetovanje in psihoterapija\, Tutorial (T)\nLetni
 ki: 1st year (PS2)\nIzvajalci: Maja Gostič\, Maša Vozlič\nProstor: Lect
 ure Room\, Rimska 16-B
END:VEVENT
BEGIN:VEVENT
SUMMARY:PS2 Svetovanje in psihoterapija\, Tutorial (T)
DTSTART;TZID=Europe/Ljubljana:20260508T080000
DTEND;TZID=Europe/Ljubljana:20260508T143500
DTSTAMP:20260419T163742Z
UID:ff-AFLABS-URNIK:srecanje:60847-2026-05-08 08:00:00+02:00
DESCRIPTION:Predmet: PS2 Svetovanje in psihoterapija\, Tutorial (T)\nLetni
 ki: 1st year (PS2)\nIzvajalci: Maja Gostič\, Maša Vozlič\nProstor: Lect
 ure Room\, Rimska 16-B
END:VEVENT
BEGIN:VEVENT
SUMMARY:PS2 Svetovanje in psihoterapija\, Tutorial (T)
DTSTART;TZID=Europe/Ljubljana:20260515T080000
DTEND;TZID=Europe/Ljubljana:20260515T143500
DTSTAMP:20260419T163742Z
UID:ff-AFLABS-URNIK:srecanje:60847-2026-05-15 08:00:00+02:00
DESCRIPTION:Predmet: PS2 Svetovanje in psihoterapija\, Tutorial (T)\nLetni
 ki: 1st year (PS2)\nIzvajalci: Maja Gostič\, Maša Vozlič\nProstor: Lect
 ure Room\, Rimska 16-B
END:VEVENT
BEGIN:VEVENT
SUMMARY:PS2 Svetovanje in psihoterapija\, Tutorial (T)
DTSTART;TZID=Europe/Ljubljana:20260522T080000
DTEND;TZID=Europe/Ljubljana:20260522T143500
DTSTAMP:20260419T163742Z
UID:ff-AFLABS-URNIK:srecanje:60847-2026-05-22 08:00:00+02:00
DESCRIPTION:Predmet: PS2 Svetovanje in psihoterapija\, Tutorial (T)\nLetni
 ki: 1st year (PS2)\nIzvajalci: Maja Gostič\, Maša Vozlič\nProstor: Lect
 ure Room\, Rimska 16-B
END:VEVENT
BEGIN:VEVENT
SUMMARY:PS2 Svetovanje in psihoterapija\, Tutorial (T)
DTSTART;TZID=Europe/Ljubljana:20260529T080000
DTEND;TZID=Europe/Ljubljana:20260529T143500
DTSTAMP:20260419T163742Z
UID:ff-AFLABS-URNIK:srecanje:60847-2026-05-29 08:00:00+02:00
DESCRIPTION:Predmet: PS2 Svetovanje in psihoterapija\, Tutorial (T)\nLetni
 ki: 1st year (PS2)\nIzvajalci: Maja Gostič\, Maša Vozlič\nProstor: Lect
 ure Room\, Rimska 16-B
END:VEVENT
BEGIN:VEVENT
SUMMARY:PS2 Kliničnopsihološka diagnostika\, Tutorial (T)
DTSTART;TZID=Europe/Ljubljana:20260409T162000
DTEND;TZID=Europe/Ljubljana:20260409T184500
DTSTAMP:20260419T163742Z
UID:ff-AFLABS-URNIK:srecanje:61531-2026-04-09 16:20:00+02:00
DESCRIPTION:Predmet: PS2 Kliničnopsihološka diagnostika\, Tutorial (T)\n
 Letniki: 1st year (PS2)\nIzvajalci: Maja Gostič\, Maša Vozlič\nProstor:
  Lecture Room\, Rimska 16-B
END:VEVENT
BEGIN:VEVENT
SUMMARY:PS2 Kliničnopsihološka diagnostika\, Tutorial (T)
DTSTART;TZID=Europe/Ljubljana:20260416T162000
DTEND;TZID=Europe/Ljubljana:20260416T184500
DTSTAMP:20260419T163742Z
UID:ff-AFLABS-URNIK:srecanje:61531-2026-04-16 16:20:00+02:00
DESCRIPTION:Predmet: PS2 Kliničnopsihološka diagnostika\, Tutorial (T)\n
 Letniki: 1st year (PS2)\nIzvajalci: Maja Gostič\, Maša Vozlič\nProstor:
  Lecture Room\, Rimska 16-B
END:VEVENT
BEGIN:VEVENT
SUMMARY:PS2 Kliničnopsihološka diagnostika\, Tutorial (T)
DTSTART;TZID=Europe/Ljubljana:20260411T080000
DTEND;TZID=Europe/Ljubljana:20260411T120000
DTSTAMP:20260419T163742Z
UID:ff-AFLABS-URNIK:srecanje:61533-2026-04-11 08:00:00+02:00
DESCRIPTION:Predmet: PS2 Kliničnopsihološka diagnostika\, Tutorial (T)\n
 Letniki: 1st year (PS2)\nIzvajalci: Maja Gostič\, Maša Vozlič\nProstor:
  Lecture room 116
END:VEVENT
BEGIN:VEVENT
SUMMARY:PS2 Kliničnopsihološka diagnostika\, Tutorial (T)
DTSTART;TZID=Europe/Ljubljana:20260411T133000
DTEND;TZID=Europe/Ljubljana:20260411T160000
DTSTAMP:20260419T163742Z
UID:ff-AFLABS-URNIK:srecanje:61534-2026-04-11 13:30:00+02:00
DESCRIPTION:Predmet: PS2 Kliničnopsihološka diagnostika\, Tutorial (T)\n
 Letniki: 1st year (PS2)\nIzvajalci: Maja Gostič\, Maša Vozlič\nProstor:
  Lecture room 116
END:VEVENT
BEGIN:VEVENT
SUMMARY:PS2 Kliničnopsihološka diagnostika\, Tutorial (T)
DTSTART;TZID=Europe/Ljubljana:20260411T100000
DTEND;TZID=Europe/Ljubljana:20260411T120000
DTSTAMP:20260419T163742Z
UID:ff-AFLABS-URNIK:srecanje:61537-2026-04-11 10:00:00+02:00
DESCRIPTION:Predmet: PS2 Kliničnopsihološka diagnostika\, Tutorial (T)\n
 Letniki: 1st year (PS2)\nIzvajalci: Maja Gostič\, Maša Vozlič\nProstor:
  Lecture room 115
END:VEVENT
BEGIN:VEVENT
SUMMARY:PS2 Kliničnopsihološka diagnostika\, Tutorial (T)
DTSTART;TZID=Europe/Ljubljana:20260411T100000
DTEND;TZID=Europe/Ljubljana:20260411T120000
DTSTAMP:20260419T163742Z
UID:ff-AFLABS-URNIK:srecanje:61539-2026-04-11 10:00:00+02:00
DESCRIPTION:Predmet: PS2 Kliničnopsihološka diagnostika\, Tutorial (T)\n
 Letniki: 1st year (PS2)\nIzvajalci: Maja Gostič\, Maša Vozlič\nProstor:
  Lecture room 102
END:VEVENT
BEGIN:VEVENT
SUMMARY:PS2 Kliničnopsihološka diagnostika\, Tutorial (T)
DTSTART;TZID=Europe/Ljubljana:20260411T100000
DTEND;TZID=Europe/Ljubljana:20260411T120000
DTSTAMP:20260419T163742Z
UID:ff-AFLABS-URNIK:srecanje:61541-2026-04-11 10:00:00+02:00
DESCRIPTION:Predmet: PS2 Kliničnopsihološka diagnostika\, Tutorial (T)\n
 Letniki: 1st year (PS2)\nIzvajalci: Maja Gostič\, Maša Vozlič\nProstor:
  Lecture room 02
END:VEVENT
BEGIN:VEVENT
SUMMARY:PS2 Kliničnopsihološka diagnostika\, Tutorial (T)
DTSTART;TZID=Europe/Ljubljana:20260411T100000
DTEND;TZID=Europe/Ljubljana:20260411T120000
DTSTAMP:20260419T163742Z
UID:ff-AFLABS-URNIK:srecanje:61543-2026-04-11 10:00:00+02:00
DESCRIPTION:Predmet: PS2 Kliničnopsihološka diagnostika\, Tutorial (T)\n
 Letniki: 1st year (PS2)\nIzvajalci: Maja Gostič\, Maša Vozlič\nProstor:
  Lecture room 024
END:VEVENT
BEGIN:VEVENT
SUMMARY:PS2 Kliničnopsihološka diagnostika\, Tutorial (T)
DTSTART;TZID=Europe/Ljubljana:20260411T100000
DTEND;TZID=Europe/Ljubljana:20260411T120000
DTSTAMP:20260419T163742Z
UID:ff-AFLABS-URNIK:srecanje:61545-2026-04-11 10:00:00+02:00
DESCRIPTION:Predmet: PS2 Kliničnopsihološka diagnostika\, Tutorial (T)\n
 Letniki: 1st year (PS2)\nIzvajalci: Maja Gostič\, Maša Vozlič\nProstor:
  Lecture room 05
END:VEVENT
BEGIN:VEVENT
SUMMARY:PS2 Kliničnopsihološka diagnostika\, Tutorial (T)
DTSTART;TZID=Europe/Ljubljana:20260411T100000
DTEND;TZID=Europe/Ljubljana:20260411T120000
DTSTAMP:20260419T163742Z
UID:ff-AFLABS-URNIK:srecanje:61547-2026-04-11 10:00:00+02:00
DESCRIPTION:Predmet: PS2 Kliničnopsihološka diagnostika\, Tutorial (T)\n
 Letniki: 1st year (PS2)\nIzvajalci: Maja Gostič\, Maša Vozlič\nProstor:
  Lecture room 4-Rim.
END:VEVENT
END:VCALENDAR
