BEGIN:VCALENDAR
VERSION:2.0
PRODID:-//AFLabs urnik izvoz - ff//aflabs.si//SI
NAME:UL FF Urnik
X-WR-CALNAME:UL FF Urnik
DTSTAMP:20260419T173624Z
REFRESH-INTERVAL:PT1H
SOURCE:https://urnik.ff.uni-lj.si/en/teacher/3998/?day=2026-01-21&export=1
URL:https://urnik.ff.uni-lj.si/en/teacher/3998/?day=2026-01-21&export=1
X-PUBLISHED-TTL:PT1H
X-WR-TIMEZONE:Europe/Ljubljana
BEGIN:VTIMEZONE
TZID:Europe/Ljubljana
BEGIN:DAYLIGHT
DTSTART:20260329T020000
RDATE:20260329T020000
RDATE:20270328T020000
TZNAME:CEST
TZOFFSETFROM:+0100
TZOFFSETTO:+0200
END:DAYLIGHT
BEGIN:STANDARD
DTSTART:20261025T030000
RDATE:20261025T030000
RDATE:20271031T030000
TZNAME:CET
TZOFFSETFROM:+0200
TZOFFSETTO:+0100
END:STANDARD
END:VTIMEZONE
BEGIN:VEVENT
SUMMARY:AN2 Angleško historično jezikoslovje\, Seminar (S)
DTSTART;TZID=Europe/Ljubljana:20260218T144000
DTEND;TZID=Europe/Ljubljana:20260218T161500
DTSTAMP:20260419T173624Z
UID:ff-AFLABS-URNIK:srecanje:56913-2026-02-18 14:40:00+01:00
DESCRIPTION:Predmet: AN2 Angleško historično jezikoslovje\, Seminar (S)\
 nLetniki: 2nd year (AN2)\nIzvajalci: Julian Mader\nProstor: Lecture room 0
 5
END:VEVENT
BEGIN:VEVENT
SUMMARY:AN2 Angleško historično jezikoslovje\, Seminar (S)
DTSTART;TZID=Europe/Ljubljana:20260225T144000
DTEND;TZID=Europe/Ljubljana:20260225T161500
DTSTAMP:20260419T173624Z
UID:ff-AFLABS-URNIK:srecanje:56913-2026-02-25 14:40:00+01:00
DESCRIPTION:Predmet: AN2 Angleško historično jezikoslovje\, Seminar (S)\
 nLetniki: 2nd year (AN2)\nIzvajalci: Julian Mader\nProstor: Lecture room 0
 5
END:VEVENT
BEGIN:VEVENT
SUMMARY:AN1 Introduction to the History of English INT\, Lecture (L)
DTSTART;TZID=Europe/Ljubljana:20260219T144000
DTEND;TZID=Europe/Ljubljana:20260219T161500
DTSTAMP:20260419T173624Z
UID:ff-AFLABS-URNIK:srecanje:58271-2026-02-19 14:40:00+01:00
DESCRIPTION:Predmet: AN1 Introduction to the History of English INT\, Lect
 ure (L)\nLetniki: Erasmus (ERAS)\nIzvajalci: Julian Mader\nProstor: Lectur
 e room 209C
END:VEVENT
END:VCALENDAR
