BEGIN:VCALENDAR
VERSION:2.0
PRODID:-//AFLabs urnik izvoz - ff//aflabs.si//SI
NAME:UL FF Urnik
X-WR-CALNAME:UL FF Urnik
DTSTAMP:20260421T032158Z
REFRESH-INTERVAL:PT1H
SOURCE:https://urnik.ff.uni-lj.si/teacher/1794/?day=2026-02-09&export=1
URL:https://urnik.ff.uni-lj.si/teacher/1794/?day=2026-02-09&export=1
X-PUBLISHED-TTL:PT1H
X-WR-TIMEZONE:Europe/Ljubljana
BEGIN:VTIMEZONE
TZID:Europe/Ljubljana
BEGIN:DAYLIGHT
DTSTART:20260329T020000
RDATE:20260329T020000
RDATE:20270328T020000
TZNAME:CEST
TZOFFSETFROM:+0100
TZOFFSETTO:+0200
END:DAYLIGHT
BEGIN:STANDARD
DTSTART:20261025T030000
RDATE:20261025T030000
RDATE:20271031T030000
TZNAME:CET
TZOFFSETFROM:+0200
TZOFFSETTO:+0100
END:STANDARD
END:VTIMEZONE
BEGIN:VEVENT
SUMMARY:AR1 Latinščina 2 (2024/2025)\, Vaje (V)\, [1]
DTSTART;TZID=Europe/Ljubljana:20260216T162000
DTEND;TZID=Europe/Ljubljana:20260216T175500
DTSTAMP:20260421T032158Z
UID:ff-AFLABS-URNIK:srecanje:58516-2026-02-16 16:20:00+01:00
DESCRIPTION:Predmet: AR1 Latinščina 2 (2024/2025)\, Vaje (V)\, [1]\nLetn
 iki: 1. letnik (AR1)\, 1. letnik (PSJ2)\, 2. letnik (PSJ2)\nIzvajalci: Šp
 ela Tomažinčič\nProstor: Predavalnica ARH P5
END:VEVENT
BEGIN:VEVENT
SUMMARY:AR1 Latinščina 2 (2024/2025)\, Vaje (V)\, [1]
DTSTART;TZID=Europe/Ljubljana:20260223T162000
DTEND;TZID=Europe/Ljubljana:20260223T175500
DTSTAMP:20260421T032158Z
UID:ff-AFLABS-URNIK:srecanje:58516-2026-02-23 16:20:00+01:00
DESCRIPTION:Predmet: AR1 Latinščina 2 (2024/2025)\, Vaje (V)\, [1]\nLetn
 iki: 1. letnik (AR1)\, 1. letnik (PSJ2)\, 2. letnik (PSJ2)\nIzvajalci: Šp
 ela Tomažinčič\nProstor: Predavalnica ARH P5
END:VEVENT
BEGIN:VEVENT
SUMMARY:AR1 Latinščina 2 (2024/2025)\, Vaje (V)\, [1]
DTSTART;TZID=Europe/Ljubljana:20260302T162000
DTEND;TZID=Europe/Ljubljana:20260302T175500
DTSTAMP:20260421T032158Z
UID:ff-AFLABS-URNIK:srecanje:58516-2026-03-02 16:20:00+01:00
DESCRIPTION:Predmet: AR1 Latinščina 2 (2024/2025)\, Vaje (V)\, [1]\nLetn
 iki: 1. letnik (AR1)\, 1. letnik (PSJ2)\, 2. letnik (PSJ2)\nIzvajalci: Šp
 ela Tomažinčič\nProstor: Predavalnica ARH P5
END:VEVENT
BEGIN:VEVENT
SUMMARY:AR1 Latinščina 2 (2024/2025)\, Vaje (V)\, [1]
DTSTART;TZID=Europe/Ljubljana:20260309T162000
DTEND;TZID=Europe/Ljubljana:20260309T175500
DTSTAMP:20260421T032158Z
UID:ff-AFLABS-URNIK:srecanje:58516-2026-03-09 16:20:00+01:00
DESCRIPTION:Predmet: AR1 Latinščina 2 (2024/2025)\, Vaje (V)\, [1]\nLetn
 iki: 1. letnik (AR1)\, 1. letnik (PSJ2)\, 2. letnik (PSJ2)\nIzvajalci: Šp
 ela Tomažinčič\nProstor: Predavalnica ARH P5
END:VEVENT
BEGIN:VEVENT
SUMMARY:AR1 Latinščina 2 (2024/2025)\, Vaje (V)\, [1]
DTSTART;TZID=Europe/Ljubljana:20260316T162000
DTEND;TZID=Europe/Ljubljana:20260316T175500
DTSTAMP:20260421T032158Z
UID:ff-AFLABS-URNIK:srecanje:58516-2026-03-16 16:20:00+01:00
DESCRIPTION:Predmet: AR1 Latinščina 2 (2024/2025)\, Vaje (V)\, [1]\nLetn
 iki: 1. letnik (AR1)\, 1. letnik (PSJ2)\, 2. letnik (PSJ2)\nIzvajalci: Šp
 ela Tomažinčič\nProstor: Predavalnica ARH P5
END:VEVENT
BEGIN:VEVENT
SUMMARY:AR1 Latinščina 2 (2024/2025)\, Vaje (V)\, [2]
DTSTART;TZID=Europe/Ljubljana:20260216T180000
DTEND;TZID=Europe/Ljubljana:20260216T193500
DTSTAMP:20260421T032158Z
UID:ff-AFLABS-URNIK:srecanje:58517-2026-02-16 18:00:00+01:00
DESCRIPTION:Predmet: AR1 Latinščina 2 (2024/2025)\, Vaje (V)\, [2]\nLetn
 iki: 1. letnik (AR1)\, 1. letnik (PSJ2)\, 2. letnik (PSJ2)\nIzvajalci: Šp
 ela Tomažinčič\nProstor: Predavalnica ARH P5
END:VEVENT
BEGIN:VEVENT
SUMMARY:AR1 Latinščina 2 (2024/2025)\, Vaje (V)\, [2]
DTSTART;TZID=Europe/Ljubljana:20260223T180000
DTEND;TZID=Europe/Ljubljana:20260223T193500
DTSTAMP:20260421T032158Z
UID:ff-AFLABS-URNIK:srecanje:58517-2026-02-23 18:00:00+01:00
DESCRIPTION:Predmet: AR1 Latinščina 2 (2024/2025)\, Vaje (V)\, [2]\nLetn
 iki: 1. letnik (AR1)\, 1. letnik (PSJ2)\, 2. letnik (PSJ2)\nIzvajalci: Šp
 ela Tomažinčič\nProstor: Predavalnica ARH P5
END:VEVENT
BEGIN:VEVENT
SUMMARY:AR1 Latinščina 2 (2024/2025)\, Vaje (V)\, [2]
DTSTART;TZID=Europe/Ljubljana:20260302T180000
DTEND;TZID=Europe/Ljubljana:20260302T193500
DTSTAMP:20260421T032158Z
UID:ff-AFLABS-URNIK:srecanje:58517-2026-03-02 18:00:00+01:00
DESCRIPTION:Predmet: AR1 Latinščina 2 (2024/2025)\, Vaje (V)\, [2]\nLetn
 iki: 1. letnik (AR1)\, 1. letnik (PSJ2)\, 2. letnik (PSJ2)\nIzvajalci: Šp
 ela Tomažinčič\nProstor: Predavalnica ARH P5
END:VEVENT
BEGIN:VEVENT
SUMMARY:AR1 Latinščina 2 (2024/2025)\, Vaje (V)\, [2]
DTSTART;TZID=Europe/Ljubljana:20260309T180000
DTEND;TZID=Europe/Ljubljana:20260309T193500
DTSTAMP:20260421T032158Z
UID:ff-AFLABS-URNIK:srecanje:58517-2026-03-09 18:00:00+01:00
DESCRIPTION:Predmet: AR1 Latinščina 2 (2024/2025)\, Vaje (V)\, [2]\nLetn
 iki: 1. letnik (AR1)\, 1. letnik (PSJ2)\, 2. letnik (PSJ2)\nIzvajalci: Šp
 ela Tomažinčič\nProstor: Predavalnica ARH P5
END:VEVENT
BEGIN:VEVENT
SUMMARY:AR1 Latinščina 2 (2024/2025)\, Vaje (V)\, [2]
DTSTART;TZID=Europe/Ljubljana:20260316T180000
DTEND;TZID=Europe/Ljubljana:20260316T193500
DTSTAMP:20260421T032158Z
UID:ff-AFLABS-URNIK:srecanje:58517-2026-03-16 18:00:00+01:00
DESCRIPTION:Predmet: AR1 Latinščina 2 (2024/2025)\, Vaje (V)\, [2]\nLetn
 iki: 1. letnik (AR1)\, 1. letnik (PSJ2)\, 2. letnik (PSJ2)\nIzvajalci: Šp
 ela Tomažinčič\nProstor: Predavalnica ARH P5
END:VEVENT
BEGIN:VEVENT
SUMMARY:AHŠ1 Latinščina II\, Vaje (V)
DTSTART;TZID=Europe/Ljubljana:20260216T135000
DTEND;TZID=Europe/Ljubljana:20260216T152500
DTSTAMP:20260421T032158Z
UID:ff-AFLABS-URNIK:srecanje:57152-2026-02-16 13:50:00+01:00
DESCRIPTION:Predmet: AHŠ1 Latinščina II\, Vaje (V)\nLetniki: 2. letnik 
 (AHŠ1)\, 2. letnik (GR1)\nIzvajalci: Špela Tomažinčič\nProstor: Preda
 valnica 4-Rim.
END:VEVENT
BEGIN:VEVENT
SUMMARY:AHŠ1 Latinščina II\, Vaje (V)
DTSTART;TZID=Europe/Ljubljana:20260223T135000
DTEND;TZID=Europe/Ljubljana:20260223T152500
DTSTAMP:20260421T032158Z
UID:ff-AFLABS-URNIK:srecanje:57152-2026-02-23 13:50:00+01:00
DESCRIPTION:Predmet: AHŠ1 Latinščina II\, Vaje (V)\nLetniki: 2. letnik 
 (AHŠ1)\, 2. letnik (GR1)\nIzvajalci: Špela Tomažinčič\nProstor: Preda
 valnica 4-Rim.
END:VEVENT
BEGIN:VEVENT
SUMMARY:AHŠ1 Latinščina II\, Vaje (V)
DTSTART;TZID=Europe/Ljubljana:20260302T135000
DTEND;TZID=Europe/Ljubljana:20260302T152500
DTSTAMP:20260421T032158Z
UID:ff-AFLABS-URNIK:srecanje:57152-2026-03-02 13:50:00+01:00
DESCRIPTION:Predmet: AHŠ1 Latinščina II\, Vaje (V)\nLetniki: 2. letnik 
 (AHŠ1)\, 2. letnik (GR1)\nIzvajalci: Špela Tomažinčič\nProstor: Preda
 valnica 4-Rim.
END:VEVENT
BEGIN:VEVENT
SUMMARY:AHŠ1 Latinščina II\, Vaje (V)
DTSTART;TZID=Europe/Ljubljana:20260309T135000
DTEND;TZID=Europe/Ljubljana:20260309T152500
DTSTAMP:20260421T032158Z
UID:ff-AFLABS-URNIK:srecanje:57152-2026-03-09 13:50:00+01:00
DESCRIPTION:Predmet: AHŠ1 Latinščina II\, Vaje (V)\nLetniki: 2. letnik 
 (AHŠ1)\, 2. letnik (GR1)\nIzvajalci: Špela Tomažinčič\nProstor: Preda
 valnica 4-Rim.
END:VEVENT
BEGIN:VEVENT
SUMMARY:AHŠ1 Latinščina II\, Vaje (V)
DTSTART;TZID=Europe/Ljubljana:20260316T135000
DTEND;TZID=Europe/Ljubljana:20260316T152500
DTSTAMP:20260421T032158Z
UID:ff-AFLABS-URNIK:srecanje:57152-2026-03-16 13:50:00+01:00
DESCRIPTION:Predmet: AHŠ1 Latinščina II\, Vaje (V)\nLetniki: 2. letnik 
 (AHŠ1)\, 2. letnik (GR1)\nIzvajalci: Špela Tomažinčič\nProstor: Preda
 valnica 4-Rim.
END:VEVENT
BEGIN:VEVENT
SUMMARY:AR1 Latinščina 2 (2024/2025)\, Vaje (V)\, [1]
DTSTART;TZID=Europe/Ljubljana:20260217T180000
DTEND;TZID=Europe/Ljubljana:20260217T193500
DTSTAMP:20260421T032158Z
UID:ff-AFLABS-URNIK:srecanje:58430-2026-02-17 18:00:00+01:00
DESCRIPTION:Predmet: AR1 Latinščina 2 (2024/2025)\, Vaje (V)\, [1]\nLetn
 iki: 1. letnik (AR1)\, 1. letnik (PSJ2)\, 2. letnik (PSJ2)\nIzvajalci: Šp
 ela Tomažinčič\nProstor: Predavalnica ARH P5
END:VEVENT
BEGIN:VEVENT
SUMMARY:AR1 Latinščina 2 (2024/2025)\, Vaje (V)\, [1]
DTSTART;TZID=Europe/Ljubljana:20260224T180000
DTEND;TZID=Europe/Ljubljana:20260224T193500
DTSTAMP:20260421T032158Z
UID:ff-AFLABS-URNIK:srecanje:58430-2026-02-24 18:00:00+01:00
DESCRIPTION:Predmet: AR1 Latinščina 2 (2024/2025)\, Vaje (V)\, [1]\nLetn
 iki: 1. letnik (AR1)\, 1. letnik (PSJ2)\, 2. letnik (PSJ2)\nIzvajalci: Šp
 ela Tomažinčič\nProstor: Predavalnica ARH P5
END:VEVENT
BEGIN:VEVENT
SUMMARY:AR1 Latinščina 2 (2024/2025)\, Vaje (V)\, [1]
DTSTART;TZID=Europe/Ljubljana:20260303T180000
DTEND;TZID=Europe/Ljubljana:20260303T193500
DTSTAMP:20260421T032158Z
UID:ff-AFLABS-URNIK:srecanje:58430-2026-03-03 18:00:00+01:00
DESCRIPTION:Predmet: AR1 Latinščina 2 (2024/2025)\, Vaje (V)\, [1]\nLetn
 iki: 1. letnik (AR1)\, 1. letnik (PSJ2)\, 2. letnik (PSJ2)\nIzvajalci: Šp
 ela Tomažinčič\nProstor: Predavalnica ARH P5
END:VEVENT
BEGIN:VEVENT
SUMMARY:AR1 Latinščina 2 (2024/2025)\, Vaje (V)\, [1]
DTSTART;TZID=Europe/Ljubljana:20260310T180000
DTEND;TZID=Europe/Ljubljana:20260310T193500
DTSTAMP:20260421T032158Z
UID:ff-AFLABS-URNIK:srecanje:58430-2026-03-10 18:00:00+01:00
DESCRIPTION:Predmet: AR1 Latinščina 2 (2024/2025)\, Vaje (V)\, [1]\nLetn
 iki: 1. letnik (AR1)\, 1. letnik (PSJ2)\, 2. letnik (PSJ2)\nIzvajalci: Šp
 ela Tomažinčič\nProstor: Predavalnica ARH P5
END:VEVENT
BEGIN:VEVENT
SUMMARY:AR1 Latinščina 2 (2024/2025)\, Vaje (V)\, [2]
DTSTART;TZID=Europe/Ljubljana:20260217T162000
DTEND;TZID=Europe/Ljubljana:20260217T175500
DTSTAMP:20260421T032158Z
UID:ff-AFLABS-URNIK:srecanje:55775-2026-02-17 16:20:00+01:00
DESCRIPTION:Predmet: AR1 Latinščina 2 (2024/2025)\, Vaje (V)\, [2]\nLetn
 iki: 1. letnik (AR1)\, 1. letnik (PSJ2)\, 2. letnik (PSJ2)\nIzvajalci: Šp
 ela Tomažinčič\nProstor: Predavalnica ARH P5
END:VEVENT
BEGIN:VEVENT
SUMMARY:AR1 Latinščina 2 (2024/2025)\, Vaje (V)\, [2]
DTSTART;TZID=Europe/Ljubljana:20260224T162000
DTEND;TZID=Europe/Ljubljana:20260224T175500
DTSTAMP:20260421T032158Z
UID:ff-AFLABS-URNIK:srecanje:55775-2026-02-24 16:20:00+01:00
DESCRIPTION:Predmet: AR1 Latinščina 2 (2024/2025)\, Vaje (V)\, [2]\nLetn
 iki: 1. letnik (AR1)\, 1. letnik (PSJ2)\, 2. letnik (PSJ2)\nIzvajalci: Šp
 ela Tomažinčič\nProstor: Predavalnica ARH P5
END:VEVENT
BEGIN:VEVENT
SUMMARY:AR1 Latinščina 2 (2024/2025)\, Vaje (V)\, [2]
DTSTART;TZID=Europe/Ljubljana:20260303T162000
DTEND;TZID=Europe/Ljubljana:20260303T175500
DTSTAMP:20260421T032158Z
UID:ff-AFLABS-URNIK:srecanje:55775-2026-03-03 16:20:00+01:00
DESCRIPTION:Predmet: AR1 Latinščina 2 (2024/2025)\, Vaje (V)\, [2]\nLetn
 iki: 1. letnik (AR1)\, 1. letnik (PSJ2)\, 2. letnik (PSJ2)\nIzvajalci: Šp
 ela Tomažinčič\nProstor: Predavalnica ARH P5
END:VEVENT
BEGIN:VEVENT
SUMMARY:AR1 Latinščina 2 (2024/2025)\, Vaje (V)\, [2]
DTSTART;TZID=Europe/Ljubljana:20260310T162000
DTEND;TZID=Europe/Ljubljana:20260310T175500
DTSTAMP:20260421T032158Z
UID:ff-AFLABS-URNIK:srecanje:55775-2026-03-10 16:20:00+01:00
DESCRIPTION:Predmet: AR1 Latinščina 2 (2024/2025)\, Vaje (V)\, [2]\nLetn
 iki: 1. letnik (AR1)\, 1. letnik (PSJ2)\, 2. letnik (PSJ2)\nIzvajalci: Šp
 ela Tomažinčič\nProstor: Predavalnica ARH P5
END:VEVENT
BEGIN:VEVENT
SUMMARY:AHŠ1 Latinščina I\, Vaje (V)
DTSTART;TZID=Europe/Ljubljana:20260217T080000
DTEND;TZID=Europe/Ljubljana:20260217T093500
DTSTAMP:20260421T032158Z
UID:ff-AFLABS-URNIK:srecanje:60813-2026-02-17 08:00:00+01:00
DESCRIPTION:Predmet: AHŠ1 Latinščina I\, Vaje (V)\nLetniki: 1. letnik (
 AHŠ1)\, 1. letnik (GR1)\nIzvajalci: Špela Tomažinčič\nProstor: Fonola
 boratorij 12
END:VEVENT
BEGIN:VEVENT
SUMMARY:AHŠ1 Latinščina I\, Vaje (V)
DTSTART;TZID=Europe/Ljubljana:20260224T080000
DTEND;TZID=Europe/Ljubljana:20260224T093500
DTSTAMP:20260421T032158Z
UID:ff-AFLABS-URNIK:srecanje:60813-2026-02-24 08:00:00+01:00
DESCRIPTION:Predmet: AHŠ1 Latinščina I\, Vaje (V)\nLetniki: 1. letnik (
 AHŠ1)\, 1. letnik (GR1)\nIzvajalci: Špela Tomažinčič\nProstor: Fonola
 boratorij 12
END:VEVENT
BEGIN:VEVENT
SUMMARY:AHŠ1 Latinščina I\, Vaje (V)
DTSTART;TZID=Europe/Ljubljana:20260303T080000
DTEND;TZID=Europe/Ljubljana:20260303T093500
DTSTAMP:20260421T032158Z
UID:ff-AFLABS-URNIK:srecanje:60813-2026-03-03 08:00:00+01:00
DESCRIPTION:Predmet: AHŠ1 Latinščina I\, Vaje (V)\nLetniki: 1. letnik (
 AHŠ1)\, 1. letnik (GR1)\nIzvajalci: Špela Tomažinčič\nProstor: Fonola
 boratorij 12
END:VEVENT
BEGIN:VEVENT
SUMMARY:AHŠ1 Latinščina I\, Vaje (V)
DTSTART;TZID=Europe/Ljubljana:20260310T080000
DTEND;TZID=Europe/Ljubljana:20260310T093500
DTSTAMP:20260421T032158Z
UID:ff-AFLABS-URNIK:srecanje:60813-2026-03-10 08:00:00+01:00
DESCRIPTION:Predmet: AHŠ1 Latinščina I\, Vaje (V)\nLetniki: 1. letnik (
 AHŠ1)\, 1. letnik (GR1)\nIzvajalci: Špela Tomažinčič\nProstor: Fonola
 boratorij 12
END:VEVENT
BEGIN:VEVENT
SUMMARY:izpit (R + I): AR1 Latinščina 1\, AR1 Latinščina 1 - izr.
DTSTART;TZID=Europe/Ljubljana:20260119T080000
DTEND;TZID=Europe/Ljubljana:20260119T100000
DTSTAMP:20260421T032158Z
UID:ff-AFLABS-URNIK:rezervacija:143023
ATTENDEE:1. letnik (AR1)
ATTENDEE:1. letnik (PSJ2)
ATTENDEE:1. letnik - izredni (AR1)
ATTENDEE:1. letnik - izredni (PSJ2)
ATTENDEE:2. letnik (PSJ2)
ATTENDEE:2. letnik - izredni (PSJ2)
CATEGORIES:Reservation
COLOR:royalblue
DESCRIPTION:Predmeti: AR1 Latinščina 1\, AR1 Latinščina 1\, AR1 Latin
 ščina 1 - izr.\nLetniki: 1. letnik (AR1)\, 1. letnik - izredni (AR1)\, 1
 . letnik (PSJ2)\, 1. letnik - izredni (PSJ2)\, 2. letnik (PSJ2)\, 2. letni
 k - izredni (PSJ2)\nIzvajalci: Špela Tomažinčič\nProstori: Predavalnic
 a ARH P5
LOCATION:Zavetiška 5\, Predavalnica ARH P5
ORGANIZER:Špela Tomažinčič
X-WR-TIMEZONE:Europe/Ljubljana
END:VEVENT
BEGIN:VEVENT
SUMMARY:izpit (R + I): AHŠ1 Latinščina II - izr.\, AHŠ1 Latinščina I
 I
DTSTART;TZID=Europe/Ljubljana:20260212T080000
DTEND;TZID=Europe/Ljubljana:20260212T100000
DTSTAMP:20260421T032158Z
UID:ff-AFLABS-URNIK:rezervacija:146821
ATTENDEE:2. letnik (AHŠ1)
ATTENDEE:2. letnik (GR1)
ATTENDEE:2. letnik - izredni (AHŠ1)
ATTENDEE:2. letnik - izredni (GR1)
CATEGORIES:Reservation
COLOR:royalblue
DESCRIPTION:Predmeti: AHŠ1 Latinščina II\, AHŠ1 Latinščina II\, AHŠ
 1 Latinščina II - izr.\nLetniki: 2. letnik (AHŠ1)\, 2. letnik - izredni
  (AHŠ1)\, 2. letnik (GR1)\, 2. letnik - izredni (GR1)\nIzvajalci: Špela 
 Tomažinčič\nProstori: Predavalnica ARH P5
LOCATION:Zavetiška 5\, Predavalnica ARH P5
ORGANIZER:Špela Tomažinčič
X-WR-TIMEZONE:Europe/Ljubljana
END:VEVENT
BEGIN:VEVENT
SUMMARY:izpit (R + I): AR1 Latinščina 2 - pisni izpit (2024/2025)
DTSTART;TZID=Europe/Ljubljana:20260212T080000
DTEND;TZID=Europe/Ljubljana:20260212T100000
DTSTAMP:20260421T032158Z
UID:ff-AFLABS-URNIK:rezervacija:149467
ATTENDEE:1. letnik (AR1)
ATTENDEE:1. letnik (PSJ2)
ATTENDEE:2. letnik (PSJ2)
CATEGORIES:Reservation
COLOR:royalblue
DESCRIPTION:Predmeti: AR1 Latinščina 2 - pisni izpit (2024/2025)\nLetnik
 i: 1. letnik (AR1)\, 1. letnik (PSJ2)\, 2. letnik (PSJ2)\nIzvajalci: Špel
 a Tomažinčič\nProstori: Predavalnica ARH P5
LOCATION:Zavetiška 5\, Predavalnica ARH P5
ORGANIZER:Špela Tomažinčič
X-WR-TIMEZONE:Europe/Ljubljana
END:VEVENT
BEGIN:VEVENT
SUMMARY:izpit (R + I): AR1 Latinščina 2 - pisni izpit (2024/2025)
DTSTART;TZID=Europe/Ljubljana:20260119T080000
DTEND;TZID=Europe/Ljubljana:20260119T100000
DTSTAMP:20260421T032158Z
UID:ff-AFLABS-URNIK:rezervacija:149468
ATTENDEE:1. letnik (AR1)
ATTENDEE:1. letnik (PSJ2)
ATTENDEE:2. letnik (PSJ2)
CATEGORIES:Reservation
COLOR:royalblue
DESCRIPTION:Predmeti: AR1 Latinščina 2 - pisni izpit (2024/2025)\nLetnik
 i: 1. letnik (AR1)\, 1. letnik (PSJ2)\, 2. letnik (PSJ2)\nIzvajalci: Špel
 a Tomažinčič\nProstori: Predavalnica ARH P5
LOCATION:Zavetiška 5\, Predavalnica ARH P5
ORGANIZER:Špela Tomažinčič
X-WR-TIMEZONE:Europe/Ljubljana
END:VEVENT
BEGIN:VEVENT
SUMMARY:izpit (R + I): AR1 Latinščina 1\, AR1 Latinščina 1 - izr.
DTSTART;TZID=Europe/Ljubljana:20260212T080000
DTEND;TZID=Europe/Ljubljana:20260212T100000
DTSTAMP:20260421T032158Z
UID:ff-AFLABS-URNIK:rezervacija:145148
ATTENDEE:1. letnik (AR1)
ATTENDEE:1. letnik (PSJ2)
ATTENDEE:1. letnik - izredni (AR1)
ATTENDEE:1. letnik - izredni (PSJ2)
ATTENDEE:2. letnik (PSJ2)
ATTENDEE:2. letnik - izredni (PSJ2)
CATEGORIES:Reservation
COLOR:royalblue
DESCRIPTION:Predmeti: AR1 Latinščina 1\, AR1 Latinščina 1\, AR1 Latin
 ščina 1 - izr.\nLetniki: 1. letnik (AR1)\, 1. letnik - izredni (AR1)\, 1
 . letnik (PSJ2)\, 1. letnik - izredni (PSJ2)\, 2. letnik (PSJ2)\, 2. letni
 k - izredni (PSJ2)\nIzvajalci: Špela Tomažinčič\nProstori: Predavalnic
 a ARH P5
LOCATION:Zavetiška 5\, Predavalnica ARH P5
ORGANIZER:Špela Tomažinčič
X-WR-TIMEZONE:Europe/Ljubljana
END:VEVENT
BEGIN:VEVENT
SUMMARY:izpit (R + I): AHŠ1 Latinščina I\, AHŠ1 Latinščina I - izr.
DTSTART;TZID=Europe/Ljubljana:20260212T080000
DTEND;TZID=Europe/Ljubljana:20260212T100000
DTSTAMP:20260421T032158Z
UID:ff-AFLABS-URNIK:rezervacija:144661
ATTENDEE:1. letnik (AHŠ1)
ATTENDEE:1. letnik (GR1)
ATTENDEE:1. letnik - izredni (AHŠ1)
ATTENDEE:1. letnik - izredni (GR1)
CATEGORIES:Reservation
COLOR:royalblue
DESCRIPTION:Predmeti: AHŠ1 Latinščina I\, AHŠ1 Latinščina I\, AHŠ1 
 Latinščina I - izr.\nLetniki: 1. letnik (AHŠ1)\, 1. letnik - izredni (A
 HŠ1)\, 1. letnik (GR1)\, 1. letnik - izredni (GR1)\nIzvajalci: Špela Tom
 ažinčič\nProstori: Predavalnica ARH P5
LOCATION:Zavetiška 5\, Predavalnica ARH P5
ORGANIZER:Špela Tomažinčič
X-WR-TIMEZONE:Europe/Ljubljana
END:VEVENT
BEGIN:VEVENT
SUMMARY:izpit (R + I): AHŠ1 Latinščina II - izr.\, AHŠ1 Latinščina I
 I
DTSTART;TZID=Europe/Ljubljana:20260119T080000
DTEND;TZID=Europe/Ljubljana:20260119T100000
DTSTAMP:20260421T032158Z
UID:ff-AFLABS-URNIK:rezervacija:146820
ATTENDEE:2. letnik (AHŠ1)
ATTENDEE:2. letnik (GR1)
ATTENDEE:2. letnik - izredni (AHŠ1)
ATTENDEE:2. letnik - izredni (GR1)
CATEGORIES:Reservation
COLOR:royalblue
DESCRIPTION:Predmeti: AHŠ1 Latinščina II\, AHŠ1 Latinščina II\, AHŠ
 1 Latinščina II - izr.\nLetniki: 2. letnik (AHŠ1)\, 2. letnik - izredni
  (AHŠ1)\, 2. letnik (GR1)\, 2. letnik - izredni (GR1)\nIzvajalci: Špela 
 Tomažinčič\nProstori: Predavalnica ARH P5
LOCATION:Zavetiška 5\, Predavalnica ARH P5
ORGANIZER:Špela Tomažinčič
X-WR-TIMEZONE:Europe/Ljubljana
END:VEVENT
BEGIN:VEVENT
SUMMARY:izpit (R + I): AR1 Latinščina 2 - pisni izpit
DTSTART;TZID=Europe/Ljubljana:20260212T080000
DTEND;TZID=Europe/Ljubljana:20260212T100000
DTSTAMP:20260421T032158Z
UID:ff-AFLABS-URNIK:rezervacija:143016
CATEGORIES:Reservation
COLOR:royalblue
DESCRIPTION:Predmeti: AR1 Latinščina 2 - pisni izpit\nLetniki: \nIzvajal
 ci: Špela Tomažinčič\nProstori: Predavalnica ARH P5
LOCATION:Zavetiška 5\, Predavalnica ARH P5
ORGANIZER:Špela Tomažinčič
X-WR-TIMEZONE:Europe/Ljubljana
END:VEVENT
BEGIN:VEVENT
SUMMARY:izpit (R + I): AHŠ1 Latinščina I\, AHŠ1 Latinščina I - izr.
DTSTART;TZID=Europe/Ljubljana:20260119T080000
DTEND;TZID=Europe/Ljubljana:20260119T100000
DTSTAMP:20260421T032158Z
UID:ff-AFLABS-URNIK:rezervacija:144660
ATTENDEE:1. letnik (AHŠ1)
ATTENDEE:1. letnik (GR1)
ATTENDEE:1. letnik - izredni (AHŠ1)
ATTENDEE:1. letnik - izredni (GR1)
CATEGORIES:Reservation
COLOR:royalblue
DESCRIPTION:Predmeti: AHŠ1 Latinščina I\, AHŠ1 Latinščina I\, AHŠ1 
 Latinščina I - izr.\nLetniki: 1. letnik (AHŠ1)\, 1. letnik - izredni (A
 HŠ1)\, 1. letnik (GR1)\, 1. letnik - izredni (GR1)\nIzvajalci: Špela Tom
 ažinčič\nProstori: Predavalnica ARH P5
LOCATION:Zavetiška 5\, Predavalnica ARH P5
ORGANIZER:Špela Tomažinčič
X-WR-TIMEZONE:Europe/Ljubljana
END:VEVENT
BEGIN:VEVENT
SUMMARY:izpit (R + I): AR1 Latinščina 2 - pisni izpit
DTSTART;TZID=Europe/Ljubljana:20260119T080000
DTEND;TZID=Europe/Ljubljana:20260119T100000
DTSTAMP:20260421T032158Z
UID:ff-AFLABS-URNIK:rezervacija:142993
CATEGORIES:Reservation
COLOR:royalblue
DESCRIPTION:Predmeti: AR1 Latinščina 2 - pisni izpit\nLetniki: \nIzvajal
 ci: Špela Tomažinčič\nProstori: Predavalnica ARH P5
LOCATION:Zavetiška 5\, Predavalnica ARH P5
ORGANIZER:Špela Tomažinčič
X-WR-TIMEZONE:Europe/Ljubljana
END:VEVENT
END:VCALENDAR
