BEGIN:VCALENDAR
VERSION:2.0
PRODID:-//AFLabs urnik izvoz - ff//aflabs.si//SI
NAME:UL FF Urnik
X-WR-CALNAME:UL FF Urnik
DTSTAMP:20260419T191945Z
REFRESH-INTERVAL:PT1H
SOURCE:https://urnik.ff.uni-lj.si/teacher/1894/?day=2026-01-19&export=1
URL:https://urnik.ff.uni-lj.si/teacher/1894/?day=2026-01-19&export=1
X-PUBLISHED-TTL:PT1H
X-WR-TIMEZONE:Europe/Ljubljana
BEGIN:VTIMEZONE
TZID:Europe/Ljubljana
BEGIN:DAYLIGHT
DTSTART:20260329T020000
RDATE:20260329T020000
RDATE:20270328T020000
TZNAME:CEST
TZOFFSETFROM:+0100
TZOFFSETTO:+0200
END:DAYLIGHT
BEGIN:STANDARD
DTSTART:20261025T030000
RDATE:20261025T030000
RDATE:20271031T030000
TZNAME:CET
TZOFFSETFROM:+0200
TZOFFSETTO:+0100
END:STANDARD
END:VTIMEZONE
BEGIN:VEVENT
SUMMARY:AN1 Angleški glagol I*\, Vaje (V)\, [A]
DTSTART;TZID=Europe/Ljubljana:20260217T153000
DTEND;TZID=Europe/Ljubljana:20260217T170500
DTSTAMP:20260419T191945Z
UID:ff-AFLABS-URNIK:srecanje:57085-2026-02-17 15:30:00+01:00
DESCRIPTION:Predmet: AN1 Angleški glagol I*\, Vaje (V)\, [A]\nLetniki: 1.
  letnik (AN1)\, 1. letnik (AN1)\nIzvajalci: Vesna Lazović\nProstor: Preda
 valnica 03
END:VEVENT
BEGIN:VEVENT
SUMMARY:AN1 Angleški glagol I*\, Vaje (V)\, [B]
DTSTART;TZID=Europe/Ljubljana:20260217T171000
DTEND;TZID=Europe/Ljubljana:20260217T184500
DTSTAMP:20260419T191945Z
UID:ff-AFLABS-URNIK:srecanje:58132-2026-02-17 17:10:00+01:00
DESCRIPTION:Predmet: AN1 Angleški glagol I*\, Vaje (V)\, [B]\nLetniki: 1.
  letnik (AN1)\, 1. letnik (AN1)\nIzvajalci: Vesna Lazović\nProstor: Preda
 valnica 309
END:VEVENT
BEGIN:VEVENT
SUMMARY:AN1 Angleški glagol I*\, Vaje (V)\, [C]
DTSTART;TZID=Europe/Ljubljana:20260218T144000
DTEND;TZID=Europe/Ljubljana:20260218T161500
DTSTAMP:20260419T191945Z
UID:ff-AFLABS-URNIK:srecanje:59576-2026-02-18 14:40:00+01:00
DESCRIPTION:Predmet: AN1 Angleški glagol I*\, Vaje (V)\, [C]\nLetniki: 1.
  letnik (AN1)\, 1. letnik (AN1)\nIzvajalci: Vesna Lazović\nProstor: Preda
 valnica 01
END:VEVENT
BEGIN:VEVENT
SUMMARY:AN1 Angleški glagol I*\, Vaje (V)\, [D]
DTSTART;TZID=Europe/Ljubljana:20260218T162000
DTEND;TZID=Europe/Ljubljana:20260218T175500
DTSTAMP:20260419T191945Z
UID:ff-AFLABS-URNIK:srecanje:59577-2026-02-18 16:20:00+01:00
DESCRIPTION:Predmet: AN1 Angleški glagol I*\, Vaje (V)\, [D]\nLetniki: 1.
  letnik (AN1)\, 1. letnik (AN1)\nIzvajalci: Vesna Lazović\nProstor: Preda
 valnica 02
END:VEVENT
BEGIN:VEVENT
SUMMARY:AN1 Angleški glagol I*\, Vaje (V)\, [E]
DTSTART;TZID=Europe/Ljubljana:20260219T121000
DTEND;TZID=Europe/Ljubljana:20260219T134500
DTSTAMP:20260419T191945Z
UID:ff-AFLABS-URNIK:srecanje:59578-2026-02-19 12:10:00+01:00
DESCRIPTION:Predmet: AN1 Angleški glagol I*\, Vaje (V)\, [E]\nLetniki: 1.
  letnik (AN1)\, 1. letnik (AN1)\nIzvajalci: Vesna Lazović\nProstor: Kabin
 et 306
END:VEVENT
BEGIN:VEVENT
SUMMARY:AN1 KANADSKI KULTURNI MODUL-E\, Vaje (V)
DTSTART;TZID=Europe/Ljubljana:20260219T135000
DTEND;TZID=Europe/Ljubljana:20260219T152500
DTSTAMP:20260419T191945Z
UID:ff-AFLABS-URNIK:srecanje:57225-2026-02-19 13:50:00+01:00
DESCRIPTION:Predmet: AN1 KANADSKI KULTURNI MODUL-E\, Vaje (V)\nLetniki: 2.
  letnik (AN1)\, 3. letnik (AN1)\nIzvajalci: Vesna Lazović\nProstor: Kabin
 et 306
END:VEVENT
BEGIN:VEVENT
SUMMARY:AN1 KANADSKI KULTURNI MODUL-D\, Vaje (V)
DTSTART;TZID=Europe/Ljubljana:20260219T135000
DTEND;TZID=Europe/Ljubljana:20260219T152500
DTSTAMP:20260419T191945Z
UID:ff-AFLABS-URNIK:srecanje:57226-2026-02-19 13:50:00+01:00
DESCRIPTION:Predmet: AN1 KANADSKI KULTURNI MODUL-D\, Vaje (V)\nLetniki: 3.
  letnik (AN1)\nIzvajalci: Vesna Lazović\nProstor: Kabinet 306
END:VEVENT
BEGIN:VEVENT
SUMMARY:izpit (R + I): AN1 Kanadska družba in kultura - E
DTSTART;TZID=Europe/Ljubljana:20260120T080000
DTEND;TZID=Europe/Ljubljana:20260120T100000
DTSTAMP:20260419T191945Z
UID:ff-AFLABS-URNIK:rezervacija:146729
ATTENDEE:2. letnik (AN1)
ATTENDEE:3. letnik (AN1)
CATEGORIES:Reservation
COLOR:royalblue
DESCRIPTION:Predmeti: AN1 Kanadska družba in kultura - E\nLetniki: 2. let
 nik (AN1)\, 3. letnik (AN1)\nIzvajalci: Vesna Lazović\nProstori: Predaval
 nica 309
LOCATION:Predavalnica 309
ORGANIZER:Vesna Lazović
X-WR-TIMEZONE:Europe/Ljubljana
END:VEVENT
BEGIN:VEVENT
SUMMARY:izpit (R + I): AN1 Kanadska družba in kultura - D
DTSTART;TZID=Europe/Ljubljana:20260120T080000
DTEND;TZID=Europe/Ljubljana:20260120T100000
DTSTAMP:20260419T191945Z
UID:ff-AFLABS-URNIK:rezervacija:146728
ATTENDEE:3. letnik (AN1)
CATEGORIES:Reservation
COLOR:royalblue
DESCRIPTION:Predmeti: AN1 Kanadska družba in kultura - D\nLetniki: 3. let
 nik (AN1)\nIzvajalci: Vesna Lazović\nProstori: Predavalnica 309
LOCATION:Predavalnica 309
ORGANIZER:Vesna Lazović
X-WR-TIMEZONE:Europe/Ljubljana
END:VEVENT
BEGIN:VEVENT
SUMMARY:Oddelek za anglistiko in amerikanistiko
DTSTART;TZID=Europe/Ljubljana:20260120T080000
DTEND;TZID=Europe/Ljubljana:20260120T100000
DTSTAMP:20260419T191945Z
UID:ff-AFLABS-URNIK:rezervacija:74918
CATEGORIES:Reservation
COLOR:royalblue
DESCRIPTION:Predmeti: \nLetniki: \nIzvajalci: Vesna Lazović\nProstori: Pr
 edavalnica 309
LOCATION:Predavalnica 309
ORGANIZER:Vesna Lazović
X-WR-TIMEZONE:Europe/Ljubljana
END:VEVENT
END:VCALENDAR
